{"text_format":"1","workbook":"xlsx","n_sheets":2,"sheets":["別記3-1(３)","【選択肢】"],"not_rendered":{"charts":0,"images":0,"macros":0,"external_links":0,"defined_names":37,"comments":0,"pivot_tables":0},"unopened":[],"bounds":{"document_bytes":16777216,"sheet_cells":100000,"rows_first":2000,"rows_last":500,"rows_between":2000,"halvings":0,"cell_chars":16384,"cell_head_chars":4096},"cells_cut":0,"cells_raw":0,"read":"whole","date_system":"1900"}

{"sheet":"別記3-1(３)","index":0,"n_rows":36,"n_cols":7,"rows_kept":36,"cut":false,"hidden":false,"merged":[[16,3,16,6],[17,3,17,6],[18,3,18,6],[19,3,19,6],[2,0,2,6],[3,4,3,6],[5,1,5,3],[5,5,5,6],[6,1,6,3],[6,5,6,6],[10,3,10,6],[11,3,11,6],[12,3,12,6],[13,3,13,6],[14,3,14,6],[36,0,36,6],[24,3,24,6],[25,3,25,6],[26,3,26,6],[27,3,27,6],[28,3,28,6],[29,3,29,6],[34,3,34,6],[31,3,31,6],[32,3,32,6],[20,3,20,6],[21,3,21,6],[30,3,30,6],[33,3,33,6],[23,3,23,6]]}
["(別記３－１様式第３号）"]
["【市町村から都道府県に提出するもの】",null,null,null,null,null,"農林水産省様式"]
["資源向上活動（地域資源の質的向上を図る共同活動）\n実施状況確認チェックシート（現地確認用）"]
[null,null,null,null,"確認年月日： 　年　月　日"]
[]
["市町村名",null,null,null,"確認者（所属、氏名）"]
["対象組織名",null,null,null,"現地確認立会人"]
["現地確認結果"]
["　必要に応じて、当該年度に活動が適切に実施されているか確認。"]
["(１)施設の軽微な補修"]
["活動項目","計画","確認結果","備考"]
["農用地の軽微な補修等"]
["水路の軽微な補修等"]
["農道の軽微な補修等"]
["ため池の軽微な補修等"]
["(２)農村環境保全活動"]
["テーマ","計画","確認結果","備考"]
["生態系保全"]
["水質保全"]
["景観保全・生活環境保全"]
["水田貯留機能増進・地下水かん養"]
["資源循環"]
["(３)多面的機能の増進を図る活動"]
["活動項目","計画","確認結果","備考"]
["遊休農地の有効活用",null,{"$f":"IF(B25=\"－\",\"－\",\"\")","v":""}]
["鳥獣被害防止対策及び環境改善活動の強化",null,""]
["地域住民による直営施工",null,""]
["防災・減災力の強化",null,""]
["農村環境保全活動の幅広い展開",null,""]
["やすらぎ・福祉及び教育機能の活用",null,""]
["農村文化の伝承を通じた農村コミュニテイの強化",null,""]
["広域活動組織における活動支援班による活動の実施",null,""]
["水管理を通じた環境負荷低減活動の強化",null,""]
["都道府県、市町村が特に認める活動",null,{"$f":"IF(B34=\"－\",\"－\",\"\")","v":""}]
["広報活動・農村関係人口の拡大",null,{"$f":"IF(B35=\"－\",\"－\",\"\")","v":""}]
["（４）所見"]

{"sheet":"【選択肢】","index":1,"n_rows":245,"n_cols":24,"rows_kept":245,"cut":false,"hidden":false,"merged":[[20,23,21,25],[16,2,16,6],[0,0,0,13],[0,16,0,20],[0,21,1,21],[0,22,1,22],[1,18,1,19],[1,5,1,9]]}
[null,null,null,null,null,null,null,null,null,null,null,null,null,null,null,null,"活動記録で選択された取組番号から、区分、項目、取組を自動入力するための表",null,null,null,null,"実施回数のカウント","←活動記録に取組番号が入力された回数をカウントし、これをもとに実施状況報告書の「実施欄」の○、×を判定しています。","都道府県の要綱基本方針において取組を追加した場合の設定方法（県の担当者が作業してください）"]
["A.■か□","B.○か空白","C.○か－か×","D.農村環境保全活動のテーマ","E.高度な保全活動","F.施設（長寿命化）",null,null,null,null,"G.単位","H.構成員一覧の分類","I.金銭出納簿の区分","J.金銭出納簿の収支の分類",null,"プルダウン用","番号","支払区分","活動項目",null,"取組",null,null,"要綱基本方針において取組を追加した場合、以下の方法により修正することができます。"]
["■","○","○","生態系保全","循環かんがいによる水質保全","水路","61　水路の補修","62　水路の更新等",null,null,"km","１.農業者個人",1,"１.前年度持越",null,"○",200,"-","事務処理","事務処理","200 事務処理",null,null,"●共通：活動記録で、追加した取組番号を入力できるようにする"]
["□",null,"－","水質保全","浄化水路による水質保全","農道","63　農道の補修","64　農道の更新等",null,null,"箇所","２.農事組合法人",2,"２.交付金",null,"○",300,"-","会議","会議","300 会議",null,null,"　１）「取組番号早見表シート」及び「取組番号シート」に番号、支払区分、活動項目、取組を追加する。"]
[null,null,"×","景観形成・生活環境保全","地下水かん養","ため池","65　ため池の補修","66　ため池（附帯施設）の更新等",null,null,null,"３.営農組合",null,"３.利子等",null,null,null,null,null,null,null,null,null,"　２）「選択肢」シートのP列～T列の74行以降に行を挿入し、追加した取組番号、支払区分、活動項目、取組を入力する。"]
[null,null,null,"水田貯留・地下水かん養","持続的な水管理",null,null,null,null,null,null,"４.その他の農業者団体",null,"４.日当",null,{"$f":"#REF!","v":{"$error":"#REF!"}},1,"農地維持","点検・計画策定","点検","1 点検",{"$f":"COUNTIF(#REF!,【選択肢】!Q6)","v":{"$error":"#REF!"}},null,"　３）「選択肢」シートU列の74行以降にU73セル（活動記録に入力された回数のカウントを行う数式）をコピーする。　"]
[null,null,null,"資源循環","土壌流出防止",null,null,null,null,null,null,"５.農業者以外個人",null,"５.外注費",null,{"$f":"#REF!","v":{"$error":"#REF!"}},2,"農地維持","点検・計画策定","計画策定","2 年度活動計画の策定",{"$f":"COUNTIF(#REF!,【選択肢】!Q7)","v":{"$error":"#REF!"}},null,"　　　（この作業により、活動記録に取組番号が入力された回数がＰ列に入力され、これをもとに実施状況報告書の「実施欄」の○、×を判定します。）"]
[null,null,null,null,"生物多様性の回復",null,null,null,null,null,null,"６.自治会",null,"６.その他支出",null,"○",3,"農地維持","研修","研修","3 事務・組織運営等に関する研修、機械の安全使用に関する研修",{"$f":"COUNTIF(#REF!,【選択肢】!Q8)","v":{"$error":"#REF!"}}]
[null,null,null,null,"水環境の回復",null,null,null,null,null,null,"７.女性会",null,"７.返還",null,{"$f":"#REF!","v":{"$error":"#REF!"}},4,"農地維持","実践活動","農用地","4 遊休農地発生防止のための保全管理",{"$f":"COUNTIF(#REF!,【選択肢】!Q9)","v":{"$error":"#REF!"}},null,"●農村環境保全活動、多面的機能の増進を図る活動、長寿命化のための活動を追加する場合は以下の設定を行う"]
[null,null,null,null,"持続的な畦畔管理",null,null,null,null,null,null,"８.子供会",null,null,null,{"$f":"#REF!","v":{"$error":"#REF!"}},5,"農地維持","実践活動","農用地","5 畦畔・法面・防風林の草刈り",{"$f":"COUNTIF(#REF!,【選択肢】!Q10)","v":{"$error":"#REF!"}},null,"①農村環境保全活動の項目を追加する場合"]
[null,null,null,null,"専門家の指導",null,null,null,null,null,null,"９.土地改良区",null,null,null,"○",6,"農地維持","実践活動","農用地","6 鳥獣害防護柵等の保守管理",{"$f":"COUNTIF(#REF!,【選択肢】!Q11)","v":{"$error":"#REF!"}},null,"活動計画書３（２）１）で実践活動を選択する際に、追加した項目を選択できるようにする"]
[null,null,null,null,null,null,null,null,null,null,null,"10.JA",null,null,null,{"$f":"#REF!","v":{"$error":"#REF!"}},7,"農地維持","実践活動","水路","7 水路の草刈り",{"$f":"COUNTIF(#REF!,【選択肢】!Q12)","v":{"$error":"#REF!"}},null,"　１）「選択肢」シートのV列の「50　地域資源の活用・資源循環活動（資源循環）」の下に取組名を入力する。"]
[null,null,null,null,null,null,null,null,null,null,null,"11.学校・PTA",null,null,null,{"$f":"#REF!","v":{"$error":"#REF!"}},8,"農地維持","実践活動","水路","8 水路の泥上げ",{"$f":"COUNTIF(#REF!,【選択肢】!Q13)","v":{"$error":"#REF!"}},null,"　　　　このとき、「●共通」で入力した取組名と同じになるように注意してください。"]
[null,null,null,null,null,null,null,null,null,null,null,"12.NPO",null,null,null,"○",9,"農地維持","実践活動","水路","9 水路附帯施設の保守管理",{"$f":"COUNTIF(#REF!,【選択肢】!Q14)","v":{"$error":"#REF!"}},null,"　２）「数式」タブの「名前の管理」を選択し、リストの中から「K.農村環境保全活動」を選択し、「参照範囲」の右のアイコンをクリック"]
[null,null,null,null,null,null,null,null,null,null,null,"13.その他の農業者以外団体",null,null,null,{"$f":"#REF!","v":{"$error":"#REF!"}},10,"農地維持","実践活動","農道","10 農道の草刈り",{"$f":"COUNTIF(#REF!,【選択肢】!Q15)","v":{"$error":"#REF!"}},null,"　３）参照範囲に追加した取組を含むよう範囲を選択し直し、確定する。"]
[null,null,null,null,null,null,null,null,null,null,null,null,null,null,null,"○",11,"農地維持","実践活動","農道","11 農道側溝の泥上げ",{"$f":"COUNTIF(#REF!,【選択肢】!Q16)","v":{"$error":"#REF!"}}]
["N.月","O.環境負荷低減の取組","作物",null,null,null,null,"P.時間",null,null,null,null,null,null,null,"○",12,"農地維持","実践活動","農道","12 路面の維持",{"$f":"COUNTIF(#REF!,【選択肢】!Q17)","v":{"$error":"#REF!"}},null,"②多面的機能の増進を図る活動の項目を追加する場合"]
[1,"長期中干し","水稲",null,null,null,null,0.5,null,null,null,null,null,null,null,{"$f":"#REF!","v":{"$error":"#REF!"}},13,"農地維持","実践活動","ため池","13 ため池の草刈り",{"$f":"COUNTIF(#REF!,【選択肢】!Q18)","v":{"$error":"#REF!"}},null,"②-1　活動計画書３（２）２）で都道府県、市町村が認める具体的な活動の内容を入力できるようにする"]
[2,"冬期湛水","水稲",null,null,null,null,1,null,null,null,null,null,null,null,"○",14,"農地維持","実践活動","ため池","14 ため池の泥上げ",{"$f":"COUNTIF(#REF!,【選択肢】!Q19)","v":{"$error":"#REF!"}},null,"　１）「活動計画書」シートの147行目の「59　都道府県、市町村が特に認める活動」の下に行を挿入し、取組名を入力する。"]
[3,"夏期湛水","野菜","イモ類","麦類","豆類","なたね類",1.5,null,null,null,null,null,null,null,"○",15,"農地維持","実践活動","ため池","15 ため池附帯施設の保守管理",{"$f":"COUNTIF(#REF!,【選択肢】!Q20)","v":{"$error":"#REF!"}},null,"　　　　このとき、「●共通」で入力した取組名と同じになるように注意してください。"]
[4,"中干し延期","水稲",null,null,null,null,2,null,null,null,null,null,null,null,"○",16,"農地維持","実践活動","共通","16 異常気象時の対応",{"$f":"COUNTIF(#REF!,【選択肢】!Q21)","v":{"$error":"#REF!"}},null,"　　　　２）報告書においても同様に活動項目「59　都道府県、市町村が特に認める活動」の下に行を挿入して取組名を入力し、\n　　　　　　　「計画」「実施」欄については、「59　都道府県、市町村が特に認める活動」の「計画」「実施」欄にある数式をコピーする。"]
[5,"江の設置_作溝実施","水稲",null,null,null,null,2.5,null,null,null,null,null,null,null,{"$f":"#REF!","v":{"$error":"#REF!"}},17,"農地維持","推進活動","推進活動","17 農業者の検討会の開催",{"$f":"COUNTIF(#REF!,【選択肢】!Q22)","v":{"$error":"#REF!"}}]
[6,"江の設置_作溝未実施","水稲",null,null,null,null,3,null,null,null,null,null,null,null,{"$f":"#REF!","v":{"$error":"#REF!"}},18,"農地維持","推進活動","推進活動","18 農業者に対する意向調査、現地調査",{"$f":"COUNTIF(#REF!,【選択肢】!Q23)","v":{"$error":"#REF!"}}]
[7,null,null,null,null,null,null,3.5,null,null,null,null,null,null,null,{"$f":"#REF!","v":{"$error":"#REF!"}},19,"農地維持","推進活動","推進活動","19 不在村地主との連絡体制の整備等",{"$f":"COUNTIF(#REF!,【選択肢】!Q24)","v":{"$error":"#REF!"}},null,"②-2　活動計画書４（１）の加算措置の適用条件の確認ができるようにする"]
[8,null,null,null,null,null,null,4,null,null,null,null,null,null,null,{"$f":"#REF!","v":{"$error":"#REF!"}},20,"農地維持","推進活動","推進活動","20 集落外住民や地域住民との意見交換等",{"$f":"COUNTIF(#REF!,【選択肢】!Q25)","v":{"$error":"#REF!"}},null,"　　　「加算措置（みどり加算以外）」シートの「多面的機能の更なる増進に向けた活動への支援」の適用条件の確認欄についても同様に"]
[9,null,null,null,null,null,null,4.5,null,null,null,null,null,null,null,{"$f":"#REF!","v":{"$error":"#REF!"}},21,"農地維持","推進活動","推進活動","21 地域住民等に対する意向調査等",{"$f":"COUNTIF(#REF!,【選択肢】!Q26)","v":{"$error":"#REF!"}},null,"　　　「59　都道府県、市町村が特に認める活動」の下に行を挿入し、取組名を入力する。"]
[10,null,null,null,null,null,null,5,null,null,null,null,null,null,null,{"$f":"#REF!","v":{"$error":"#REF!"}},22,"農地維持","推進活動","推進活動","22 有識者等による研修会、検討会の開催",{"$f":"COUNTIF(#REF!,【選択肢】!Q27)","v":{"$error":"#REF!"}},null,"　　　「本事業計画の活動」の欄については、「59　都道府県、市町村が特に認める活動」の欄にある数式をコピーする。"]
[11,null,null,null,null,null,null,5.5,null,null,null,null,null,null,null,{"$f":"#REF!","v":{"$error":"#REF!"}},23,"農地維持","推進活動","推進活動","23 その他",{"$f":"COUNTIF(#REF!,【選択肢】!Q28)","v":{"$error":"#REF!"}}]
[12,null,null,null,null,null,null,6,null,null,null,null,null,null,null,{"$f":"#REF!","v":{"$error":"#REF!"}},24,"共同","機能診断・計画策定","機能診断","24 農用地の機能診断",{"$f":"COUNTIF(#REF!,【選択肢】!Q29)","v":{"$error":"#REF!"}},null,"③長寿命化の項目を追加する場合"]
[null,null,null,null,null,null,null,6.5,null,null,null,null,null,null,null,{"$f":"#REF!","v":{"$error":"#REF!"}},25,"共同","機能診断・計画策定","機能診断","25 水路の機能診断",{"$f":"COUNTIF(#REF!,【選択肢】!Q30)","v":{"$error":"#REF!"}},null,"活動計画書３（３）で実践活動を選択する際に、追加した項目を選択できるようにする"]
[null,null,null,null,null,null,null,7,null,null,null,null,null,null,null,{"$f":"#REF!","v":{"$error":"#REF!"}},26,"共同","機能診断・計画策定","機能診断","26 農道の機能診断",{"$f":"COUNTIF(#REF!,【選択肢】!Q31)","v":{"$error":"#REF!"}},null,"　１）対象施設を追加する場合は、「選択肢」シートのF6セルに追加する対象施設名を入力する。"]
[null,null,null,null,null,null,null,7.5,null,null,null,null,null,null,null,{"$f":"#REF!","v":{"$error":"#REF!"}},27,"共同","機能診断・計画策定","機能診断","27 ため池の機能診断",{"$f":"COUNTIF(#REF!,【選択肢】!Q32)","v":{"$error":"#REF!"}},null,"　　　次に、水路を対象とした取組であればH3セルより右のセルに、農道を対象とした取組であればH4セルより右のセルに、といった要領で番号と取組名"]
[null,null,null,null,null,null,null,8,null,null,null,null,null,null,null,{"$f":"#REF!","v":{"$error":"#REF!"}},28,"共同","機能診断・計画策定","計画策定","28 年度活動計画の策定",{"$f":"COUNTIF(#REF!,【選択肢】!Q33)","v":{"$error":"#REF!"}},null,"　　　を入力する。このとき、「●共通」で入力した取組名と同じになるように注意してください。"]
[null,null,null,null,null,null,null,8.5,null,null,null,null,null,null,null,"○",29,"共同","研修","研修","29 機能診断・補修技術等に関する研修",{"$f":"COUNTIF(#REF!,【選択肢】!Q34)","v":{"$error":"#REF!"}},null,"　２）新たに対象施設を追加した場合は、その施設名を名称とし、参照範囲を「G6:J6」とした名前を定義する。"]
[null,null,null,null,null,null,null,9,null,null,null,null,null,null,null,"○",30,"共同","実践活動","農用地","30 農用地の軽微な補修等",{"$f":"COUNTIF(#REF!,【選択肢】!Q35)","v":{"$error":"#REF!"}}]
[null,null,null,null,null,null,null,9.5,null,null,null,null,null,null,null,"○",31,"共同","実践活動","水路","31 水路の軽微な補修等",{"$f":"COUNTIF(#REF!,【選択肢】!Q36)","v":{"$error":"#REF!"}}]
[null,null,null,null,null,null,null,10,null,null,null,null,null,null,null,"○",32,"共同","実践活動","農道","32 農道の軽微な補修等",{"$f":"COUNTIF(#REF!,【選択肢】!Q37)","v":{"$error":"#REF!"}}]
[null,null,null,null,null,null,null,10.5,null,null,null,null,null,null,null,"○",33,"共同","実践活動","ため池","33 ため池の軽微な補修等",{"$f":"COUNTIF(#REF!,【選択肢】!Q38)","v":{"$error":"#REF!"}}]
[null,null,null,null,null,null,null,11,null,null,null,null,null,null,null,{"$f":"#REF!","v":{"$error":"#REF!"}},34,"共同","計画策定","生態系保全","34 生物多様性保全計画の策定",{"$f":"COUNTIF(#REF!,【選択肢】!Q39)","v":{"$error":"#REF!"}}]
[null,null,null,null,null,null,null,11.5,null,null,null,null,null,null,null,{"$f":"#REF!","v":{"$error":"#REF!"}},35,"共同","計画策定","水質保全","35 水質保全計画、農地保全計画の策定",{"$f":"COUNTIF(#REF!,【選択肢】!Q40)","v":{"$error":"#REF!"}}]
[null,null,null,null,null,null,null,12,null,null,null,null,null,null,null,{"$f":"#REF!","v":{"$error":"#REF!"}},36,"共同","計画策定","景観形成・生活環境保全","36 景観形成計画、生活環境保全計画の策定",{"$f":"COUNTIF(#REF!,【選択肢】!Q41)","v":{"$error":"#REF!"}}]
[null,null,null,null,null,null,null,null,null,null,null,null,null,null,null,{"$f":"#REF!","v":{"$error":"#REF!"}},37,"共同","計画策定","水田貯留・地下水かん養","37 水田貯留計画、地下水かん養計画の策定",{"$f":"COUNTIF(#REF!,【選択肢】!Q42)","v":{"$error":"#REF!"}},"活動計画書、実施状況報告書のプルダウン選択用"]
[null,null,null,null,null,null,null,null,null,null,null,null,null,null,null,{"$f":"#REF!","v":{"$error":"#REF!"}},38,"共同","計画策定","資源循環","38 資源循環計画の策定",{"$f":"COUNTIF(#REF!,【選択肢】!Q43)","v":{"$error":"#REF!"}},"Ｋ.農村環境保全活動"]
[null,null,null,null,null,null,null,null,null,null,null,null,null,null,null,{"$f":"IF(COUNTIF(#REF!,【選択肢】!W44),\"○\",\"\")","v":{"$error":"#REF!"}},39,"共同","実践活動","生態系保全","39 生物の生息状況の把握（生態系保全）",{"$f":"COUNTIF(#REF!,【選択肢】!Q44)","v":{"$error":"#REF!"}},"39 生物の生息状況の把握（生態系保全）"]
[null,null,null,null,null,null,null,null,null,null,null,null,null,null,null,{"$f":"IF(COUNTIF(#REF!,【選択肢】!W45),\"○\",\"\")","v":{"$error":"#REF!"}},40,"共同","実践活動","生態系保全","40 外来種の駆除（生態系保全）",{"$f":"COUNTIF(#REF!,【選択肢】!Q45)","v":{"$error":"#REF!"}},"40 外来種の駆除（生態系保全）"]
[null,null,null,null,null,null,null,null,null,null,null,null,null,null,null,{"$f":"IF(COUNTIF(#REF!,【選択肢】!W46),\"○\",\"\")","v":{"$error":"#REF!"}},41,"共同","実践活動","生態系保全","41 その他（生態系保全）",{"$f":"COUNTIF(#REF!,【選択肢】!Q46)","v":{"$error":"#REF!"}},"41 その他（生態系保全）"]
[null,null,null,null,null,null,null,null,null,null,null,null,null,null,null,{"$f":"IF(COUNTIF(#REF!,【選択肢】!W47),\"○\",\"\")","v":{"$error":"#REF!"}},42,"共同","実践活動","水質保全","42 水質モニタリングの実施・記録管理（水質保全）",{"$f":"COUNTIF(#REF!,【選択肢】!Q47)","v":{"$error":"#REF!"}},"42 水質モニタリングの実施・記録管理（水質保全）"]
[null,null,null,null,null,null,null,null,null,null,null,null,null,null,null,{"$f":"IF(COUNTIF(#REF!,【選択肢】!W48),\"○\",\"\")","v":{"$error":"#REF!"}},43,"共同","実践活動","水質保全","43 畑からの土砂流出対策（水質保全）",{"$f":"COUNTIF(#REF!,【選択肢】!Q48)","v":{"$error":"#REF!"}},"43 畑からの土砂流出対策（水質保全）"]
[null,null,null,null,null,null,null,null,null,null,null,null,null,null,null,{"$f":"IF(COUNTIF(#REF!,【選択肢】!W49),\"○\",\"\")","v":{"$error":"#REF!"}},44,"共同","実践活動","水質保全","44 その他（水質保全）",{"$f":"COUNTIF(#REF!,【選択肢】!Q49)","v":{"$error":"#REF!"}},"44 その他（水質保全）"]
[null,null,null,null,null,null,null,null,null,null,null,null,null,null,null,{"$f":"IF(COUNTIF(#REF!,【選択肢】!W50),\"○\",\"\")","v":{"$error":"#REF!"}},45,"共同","実践活動","景観形成・生活環境保全","45 植栽等の景観形成活動（景観形成・生活環境保全）",{"$f":"COUNTIF(#REF!,【選択肢】!Q50)","v":{"$error":"#REF!"}},"45 植栽等の景観形成活動（景観形成・生活環境保全）"]
[null,null,null,null,null,null,null,null,null,null,null,null,null,null,null,{"$f":"IF(COUNTIF(#REF!,【選択肢】!W51),\"○\",\"\")","v":{"$error":"#REF!"}},46,"共同","実践活動","景観形成・生活環境保全","46 施設等の定期的な巡回点検・清掃（景観形成・生活環境保全）",{"$f":"COUNTIF(#REF!,【選択肢】!Q51)","v":{"$error":"#REF!"}},"46 施設等の定期的な巡回点検・清掃（景観形成・生活環境保全）"]
[null,null,null,null,null,null,null,null,null,null,null,null,null,null,null,{"$f":"IF(COUNTIF(#REF!,【選択肢】!W52),\"○\",\"\")","v":{"$error":"#REF!"}},47,"共同","実践活動","景観形成・生活環境保全","47 その他（景観形成・生活環境保全）",{"$f":"COUNTIF(#REF!,【選択肢】!Q52)","v":{"$error":"#REF!"}},"47 その他（景観形成・生活環境保全）"]
[null,null,null,null,null,null,null,null,null,null,null,null,null,null,null,{"$f":"IF(COUNTIF(#REF!,【選択肢】!W53),\"○\",\"\")","v":{"$error":"#REF!"}},48,"共同","実践活動","水田貯留・地下水かん養","48 水田の貯留機能向上活動（水田貯留機能増進・地下水かん養）",{"$f":"COUNTIF(#REF!,【選択肢】!Q53)","v":{"$error":"#REF!"}},"48 水田の貯留機能向上活動（水田貯留機能増進・地下水かん養）"]
[null,null,null,null,null,null,null,null,null,null,null,null,null,null,null,{"$f":"IF(COUNTIF(#REF!,【選択肢】!W54),\"○\",\"\")","v":{"$error":"#REF!"}},49,"共同","実践活動","水田貯留・地下水かん養","49 地下水かん養活動、水源かん養林の保全（水田貯留機能増進・地下水かん養）",{"$f":"COUNTIF(#REF!,【選択肢】!Q54)","v":{"$error":"#REF!"}},"49 地下水かん養活動、水源かん養林の保全（水田貯留機能増進・地下水かん養）"]
[null,null,null,null,null,null,null,null,null,null,null,null,null,null,null,{"$f":"IF(COUNTIF(#REF!,【選択肢】!W55),\"○\",\"\")","v":{"$error":"#REF!"}},50,"共同","実践活動","資源循環","50 地域資源の活用・資源循環活動（資源循環）",{"$f":"COUNTIF(#REF!,【選択肢】!Q55)","v":{"$error":"#REF!"}},"50 地域資源の活用・資源循環活動（資源循環）"]
[null,null,null,null,null,null,null,null,null,null,null,null,null,null,null,{"$f":"#REF!","v":{"$error":"#REF!"}},51,"共同","啓発・普及","啓発・普及","51 啓発・普及活動",{"$f":"COUNTIF(#REF!,【選択肢】!Q56)","v":{"$error":"#REF!"}}]
[null,null,null,null,null,null,null,null,null,null,null,null,null,null,null,{"$f":"#REF!","v":{"$error":"#REF!"}},52,"共同","増進活動","増進活動","52 遊休農地の有効活用",{"$f":"COUNTIF(#REF!,【選択肢】!Q57)","v":{"$error":"#REF!"}}]
[null,null,null,null,null,null,null,null,null,null,null,null,null,null,null,{"$f":"#REF!","v":{"$error":"#REF!"}},53,"共同","増進活動","増進活動","53 鳥獣被害防止対策及び環境改善活動の強化",{"$f":"COUNTIF(#REF!,【選択肢】!Q58)","v":{"$error":"#REF!"}}]
[null,null,null,null,null,null,null,null,null,null,null,null,null,null,null,{"$f":"#REF!","v":{"$error":"#REF!"}},54,"共同","増進活動","増進活動","54 地域住民による直営施工",{"$f":"COUNTIF(#REF!,【選択肢】!Q59)","v":{"$error":"#REF!"}}]
[null,null,null,null,null,null,null,null,null,null,null,null,null,null,null,{"$f":"#REF!","v":{"$error":"#REF!"}},55,"共同","増進活動","増進活動","55 防災・減災力の強化",{"$f":"COUNTIF(#REF!,【選択肢】!Q60)","v":{"$error":"#REF!"}}]
[null,null,null,null,null,null,null,null,null,null,null,null,null,null,null,{"$f":"#REF!","v":{"$error":"#REF!"}},56,"共同","増進活動","増進活動","56 農村環境保全活動の幅広い展開",{"$f":"COUNTIF(#REF!,【選択肢】!Q61)","v":{"$error":"#REF!"}}]
[null,null,null,null,null,null,null,null,null,null,null,null,null,null,null,{"$f":"#REF!","v":{"$error":"#REF!"}},57,"共同","増進活動","増進活動","57 やすらぎ・福祉及び教育機能の活用",{"$f":"COUNTIF(#REF!,【選択肢】!Q62)","v":{"$error":"#REF!"}}]
[null,null,null,null,null,null,null,null,null,null,null,null,null,null,null,{"$f":"#REF!","v":{"$error":"#REF!"}},58,"共同","増進活動","増進活動","58 農村文化の伝承を通じた農村コミュニティの強化",{"$f":"COUNTIF(#REF!,【選択肢】!Q63)","v":{"$error":"#REF!"}}]
[null,null,null,null,null,null,null,null,null,null,null,null,null,null,null,{"$f":"#REF!","v":{"$error":"#REF!"}},"58-2","共同","増進活動","増進活動","58-2 水管理を通じた環境負荷低減活動の強化",{"$f":"COUNTIF(#REF!,【選択肢】!Q64)","v":{"$error":"#REF!"}}]
[null,null,null,null,null,null,null,null,null,null,null,null,null,null,null,{"$f":"#REF!","v":{"$error":"#REF!"}},"58-3","共同","増進活動","増進活動","58-3 広域活動組織における活動支援班の設置及び活動の実施",{"$f":"COUNTIF(#REF!,【選択肢】!Q65)","v":{"$error":"#REF!"}}]
[null,null,null,null,null,null,null,null,null,null,null,null,null,null,null,{"$f":"#REF!","v":{"$error":"#REF!"}},59,"共同","増進活動","増進活動","59 都道府県、市町村が特に認める活動",{"$f":"COUNTIF(#REF!,【選択肢】!Q66)","v":{"$error":"#REF!"}}]
[null,null,null,null,null,null,null,null,null,null,null,null,null,null,null,{"$f":"#REF!","v":{"$error":"#REF!"}},60,"共同","増進活動","増進活動","60 広報活動・農村関係人口の拡大",{"$f":"COUNTIF(#REF!,【選択肢】!Q67)","v":{"$error":"#REF!"}}]
[null,null,null,null,null,null,null,null,null,null,null,null,null,null,null,{"$f":"IF(COUNTIF(#REF!,G3),\"○\",\"\")","v":{"$error":"#REF!"}},61,"長寿命化","実践活動","水路","61 水路の補修",{"$f":"COUNTIF(#REF!,【選択肢】!Q68)","v":{"$error":"#REF!"}}]
[null,null,null,null,null,null,null,null,null,null,null,null,null,null,null,{"$f":"IF(COUNTIF(#REF!,H3),\"○\",\"\")","v":{"$error":"#REF!"}},62,"長寿命化","実践活動","水路","62 水路の更新等",{"$f":"COUNTIF(#REF!,【選択肢】!Q69)","v":{"$error":"#REF!"}}]
[null,null,null,null,null,null,null,null,null,null,null,null,null,null,null,{"$f":"IF(COUNTIF(#REF!,G4),\"○\",\"\")","v":{"$error":"#REF!"}},63,"長寿命化","実践活動","農道","63 農道の補修",{"$f":"COUNTIF(#REF!,【選択肢】!Q70)","v":{"$error":"#REF!"}}]
[null,null,null,null,null,null,null,null,null,null,null,null,null,null,null,{"$f":"IF(COUNTIF(#REF!,H4),\"○\",\"\")","v":{"$error":"#REF!"}},64,"長寿命化","実践活動","農道","64 農道の更新等",{"$f":"COUNTIF(#REF!,【選択肢】!Q71)","v":{"$error":"#REF!"}}]
[null,null,null,null,null,null,null,null,null,null,null,null,null,null,null,{"$f":"IF(COUNTIF(#REF!,G5),\"○\",\"\")","v":{"$error":"#REF!"}},65,"長寿命化","実践活動","ため池","65 ため池の補修",{"$f":"COUNTIF(#REF!,【選択肢】!Q72)","v":{"$error":"#REF!"}}]
[null,null,null,null,null,null,null,null,null,null,null,null,null,null,null,{"$f":"IF(COUNTIF(#REF!,H5),\"○\",\"\")","v":{"$error":"#REF!"}},66,"長寿命化","実践活動","ため池","66 ため池（附帯施設）の更新等",{"$f":"COUNTIF(#REF!,【選択肢】!Q73)","v":{"$error":"#REF!"}}]
[null,null,null,null,null,null,null,null,null,null,null,null,null,null,null,"○"]
[null,null,null,null,null,null,null,null,null,null,null,null,null,null,null,"○"]
[null,null,null,null,null,null,null,null,null,null,null,null,null,null,null,"○"]
[null,null,null,null,null,null,null,null,null,null,null,null,null,null,null,"○"]
[null,null,null,null,null,null,null,null,null,null,null,null,null,null,null,"○"]
[null,null,null,null,null,null,null,null,null,null,null,null,null,null,null,"○"]
[null,null,null,null,null,null,null,null,null,null,null,null,null,null,null,"○"]
[null,null,null,null,null,null,null,null,null,null,null,null,null,null,null,"○"]
[null,null,null,null,null,null,null,null,null,null,null,null,null,null,null,"○"]
[null,null,null,null,null,null,null,null,null,null,null,null,null,null,null,"○"]
[null,null,null,null,null,null,null,null,null,null,null,null,null,null,null,"○"]
[null,null,null,null,null,null,null,null,null,null,null,null,null,null,null,"○"]
[null,null,null,null,null,null,null,null,null,null,null,null,null,null,null,"○"]
[null,null,null,null,null,null,null,null,null,null,null,null,null,null,null,"○"]
[null,null,null,null,null,null,null,null,null,null,null,null,null,null,null,"○"]
[null,null,null,null,null,null,null,null,null,null,null,null,null,null,null,"○"]
[null,null,null,null,null,null,null,null,null,null,null,null,null,null,null,null,null,null,"この線より上に行を挿入してください。"]
[]
[]
[]
[]
[]
[]
[]
[]
[]
[]
[]
[]
[]
[null,null,null,null,null,null,null,null,null,null,null,null,null,null,null,null,"P列に○がついている項目のみを抽出"]
[null,null,null,null,null,null,null,null,null,null,null,null,null,null,null,null,{"$f":"IFERROR(INDEX($Q$3:$U$89, SMALL(IF($P$3:$P$89=\"○\", ROW($P$3:$P$89)-ROW($P$3)+1), ROW(A1)), COLUMNS($Q$3:Q3)), \"\")","v":""},{"$f":"IFERROR(INDEX($Q$3:$U$89, SMALL(IF($P$3:$P$89=\"○\", ROW($P$3:$P$89)-ROW($P$3)+1), ROW(B1)), COLUMNS($Q$3:R3)), \"\")","v":""},{"$f":"IFERROR(INDEX($Q$3:$U$89, SMALL(IF($P$3:$P$89=\"○\", ROW($P$3:$P$89)-ROW($P$3)+1), ROW(C1)), COLUMNS($Q$3:S3)), \"\")","v":""},{"$f":"IFERROR(INDEX($Q$3:$U$89, SMALL(IF($P$3:$P$89=\"○\", ROW($P$3:$P$89)-ROW($P$3)+1), ROW(D1)), COLUMNS($Q$3:T3)), \"\")","v":""},{"$f":"IFERROR(INDEX($Q$3:$U$89, SMALL(IF($P$3:$P$89=\"○\", ROW($P$3:$P$89)-ROW($P$3)+1), ROW(E1)), COLUMNS($Q$3:U3)), \"\")","v":""}]
[null,null,null,null,null,null,null,null,null,null,null,null,null,null,null,null,{"$f":"IFERROR(INDEX($Q$3:$U$89, SMALL(IF($P$3:$P$89=\"○\", ROW($P$3:$P$89)-ROW($P$3)+1), ROW(A2)), COLUMNS($Q$3:Q4)), \"\")","v":""},{"$f":"IFERROR(INDEX($Q$3:$U$89, SMALL(IF($P$3:$P$89=\"○\", ROW($P$3:$P$89)-ROW($P$3)+1), ROW(B2)), COLUMNS($Q$3:R4)), \"\")","v":""},{"$f":"IFERROR(INDEX($Q$3:$U$89, SMALL(IF($P$3:$P$89=\"○\", ROW($P$3:$P$89)-ROW($P$3)+1), ROW(C2)), COLUMNS($Q$3:S4)), \"\")","v":""},{"$f":"IFERROR(INDEX($Q$3:$U$89, SMALL(IF($P$3:$P$89=\"○\", ROW($P$3:$P$89)-ROW($P$3)+1), ROW(D2)), COLUMNS($Q$3:T4)), \"\")","v":""},{"$f":"IFERROR(INDEX($Q$3:$U$89, SMALL(IF($P$3:$P$89=\"○\", ROW($P$3:$P$89)-ROW($P$3)+1), ROW(E2)), COLUMNS($Q$3:U4)), \"\")","v":""}]
[null,null,null,null,null,null,null,null,null,null,null,null,null,null,null,null,{"$f":"IFERROR(INDEX($Q$3:$U$89, SMALL(IF($P$3:$P$89=\"○\", ROW($P$3:$P$89)-ROW($P$3)+1), ROW(A3)), COLUMNS($Q$3:Q5)), \"\")","v":""},{"$f":"IFERROR(INDEX($Q$3:$U$89, SMALL(IF($P$3:$P$89=\"○\", ROW($P$3:$P$89)-ROW($P$3)+1), ROW(B3)), COLUMNS($Q$3:R5)), \"\")","v":""},{"$f":"IFERROR(INDEX($Q$3:$U$89, SMALL(IF($P$3:$P$89=\"○\", ROW($P$3:$P$89)-ROW($P$3)+1), ROW(C3)), COLUMNS($Q$3:S5)), \"\")","v":""},{"$f":"IFERROR(INDEX($Q$3:$U$89, SMALL(IF($P$3:$P$89=\"○\", ROW($P$3:$P$89)-ROW($P$3)+1), ROW(D3)), COLUMNS($Q$3:T5)), \"\")","v":""},{"$f":"IFERROR(INDEX($Q$3:$U$89, SMALL(IF($P$3:$P$89=\"○\", ROW($P$3:$P$89)-ROW($P$3)+1), ROW(E3)), COLUMNS($Q$3:U5)), \"\")","v":""}]
[null,null,null,null,null,null,null,null,null,null,null,null,null,null,null,null,{"$f":"IFERROR(INDEX($Q$3:$U$89, SMALL(IF($P$3:$P$89=\"○\", ROW($P$3:$P$89)-ROW($P$3)+1), ROW(A4)), COLUMNS($Q$3:Q6)), \"\")","v":""},{"$f":"IFERROR(INDEX($Q$3:$U$89, SMALL(IF($P$3:$P$89=\"○\", ROW($P$3:$P$89)-ROW($P$3)+1), ROW(B4)), COLUMNS($Q$3:R6)), \"\")","v":""},{"$f":"IFERROR(INDEX($Q$3:$U$89, SMALL(IF($P$3:$P$89=\"○\", ROW($P$3:$P$89)-ROW($P$3)+1), ROW(C4)), COLUMNS($Q$3:S6)), \"\")","v":""},{"$f":"IFERROR(INDEX($Q$3:$U$89, SMALL(IF($P$3:$P$89=\"○\", ROW($P$3:$P$89)-ROW($P$3)+1), ROW(D4)), COLUMNS($Q$3:T6)), \"\")","v":""},{"$f":"IFERROR(INDEX($Q$3:$U$89, SMALL(IF($P$3:$P$89=\"○\", ROW($P$3:$P$89)-ROW($P$3)+1), ROW(E4)), COLUMNS($Q$3:U6)), \"\")","v":""}]
[null,null,null,null,null,null,null,null,null,null,null,null,null,null,null,null,{"$f":"IFERROR(INDEX($Q$3:$U$89, SMALL(IF($P$3:$P$89=\"○\", ROW($P$3:$P$89)-ROW($P$3)+1), ROW(A5)), COLUMNS($Q$3:Q7)), \"\")","v":""},{"$f":"IFERROR(INDEX($Q$3:$U$89, SMALL(IF($P$3:$P$89=\"○\", ROW($P$3:$P$89)-ROW($P$3)+1), ROW(B5)), COLUMNS($Q$3:R7)), \"\")","v":""},{"$f":"IFERROR(INDEX($Q$3:$U$89, SMALL(IF($P$3:$P$89=\"○\", ROW($P$3:$P$89)-ROW($P$3)+1), ROW(C5)), COLUMNS($Q$3:S7)), \"\")","v":""},{"$f":"IFERROR(INDEX($Q$3:$U$89, SMALL(IF($P$3:$P$89=\"○\", ROW($P$3:$P$89)-ROW($P$3)+1), ROW(D5)), COLUMNS($Q$3:T7)), \"\")","v":""},{"$f":"IFERROR(INDEX($Q$3:$U$89, SMALL(IF($P$3:$P$89=\"○\", ROW($P$3:$P$89)-ROW($P$3)+1), ROW(E5)), COLUMNS($Q$3:U7)), \"\")","v":""}]
[null,null,null,null,null,null,null,null,null,null,null,null,null,null,null,null,{"$f":"IFERROR(INDEX($Q$3:$U$89, SMALL(IF($P$3:$P$89=\"○\", ROW($P$3:$P$89)-ROW($P$3)+1), ROW(A6)), COLUMNS($Q$3:Q8)), \"\")","v":""},{"$f":"IFERROR(INDEX($Q$3:$U$89, SMALL(IF($P$3:$P$89=\"○\", ROW($P$3:$P$89)-ROW($P$3)+1), ROW(B6)), COLUMNS($Q$3:R8)), \"\")","v":""},{"$f":"IFERROR(INDEX($Q$3:$U$89, SMALL(IF($P$3:$P$89=\"○\", ROW($P$3:$P$89)-ROW($P$3)+1), ROW(C6)), COLUMNS($Q$3:S8)), \"\")","v":""},{"$f":"IFERROR(INDEX($Q$3:$U$89, SMALL(IF($P$3:$P$89=\"○\", ROW($P$3:$P$89)-ROW($P$3)+1), ROW(D6)), COLUMNS($Q$3:T8)), \"\")","v":""},{"$f":"IFERROR(INDEX($Q$3:$U$89, SMALL(IF($P$3:$P$89=\"○\", ROW($P$3:$P$89)-ROW($P$3)+1), ROW(E6)), COLUMNS($Q$3:U8)), \"\")","v":""}]
[null,null,null,null,null,null,null,null,null,null,null,null,null,null,null,null,{"$f":"IFERROR(INDEX($Q$3:$U$89, SMALL(IF($P$3:$P$89=\"○\", ROW($P$3:$P$89)-ROW($P$3)+1), ROW(A7)), COLUMNS($Q$3:Q9)), \"\")","v":""},{"$f":"IFERROR(INDEX($Q$3:$U$89, SMALL(IF($P$3:$P$89=\"○\", ROW($P$3:$P$89)-ROW($P$3)+1), ROW(B7)), COLUMNS($Q$3:R9)), \"\")","v":""},{"$f":"IFERROR(INDEX($Q$3:$U$89, SMALL(IF($P$3:$P$89=\"○\", ROW($P$3:$P$89)-ROW($P$3)+1), ROW(C7)), COLUMNS($Q$3:S9)), \"\")","v":""},{"$f":"IFERROR(INDEX($Q$3:$U$89, SMALL(IF($P$3:$P$89=\"○\", ROW($P$3:$P$89)-ROW($P$3)+1), ROW(D7)), COLUMNS($Q$3:T9)), \"\")","v":""},{"$f":"IFERROR(INDEX($Q$3:$U$89, SMALL(IF($P$3:$P$89=\"○\", ROW($P$3:$P$89)-ROW($P$3)+1), ROW(E7)), COLUMNS($Q$3:U9)), \"\")","v":""}]
[null,null,null,null,null,null,null,null,null,null,null,null,null,null,null,null,{"$f":"IFERROR(INDEX($Q$3:$U$89, SMALL(IF($P$3:$P$89=\"○\", ROW($P$3:$P$89)-ROW($P$3)+1), ROW(A8)), COLUMNS($Q$3:Q10)), \"\")","v":""},{"$f":"IFERROR(INDEX($Q$3:$U$89, SMALL(IF($P$3:$P$89=\"○\", ROW($P$3:$P$89)-ROW($P$3)+1), ROW(B8)), COLUMNS($Q$3:R10)), \"\")","v":""},{"$f":"IFERROR(INDEX($Q$3:$U$89, SMALL(IF($P$3:$P$89=\"○\", ROW($P$3:$P$89)-ROW($P$3)+1), ROW(C8)), COLUMNS($Q$3:S10)), \"\")","v":""},{"$f":"IFERROR(INDEX($Q$3:$U$89, SMALL(IF($P$3:$P$89=\"○\", ROW($P$3:$P$89)-ROW($P$3)+1), ROW(D8)), COLUMNS($Q$3:T10)), \"\")","v":""},{"$f":"IFERROR(INDEX($Q$3:$U$89, SMALL(IF($P$3:$P$89=\"○\", ROW($P$3:$P$89)-ROW($P$3)+1), ROW(E8)), COLUMNS($Q$3:U10)), \"\")","v":""}]
[null,null,null,null,null,null,null,null,null,null,null,null,null,null,null,null,{"$f":"IFERROR(INDEX($Q$3:$U$89, SMALL(IF($P$3:$P$89=\"○\", ROW($P$3:$P$89)-ROW($P$3)+1), ROW(A9)), COLUMNS($Q$3:Q11)), \"\")","v":""},{"$f":"IFERROR(INDEX($Q$3:$U$89, SMALL(IF($P$3:$P$89=\"○\", ROW($P$3:$P$89)-ROW($P$3)+1), ROW(B9)), COLUMNS($Q$3:R11)), \"\")","v":""},{"$f":"IFERROR(INDEX($Q$3:$U$89, SMALL(IF($P$3:$P$89=\"○\", ROW($P$3:$P$89)-ROW($P$3)+1), ROW(C9)), COLUMNS($Q$3:S11)), \"\")","v":""},{"$f":"IFERROR(INDEX($Q$3:$U$89, SMALL(IF($P$3:$P$89=\"○\", ROW($P$3:$P$89)-ROW($P$3)+1), ROW(D9)), COLUMNS($Q$3:T11)), \"\")","v":""},{"$f":"IFERROR(INDEX($Q$3:$U$89, SMALL(IF($P$3:$P$89=\"○\", ROW($P$3:$P$89)-ROW($P$3)+1), ROW(E9)), COLUMNS($Q$3:U11)), \"\")","v":""}]
[null,null,null,null,null,null,null,null,null,null,null,null,null,null,null,null,{"$f":"IFERROR(INDEX($Q$3:$U$89, SMALL(IF($P$3:$P$89=\"○\", ROW($P$3:$P$89)-ROW($P$3)+1), ROW(A10)), COLUMNS($Q$3:Q12)), \"\")","v":""},{"$f":"IFERROR(INDEX($Q$3:$U$89, SMALL(IF($P$3:$P$89=\"○\", ROW($P$3:$P$89)-ROW($P$3)+1), ROW(B10)), COLUMNS($Q$3:R12)), \"\")","v":""},{"$f":"IFERROR(INDEX($Q$3:$U$89, SMALL(IF($P$3:$P$89=\"○\", ROW($P$3:$P$89)-ROW($P$3)+1), ROW(C10)), COLUMNS($Q$3:S12)), \"\")","v":""},{"$f":"IFERROR(INDEX($Q$3:$U$89, SMALL(IF($P$3:$P$89=\"○\", ROW($P$3:$P$89)-ROW($P$3)+1), ROW(D10)), COLUMNS($Q$3:T12)), \"\")","v":""},{"$f":"IFERROR(INDEX($Q$3:$U$89, SMALL(IF($P$3:$P$89=\"○\", ROW($P$3:$P$89)-ROW($P$3)+1), ROW(E10)), COLUMNS($Q$3:U12)), \"\")","v":""}]
[null,null,null,null,null,null,null,null,null,null,null,null,null,null,null,null,{"$f":"IFERROR(INDEX($Q$3:$U$89, SMALL(IF($P$3:$P$89=\"○\", ROW($P$3:$P$89)-ROW($P$3)+1), ROW(A11)), COLUMNS($Q$3:Q13)), \"\")","v":""},{"$f":"IFERROR(INDEX($Q$3:$U$89, SMALL(IF($P$3:$P$89=\"○\", ROW($P$3:$P$89)-ROW($P$3)+1), ROW(B11)), COLUMNS($Q$3:R13)), \"\")","v":""},{"$f":"IFERROR(INDEX($Q$3:$U$89, SMALL(IF($P$3:$P$89=\"○\", ROW($P$3:$P$89)-ROW($P$3)+1), ROW(C11)), COLUMNS($Q$3:S13)), \"\")","v":""},{"$f":"IFERROR(INDEX($Q$3:$U$89, SMALL(IF($P$3:$P$89=\"○\", ROW($P$3:$P$89)-ROW($P$3)+1), ROW(D11)), COLUMNS($Q$3:T13)), \"\")","v":""},{"$f":"IFERROR(INDEX($Q$3:$U$89, SMALL(IF($P$3:$P$89=\"○\", ROW($P$3:$P$89)-ROW($P$3)+1), ROW(E11)), COLUMNS($Q$3:U13)), \"\")","v":""}]
[null,null,null,null,null,null,null,null,null,null,null,null,null,null,null,null,{"$f":"IFERROR(INDEX($Q$3:$U$89, SMALL(IF($P$3:$P$89=\"○\", ROW($P$3:$P$89)-ROW($P$3)+1), ROW(A12)), COLUMNS($Q$3:Q14)), \"\")","v":""},{"$f":"IFERROR(INDEX($Q$3:$U$89, SMALL(IF($P$3:$P$89=\"○\", ROW($P$3:$P$89)-ROW($P$3)+1), ROW(B12)), COLUMNS($Q$3:R14)), \"\")","v":""},{"$f":"IFERROR(INDEX($Q$3:$U$89, SMALL(IF($P$3:$P$89=\"○\", ROW($P$3:$P$89)-ROW($P$3)+1), ROW(C12)), COLUMNS($Q$3:S14)), \"\")","v":""},{"$f":"IFERROR(INDEX($Q$3:$U$89, SMALL(IF($P$3:$P$89=\"○\", ROW($P$3:$P$89)-ROW($P$3)+1), ROW(D12)), COLUMNS($Q$3:T14)), \"\")","v":""},{"$f":"IFERROR(INDEX($Q$3:$U$89, SMALL(IF($P$3:$P$89=\"○\", ROW($P$3:$P$89)-ROW($P$3)+1), ROW(E12)), COLUMNS($Q$3:U14)), \"\")","v":""}]
[null,null,null,null,null,null,null,null,null,null,null,null,null,null,null,null,{"$f":"IFERROR(INDEX($Q$3:$U$89, SMALL(IF($P$3:$P$89=\"○\", ROW($P$3:$P$89)-ROW($P$3)+1), ROW(A13)), COLUMNS($Q$3:Q15)), \"\")","v":""},{"$f":"IFERROR(INDEX($Q$3:$U$89, SMALL(IF($P$3:$P$89=\"○\", ROW($P$3:$P$89)-ROW($P$3)+1), ROW(B13)), COLUMNS($Q$3:R15)), \"\")","v":""},{"$f":"IFERROR(INDEX($Q$3:$U$89, SMALL(IF($P$3:$P$89=\"○\", ROW($P$3:$P$89)-ROW($P$3)+1), ROW(C13)), COLUMNS($Q$3:S15)), \"\")","v":""},{"$f":"IFERROR(INDEX($Q$3:$U$89, SMALL(IF($P$3:$P$89=\"○\", ROW($P$3:$P$89)-ROW($P$3)+1), ROW(D13)), COLUMNS($Q$3:T15)), \"\")","v":""},{"$f":"IFERROR(INDEX($Q$3:$U$89, SMALL(IF($P$3:$P$89=\"○\", ROW($P$3:$P$89)-ROW($P$3)+1), ROW(E13)), COLUMNS($Q$3:U15)), \"\")","v":""}]
[null,null,null,null,null,null,null,null,null,null,null,null,null,null,null,null,{"$f":"IFERROR(INDEX($Q$3:$U$89, SMALL(IF($P$3:$P$89=\"○\", ROW($P$3:$P$89)-ROW($P$3)+1), ROW(A14)), COLUMNS($Q$3:Q16)), \"\")","v":""},{"$f":"IFERROR(INDEX($Q$3:$U$89, SMALL(IF($P$3:$P$89=\"○\", ROW($P$3:$P$89)-ROW($P$3)+1), ROW(B14)), COLUMNS($Q$3:R16)), \"\")","v":""},{"$f":"IFERROR(INDEX($Q$3:$U$89, SMALL(IF($P$3:$P$89=\"○\", ROW($P$3:$P$89)-ROW($P$3)+1), ROW(C14)), COLUMNS($Q$3:S16)), \"\")","v":""},{"$f":"IFERROR(INDEX($Q$3:$U$89, SMALL(IF($P$3:$P$89=\"○\", ROW($P$3:$P$89)-ROW($P$3)+1), ROW(D14)), COLUMNS($Q$3:T16)), \"\")","v":""},{"$f":"IFERROR(INDEX($Q$3:$U$89, SMALL(IF($P$3:$P$89=\"○\", ROW($P$3:$P$89)-ROW($P$3)+1), ROW(E14)), COLUMNS($Q$3:U16)), \"\")","v":""}]
[null,null,null,null,null,null,null,null,null,null,null,null,null,null,null,null,{"$f":"IFERROR(INDEX($Q$3:$U$89, SMALL(IF($P$3:$P$89=\"○\", ROW($P$3:$P$89)-ROW($P$3)+1), ROW(A15)), COLUMNS($Q$3:Q17)), \"\")","v":""},{"$f":"IFERROR(INDEX($Q$3:$U$89, SMALL(IF($P$3:$P$89=\"○\", ROW($P$3:$P$89)-ROW($P$3)+1), ROW(B15)), COLUMNS($Q$3:R17)), \"\")","v":""},{"$f":"IFERROR(INDEX($Q$3:$U$89, SMALL(IF($P$3:$P$89=\"○\", ROW($P$3:$P$89)-ROW($P$3)+1), ROW(C15)), COLUMNS($Q$3:S17)), \"\")","v":""},{"$f":"IFERROR(INDEX($Q$3:$U$89, SMALL(IF($P$3:$P$89=\"○\", ROW($P$3:$P$89)-ROW($P$3)+1), ROW(D15)), COLUMNS($Q$3:T17)), \"\")","v":""},{"$f":"IFERROR(INDEX($Q$3:$U$89, SMALL(IF($P$3:$P$89=\"○\", ROW($P$3:$P$89)-ROW($P$3)+1), ROW(E15)), COLUMNS($Q$3:U17)), \"\")","v":""}]
[null,null,null,null,null,null,null,null,null,null,null,null,null,null,null,null,{"$f":"IFERROR(INDEX($Q$3:$U$89, SMALL(IF($P$3:$P$89=\"○\", ROW($P$3:$P$89)-ROW($P$3)+1), ROW(A16)), COLUMNS($Q$3:Q18)), \"\")","v":""},{"$f":"IFERROR(INDEX($Q$3:$U$89, SMALL(IF($P$3:$P$89=\"○\", ROW($P$3:$P$89)-ROW($P$3)+1), ROW(B16)), COLUMNS($Q$3:R18)), \"\")","v":""},{"$f":"IFERROR(INDEX($Q$3:$U$89, SMALL(IF($P$3:$P$89=\"○\", ROW($P$3:$P$89)-ROW($P$3)+1), ROW(C16)), COLUMNS($Q$3:S18)), \"\")","v":""},{"$f":"IFERROR(INDEX($Q$3:$U$89, SMALL(IF($P$3:$P$89=\"○\", ROW($P$3:$P$89)-ROW($P$3)+1), ROW(D16)), COLUMNS($Q$3:T18)), \"\")","v":""},{"$f":"IFERROR(INDEX($Q$3:$U$89, SMALL(IF($P$3:$P$89=\"○\", ROW($P$3:$P$89)-ROW($P$3)+1), ROW(E16)), COLUMNS($Q$3:U18)), \"\")","v":""}]
[null,null,null,null,null,null,null,null,null,null,null,null,null,null,null,null,{"$f":"IFERROR(INDEX($Q$3:$U$89, SMALL(IF($P$3:$P$89=\"○\", ROW($P$3:$P$89)-ROW($P$3)+1), ROW(A17)), COLUMNS($Q$3:Q19)), \"\")","v":""},{"$f":"IFERROR(INDEX($Q$3:$U$89, SMALL(IF($P$3:$P$89=\"○\", ROW($P$3:$P$89)-ROW($P$3)+1), ROW(B17)), COLUMNS($Q$3:R19)), \"\")","v":""},{"$f":"IFERROR(INDEX($Q$3:$U$89, SMALL(IF($P$3:$P$89=\"○\", ROW($P$3:$P$89)-ROW($P$3)+1), ROW(C17)), COLUMNS($Q$3:S19)), \"\")","v":""},{"$f":"IFERROR(INDEX($Q$3:$U$89, SMALL(IF($P$3:$P$89=\"○\", ROW($P$3:$P$89)-ROW($P$3)+1), ROW(D17)), COLUMNS($Q$3:T19)), \"\")","v":""},{"$f":"IFERROR(INDEX($Q$3:$U$89, SMALL(IF($P$3:$P$89=\"○\", ROW($P$3:$P$89)-ROW($P$3)+1), ROW(E17)), COLUMNS($Q$3:U19)), \"\")","v":""}]
[null,null,null,null,null,null,null,null,null,null,null,null,null,null,null,null,{"$f":"IFERROR(INDEX($Q$3:$U$89, SMALL(IF($P$3:$P$89=\"○\", ROW($P$3:$P$89)-ROW($P$3)+1), ROW(A18)), COLUMNS($Q$3:Q20)), \"\")","v":""},{"$f":"IFERROR(INDEX($Q$3:$U$89, SMALL(IF($P$3:$P$89=\"○\", ROW($P$3:$P$89)-ROW($P$3)+1), ROW(B18)), COLUMNS($Q$3:R20)), \"\")","v":""},{"$f":"IFERROR(INDEX($Q$3:$U$89, SMALL(IF($P$3:$P$89=\"○\", ROW($P$3:$P$89)-ROW($P$3)+1), ROW(C18)), COLUMNS($Q$3:S20)), \"\")","v":""},{"$f":"IFERROR(INDEX($Q$3:$U$89, SMALL(IF($P$3:$P$89=\"○\", ROW($P$3:$P$89)-ROW($P$3)+1), ROW(D18)), COLUMNS($Q$3:T20)), \"\")","v":""},{"$f":"IFERROR(INDEX($Q$3:$U$89, SMALL(IF($P$3:$P$89=\"○\", ROW($P$3:$P$89)-ROW($P$3)+1), ROW(E18)), COLUMNS($Q$3:U20)), \"\")","v":""}]
[null,null,null,null,null,null,null,null,null,null,null,null,null,null,null,null,{"$f":"IFERROR(INDEX($Q$3:$U$89, SMALL(IF($P$3:$P$89=\"○\", ROW($P$3:$P$89)-ROW($P$3)+1), ROW(A19)), COLUMNS($Q$3:Q21)), \"\")","v":""},{"$f":"IFERROR(INDEX($Q$3:$U$89, SMALL(IF($P$3:$P$89=\"○\", ROW($P$3:$P$89)-ROW($P$3)+1), ROW(B19)), COLUMNS($Q$3:R21)), \"\")","v":""},{"$f":"IFERROR(INDEX($Q$3:$U$89, SMALL(IF($P$3:$P$89=\"○\", ROW($P$3:$P$89)-ROW($P$3)+1), ROW(C19)), COLUMNS($Q$3:S21)), \"\")","v":""},{"$f":"IFERROR(INDEX($Q$3:$U$89, SMALL(IF($P$3:$P$89=\"○\", ROW($P$3:$P$89)-ROW($P$3)+1), ROW(D19)), COLUMNS($Q$3:T21)), \"\")","v":""},{"$f":"IFERROR(INDEX($Q$3:$U$89, SMALL(IF($P$3:$P$89=\"○\", ROW($P$3:$P$89)-ROW($P$3)+1), ROW(E19)), COLUMNS($Q$3:U21)), \"\")","v":""}]
[null,null,null,null,null,null,null,null,null,null,null,null,null,null,null,null,{"$f":"IFERROR(INDEX($Q$3:$U$89, SMALL(IF($P$3:$P$89=\"○\", ROW($P$3:$P$89)-ROW($P$3)+1), ROW(A20)), COLUMNS($Q$3:Q22)), \"\")","v":""},{"$f":"IFERROR(INDEX($Q$3:$U$89, SMALL(IF($P$3:$P$89=\"○\", ROW($P$3:$P$89)-ROW($P$3)+1), ROW(B20)), COLUMNS($Q$3:R22)), \"\")","v":""},{"$f":"IFERROR(INDEX($Q$3:$U$89, SMALL(IF($P$3:$P$89=\"○\", ROW($P$3:$P$89)-ROW($P$3)+1), ROW(C20)), COLUMNS($Q$3:S22)), \"\")","v":""},{"$f":"IFERROR(INDEX($Q$3:$U$89, SMALL(IF($P$3:$P$89=\"○\", ROW($P$3:$P$89)-ROW($P$3)+1), ROW(D20)), COLUMNS($Q$3:T22)), \"\")","v":""},{"$f":"IFERROR(INDEX($Q$3:$U$89, SMALL(IF($P$3:$P$89=\"○\", ROW($P$3:$P$89)-ROW($P$3)+1), ROW(E20)), COLUMNS($Q$3:U22)), \"\")","v":""}]
[null,null,null,null,null,null,null,null,null,null,null,null,null,null,null,null,{"$f":"IFERROR(INDEX($Q$3:$U$89, SMALL(IF($P$3:$P$89=\"○\", ROW($P$3:$P$89)-ROW($P$3)+1), ROW(A21)), COLUMNS($Q$3:Q23)), \"\")","v":""},{"$f":"IFERROR(INDEX($Q$3:$U$89, SMALL(IF($P$3:$P$89=\"○\", ROW($P$3:$P$89)-ROW($P$3)+1), ROW(B21)), COLUMNS($Q$3:R23)), \"\")","v":""},{"$f":"IFERROR(INDEX($Q$3:$U$89, SMALL(IF($P$3:$P$89=\"○\", ROW($P$3:$P$89)-ROW($P$3)+1), ROW(C21)), COLUMNS($Q$3:S23)), \"\")","v":""},{"$f":"IFERROR(INDEX($Q$3:$U$89, SMALL(IF($P$3:$P$89=\"○\", ROW($P$3:$P$89)-ROW($P$3)+1), ROW(D21)), COLUMNS($Q$3:T23)), \"\")","v":""},{"$f":"IFERROR(INDEX($Q$3:$U$89, SMALL(IF($P$3:$P$89=\"○\", ROW($P$3:$P$89)-ROW($P$3)+1), ROW(E21)), COLUMNS($Q$3:U23)), \"\")","v":""}]
[null,null,null,null,null,null,null,null,null,null,null,null,null,null,null,null,{"$f":"IFERROR(INDEX($Q$3:$U$89, SMALL(IF($P$3:$P$89=\"○\", ROW($P$3:$P$89)-ROW($P$3)+1), ROW(A22)), COLUMNS($Q$3:Q24)), \"\")","v":""},{"$f":"IFERROR(INDEX($Q$3:$U$89, SMALL(IF($P$3:$P$89=\"○\", ROW($P$3:$P$89)-ROW($P$3)+1), ROW(B22)), COLUMNS($Q$3:R24)), \"\")","v":""},{"$f":"IFERROR(INDEX($Q$3:$U$89, SMALL(IF($P$3:$P$89=\"○\", ROW($P$3:$P$89)-ROW($P$3)+1), ROW(C22)), COLUMNS($Q$3:S24)), \"\")","v":""},{"$f":"IFERROR(INDEX($Q$3:$U$89, SMALL(IF($P$3:$P$89=\"○\", ROW($P$3:$P$89)-ROW($P$3)+1), ROW(D22)), COLUMNS($Q$3:T24)), \"\")","v":""},{"$f":"IFERROR(INDEX($Q$3:$U$89, SMALL(IF($P$3:$P$89=\"○\", ROW($P$3:$P$89)-ROW($P$3)+1), ROW(E22)), COLUMNS($Q$3:U24)), \"\")","v":""}]
[null,null,null,null,null,null,null,null,null,null,null,null,null,null,null,null,{"$f":"IFERROR(INDEX($Q$3:$U$89, SMALL(IF($P$3:$P$89=\"○\", ROW($P$3:$P$89)-ROW($P$3)+1), ROW(A23)), COLUMNS($Q$3:Q25)), \"\")","v":""},{"$f":"IFERROR(INDEX($Q$3:$U$89, SMALL(IF($P$3:$P$89=\"○\", ROW($P$3:$P$89)-ROW($P$3)+1), ROW(B23)), COLUMNS($Q$3:R25)), \"\")","v":""},{"$f":"IFERROR(INDEX($Q$3:$U$89, SMALL(IF($P$3:$P$89=\"○\", ROW($P$3:$P$89)-ROW($P$3)+1), ROW(C23)), COLUMNS($Q$3:S25)), \"\")","v":""},{"$f":"IFERROR(INDEX($Q$3:$U$89, SMALL(IF($P$3:$P$89=\"○\", ROW($P$3:$P$89)-ROW($P$3)+1), ROW(D23)), COLUMNS($Q$3:T25)), \"\")","v":""},{"$f":"IFERROR(INDEX($Q$3:$U$89, SMALL(IF($P$3:$P$89=\"○\", ROW($P$3:$P$89)-ROW($P$3)+1), ROW(E23)), COLUMNS($Q$3:U25)), \"\")","v":""}]
[null,null,null,null,null,null,null,null,null,null,null,null,null,null,null,null,{"$f":"IFERROR(INDEX($Q$3:$U$89, SMALL(IF($P$3:$P$89=\"○\", ROW($P$3:$P$89)-ROW($P$3)+1), ROW(A24)), COLUMNS($Q$3:Q26)), \"\")","v":""},{"$f":"IFERROR(INDEX($Q$3:$U$89, SMALL(IF($P$3:$P$89=\"○\", ROW($P$3:$P$89)-ROW($P$3)+1), ROW(B24)), COLUMNS($Q$3:R26)), \"\")","v":""},{"$f":"IFERROR(INDEX($Q$3:$U$89, SMALL(IF($P$3:$P$89=\"○\", ROW($P$3:$P$89)-ROW($P$3)+1), ROW(C24)), COLUMNS($Q$3:S26)), \"\")","v":""},{"$f":"IFERROR(INDEX($Q$3:$U$89, SMALL(IF($P$3:$P$89=\"○\", ROW($P$3:$P$89)-ROW($P$3)+1), ROW(D24)), COLUMNS($Q$3:T26)), \"\")","v":""},{"$f":"IFERROR(INDEX($Q$3:$U$89, SMALL(IF($P$3:$P$89=\"○\", ROW($P$3:$P$89)-ROW($P$3)+1), ROW(E24)), COLUMNS($Q$3:U26)), \"\")","v":""}]
[null,null,null,null,null,null,null,null,null,null,null,null,null,null,null,null,{"$f":"IFERROR(INDEX($Q$3:$U$89, SMALL(IF($P$3:$P$89=\"○\", ROW($P$3:$P$89)-ROW($P$3)+1), ROW(A25)), COLUMNS($Q$3:Q27)), \"\")","v":""},{"$f":"IFERROR(INDEX($Q$3:$U$89, SMALL(IF($P$3:$P$89=\"○\", ROW($P$3:$P$89)-ROW($P$3)+1), ROW(B25)), COLUMNS($Q$3:R27)), \"\")","v":""},{"$f":"IFERROR(INDEX($Q$3:$U$89, SMALL(IF($P$3:$P$89=\"○\", ROW($P$3:$P$89)-ROW($P$3)+1), ROW(C25)), COLUMNS($Q$3:S27)), \"\")","v":""},{"$f":"IFERROR(INDEX($Q$3:$U$89, SMALL(IF($P$3:$P$89=\"○\", ROW($P$3:$P$89)-ROW($P$3)+1), ROW(D25)), COLUMNS($Q$3:T27)), \"\")","v":""},{"$f":"IFERROR(INDEX($Q$3:$U$89, SMALL(IF($P$3:$P$89=\"○\", ROW($P$3:$P$89)-ROW($P$3)+1), ROW(E25)), COLUMNS($Q$3:U27)), \"\")","v":""}]
[null,null,null,null,null,null,null,null,null,null,null,null,null,null,null,null,{"$f":"IFERROR(INDEX($Q$3:$U$89, SMALL(IF($P$3:$P$89=\"○\", ROW($P$3:$P$89)-ROW($P$3)+1), ROW(A26)), COLUMNS($Q$3:Q28)), \"\")","v":""},{"$f":"IFERROR(INDEX($Q$3:$U$89, SMALL(IF($P$3:$P$89=\"○\", ROW($P$3:$P$89)-ROW($P$3)+1), ROW(B26)), COLUMNS($Q$3:R28)), \"\")","v":""},{"$f":"IFERROR(INDEX($Q$3:$U$89, SMALL(IF($P$3:$P$89=\"○\", ROW($P$3:$P$89)-ROW($P$3)+1), ROW(C26)), COLUMNS($Q$3:S28)), \"\")","v":""},{"$f":"IFERROR(INDEX($Q$3:$U$89, SMALL(IF($P$3:$P$89=\"○\", ROW($P$3:$P$89)-ROW($P$3)+1), ROW(D26)), COLUMNS($Q$3:T28)), \"\")","v":""},{"$f":"IFERROR(INDEX($Q$3:$U$89, SMALL(IF($P$3:$P$89=\"○\", ROW($P$3:$P$89)-ROW($P$3)+1), ROW(E26)), COLUMNS($Q$3:U28)), \"\")","v":""}]
[null,null,null,null,null,null,null,null,null,null,null,null,null,null,null,null,{"$f":"IFERROR(INDEX($Q$3:$U$89, SMALL(IF($P$3:$P$89=\"○\", ROW($P$3:$P$89)-ROW($P$3)+1), ROW(A27)), COLUMNS($Q$3:Q29)), \"\")","v":""},{"$f":"IFERROR(INDEX($Q$3:$U$89, SMALL(IF($P$3:$P$89=\"○\", ROW($P$3:$P$89)-ROW($P$3)+1), ROW(B27)), COLUMNS($Q$3:R29)), \"\")","v":""},{"$f":"IFERROR(INDEX($Q$3:$U$89, SMALL(IF($P$3:$P$89=\"○\", ROW($P$3:$P$89)-ROW($P$3)+1), ROW(C27)), COLUMNS($Q$3:S29)), \"\")","v":""},{"$f":"IFERROR(INDEX($Q$3:$U$89, SMALL(IF($P$3:$P$89=\"○\", ROW($P$3:$P$89)-ROW($P$3)+1), ROW(D27)), COLUMNS($Q$3:T29)), \"\")","v":""},{"$f":"IFERROR(INDEX($Q$3:$U$89, SMALL(IF($P$3:$P$89=\"○\", ROW($P$3:$P$89)-ROW($P$3)+1), ROW(E27)), COLUMNS($Q$3:U29)), \"\")","v":""}]
[null,null,null,null,null,null,null,null,null,null,null,null,null,null,null,null,{"$f":"IFERROR(INDEX($Q$3:$U$89, SMALL(IF($P$3:$P$89=\"○\", ROW($P$3:$P$89)-ROW($P$3)+1), ROW(A28)), COLUMNS($Q$3:Q30)), \"\")","v":""},{"$f":"IFERROR(INDEX($Q$3:$U$89, SMALL(IF($P$3:$P$89=\"○\", ROW($P$3:$P$89)-ROW($P$3)+1), ROW(B28)), COLUMNS($Q$3:R30)), \"\")","v":""},{"$f":"IFERROR(INDEX($Q$3:$U$89, SMALL(IF($P$3:$P$89=\"○\", ROW($P$3:$P$89)-ROW($P$3)+1), ROW(C28)), COLUMNS($Q$3:S30)), \"\")","v":""},{"$f":"IFERROR(INDEX($Q$3:$U$89, SMALL(IF($P$3:$P$89=\"○\", ROW($P$3:$P$89)-ROW($P$3)+1), ROW(D28)), COLUMNS($Q$3:T30)), \"\")","v":""},{"$f":"IFERROR(INDEX($Q$3:$U$89, SMALL(IF($P$3:$P$89=\"○\", ROW($P$3:$P$89)-ROW($P$3)+1), ROW(E28)), COLUMNS($Q$3:U30)), \"\")","v":""}]
[null,null,null,null,null,null,null,null,null,null,null,null,null,null,null,null,{"$f":"IFERROR(INDEX($Q$3:$U$89, SMALL(IF($P$3:$P$89=\"○\", ROW($P$3:$P$89)-ROW($P$3)+1), ROW(A29)), COLUMNS($Q$3:Q31)), \"\")","v":""},{"$f":"IFERROR(INDEX($Q$3:$U$89, SMALL(IF($P$3:$P$89=\"○\", ROW($P$3:$P$89)-ROW($P$3)+1), ROW(B29)), COLUMNS($Q$3:R31)), \"\")","v":""},{"$f":"IFERROR(INDEX($Q$3:$U$89, SMALL(IF($P$3:$P$89=\"○\", ROW($P$3:$P$89)-ROW($P$3)+1), ROW(C29)), COLUMNS($Q$3:S31)), \"\")","v":""},{"$f":"IFERROR(INDEX($Q$3:$U$89, SMALL(IF($P$3:$P$89=\"○\", ROW($P$3:$P$89)-ROW($P$3)+1), ROW(D29)), COLUMNS($Q$3:T31)), \"\")","v":""},{"$f":"IFERROR(INDEX($Q$3:$U$89, SMALL(IF($P$3:$P$89=\"○\", ROW($P$3:$P$89)-ROW($P$3)+1), ROW(E29)), COLUMNS($Q$3:U31)), \"\")","v":""}]
[null,null,null,null,null,null,null,null,null,null,null,null,null,null,null,null,{"$f":"IFERROR(INDEX($Q$3:$U$89, SMALL(IF($P$3:$P$89=\"○\", ROW($P$3:$P$89)-ROW($P$3)+1), ROW(A30)), COLUMNS($Q$3:Q32)), \"\")","v":""},{"$f":"IFERROR(INDEX($Q$3:$U$89, SMALL(IF($P$3:$P$89=\"○\", ROW($P$3:$P$89)-ROW($P$3)+1), ROW(B30)), COLUMNS($Q$3:R32)), \"\")","v":""},{"$f":"IFERROR(INDEX($Q$3:$U$89, SMALL(IF($P$3:$P$89=\"○\", ROW($P$3:$P$89)-ROW($P$3)+1), ROW(C30)), COLUMNS($Q$3:S32)), \"\")","v":""},{"$f":"IFERROR(INDEX($Q$3:$U$89, SMALL(IF($P$3:$P$89=\"○\", ROW($P$3:$P$89)-ROW($P$3)+1), ROW(D30)), COLUMNS($Q$3:T32)), \"\")","v":""},{"$f":"IFERROR(INDEX($Q$3:$U$89, SMALL(IF($P$3:$P$89=\"○\", ROW($P$3:$P$89)-ROW($P$3)+1), ROW(E30)), COLUMNS($Q$3:U32)), \"\")","v":""}]
[null,null,null,null,null,null,null,null,null,null,null,null,null,null,null,null,{"$f":"IFERROR(INDEX($Q$3:$U$89, SMALL(IF($P$3:$P$89=\"○\", ROW($P$3:$P$89)-ROW($P$3)+1), ROW(A31)), COLUMNS($Q$3:Q33)), \"\")","v":""},{"$f":"IFERROR(INDEX($Q$3:$U$89, SMALL(IF($P$3:$P$89=\"○\", ROW($P$3:$P$89)-ROW($P$3)+1), ROW(B31)), COLUMNS($Q$3:R33)), \"\")","v":""},{"$f":"IFERROR(INDEX($Q$3:$U$89, SMALL(IF($P$3:$P$89=\"○\", ROW($P$3:$P$89)-ROW($P$3)+1), ROW(C31)), COLUMNS($Q$3:S33)), \"\")","v":""},{"$f":"IFERROR(INDEX($Q$3:$U$89, SMALL(IF($P$3:$P$89=\"○\", ROW($P$3:$P$89)-ROW($P$3)+1), ROW(D31)), COLUMNS($Q$3:T33)), \"\")","v":""},{"$f":"IFERROR(INDEX($Q$3:$U$89, SMALL(IF($P$3:$P$89=\"○\", ROW($P$3:$P$89)-ROW($P$3)+1), ROW(E31)), COLUMNS($Q$3:U33)), \"\")","v":""}]
[null,null,null,null,null,null,null,null,null,null,null,null,null,null,null,null,{"$f":"IFERROR(INDEX($Q$3:$U$89, SMALL(IF($P$3:$P$89=\"○\", ROW($P$3:$P$89)-ROW($P$3)+1), ROW(A32)), COLUMNS($Q$3:Q34)), \"\")","v":""},{"$f":"IFERROR(INDEX($Q$3:$U$89, SMALL(IF($P$3:$P$89=\"○\", ROW($P$3:$P$89)-ROW($P$3)+1), ROW(B32)), COLUMNS($Q$3:R34)), \"\")","v":""},{"$f":"IFERROR(INDEX($Q$3:$U$89, SMALL(IF($P$3:$P$89=\"○\", ROW($P$3:$P$89)-ROW($P$3)+1), ROW(C32)), COLUMNS($Q$3:S34)), \"\")","v":""},{"$f":"IFERROR(INDEX($Q$3:$U$89, SMALL(IF($P$3:$P$89=\"○\", ROW($P$3:$P$89)-ROW($P$3)+1), ROW(D32)), COLUMNS($Q$3:T34)), \"\")","v":""},{"$f":"IFERROR(INDEX($Q$3:$U$89, SMALL(IF($P$3:$P$89=\"○\", ROW($P$3:$P$89)-ROW($P$3)+1), ROW(E32)), COLUMNS($Q$3:U34)), \"\")","v":""}]
[null,null,null,null,null,null,null,null,null,null,null,null,null,null,null,null,{"$f":"IFERROR(INDEX($Q$3:$U$89, SMALL(IF($P$3:$P$89=\"○\", ROW($P$3:$P$89)-ROW($P$3)+1), ROW(A33)), COLUMNS($Q$3:Q35)), \"\")","v":""},{"$f":"IFERROR(INDEX($Q$3:$U$89, SMALL(IF($P$3:$P$89=\"○\", ROW($P$3:$P$89)-ROW($P$3)+1), ROW(B33)), COLUMNS($Q$3:R35)), \"\")","v":""},{"$f":"IFERROR(INDEX($Q$3:$U$89, SMALL(IF($P$3:$P$89=\"○\", ROW($P$3:$P$89)-ROW($P$3)+1), ROW(C33)), COLUMNS($Q$3:S35)), \"\")","v":""},{"$f":"IFERROR(INDEX($Q$3:$U$89, SMALL(IF($P$3:$P$89=\"○\", ROW($P$3:$P$89)-ROW($P$3)+1), ROW(D33)), COLUMNS($Q$3:T35)), \"\")","v":""},{"$f":"IFERROR(INDEX($Q$3:$U$89, SMALL(IF($P$3:$P$89=\"○\", ROW($P$3:$P$89)-ROW($P$3)+1), ROW(E33)), COLUMNS($Q$3:U35)), \"\")","v":""}]
[null,null,null,null,null,null,null,null,null,null,null,null,null,null,null,null,{"$f":"IFERROR(INDEX($Q$3:$U$89, SMALL(IF($P$3:$P$89=\"○\", ROW($P$3:$P$89)-ROW($P$3)+1), ROW(A34)), COLUMNS($Q$3:Q36)), \"\")","v":""},{"$f":"IFERROR(INDEX($Q$3:$U$89, SMALL(IF($P$3:$P$89=\"○\", ROW($P$3:$P$89)-ROW($P$3)+1), ROW(B34)), COLUMNS($Q$3:R36)), \"\")","v":""},{"$f":"IFERROR(INDEX($Q$3:$U$89, SMALL(IF($P$3:$P$89=\"○\", ROW($P$3:$P$89)-ROW($P$3)+1), ROW(C34)), COLUMNS($Q$3:S36)), \"\")","v":""},{"$f":"IFERROR(INDEX($Q$3:$U$89, SMALL(IF($P$3:$P$89=\"○\", ROW($P$3:$P$89)-ROW($P$3)+1), ROW(D34)), COLUMNS($Q$3:T36)), \"\")","v":""},{"$f":"IFERROR(INDEX($Q$3:$U$89, SMALL(IF($P$3:$P$89=\"○\", ROW($P$3:$P$89)-ROW($P$3)+1), ROW(E34)), COLUMNS($Q$3:U36)), \"\")","v":""}]
[null,null,null,null,null,null,null,null,null,null,null,null,null,null,null,null,{"$f":"IFERROR(INDEX($Q$3:$U$89, SMALL(IF($P$3:$P$89=\"○\", ROW($P$3:$P$89)-ROW($P$3)+1), ROW(A35)), COLUMNS($Q$3:Q37)), \"\")","v":""},{"$f":"IFERROR(INDEX($Q$3:$U$89, SMALL(IF($P$3:$P$89=\"○\", ROW($P$3:$P$89)-ROW($P$3)+1), ROW(B35)), COLUMNS($Q$3:R37)), \"\")","v":""},{"$f":"IFERROR(INDEX($Q$3:$U$89, SMALL(IF($P$3:$P$89=\"○\", ROW($P$3:$P$89)-ROW($P$3)+1), ROW(C35)), COLUMNS($Q$3:S37)), \"\")","v":""},{"$f":"IFERROR(INDEX($Q$3:$U$89, SMALL(IF($P$3:$P$89=\"○\", ROW($P$3:$P$89)-ROW($P$3)+1), ROW(D35)), COLUMNS($Q$3:T37)), \"\")","v":""},{"$f":"IFERROR(INDEX($Q$3:$U$89, SMALL(IF($P$3:$P$89=\"○\", ROW($P$3:$P$89)-ROW($P$3)+1), ROW(E35)), COLUMNS($Q$3:U37)), \"\")","v":""}]
[null,null,null,null,null,null,null,null,null,null,null,null,null,null,null,null,{"$f":"IFERROR(INDEX($Q$3:$U$89, SMALL(IF($P$3:$P$89=\"○\", ROW($P$3:$P$89)-ROW($P$3)+1), ROW(A36)), COLUMNS($Q$3:Q38)), \"\")","v":""},{"$f":"IFERROR(INDEX($Q$3:$U$89, SMALL(IF($P$3:$P$89=\"○\", ROW($P$3:$P$89)-ROW($P$3)+1), ROW(B36)), COLUMNS($Q$3:R38)), \"\")","v":""},{"$f":"IFERROR(INDEX($Q$3:$U$89, SMALL(IF($P$3:$P$89=\"○\", ROW($P$3:$P$89)-ROW($P$3)+1), ROW(C36)), COLUMNS($Q$3:S38)), \"\")","v":""},{"$f":"IFERROR(INDEX($Q$3:$U$89, SMALL(IF($P$3:$P$89=\"○\", ROW($P$3:$P$89)-ROW($P$3)+1), ROW(D36)), COLUMNS($Q$3:T38)), \"\")","v":""},{"$f":"IFERROR(INDEX($Q$3:$U$89, SMALL(IF($P$3:$P$89=\"○\", ROW($P$3:$P$89)-ROW($P$3)+1), ROW(E36)), COLUMNS($Q$3:U38)), \"\")","v":""}]
[null,null,null,null,null,null,null,null,null,null,null,null,null,null,null,null,{"$f":"IFERROR(INDEX($Q$3:$U$89, SMALL(IF($P$3:$P$89=\"○\", ROW($P$3:$P$89)-ROW($P$3)+1), ROW(A37)), COLUMNS($Q$3:Q39)), \"\")","v":""},{"$f":"IFERROR(INDEX($Q$3:$U$89, SMALL(IF($P$3:$P$89=\"○\", ROW($P$3:$P$89)-ROW($P$3)+1), ROW(B37)), COLUMNS($Q$3:R39)), \"\")","v":""},{"$f":"IFERROR(INDEX($Q$3:$U$89, SMALL(IF($P$3:$P$89=\"○\", ROW($P$3:$P$89)-ROW($P$3)+1), ROW(C37)), COLUMNS($Q$3:S39)), \"\")","v":""},{"$f":"IFERROR(INDEX($Q$3:$U$89, SMALL(IF($P$3:$P$89=\"○\", ROW($P$3:$P$89)-ROW($P$3)+1), ROW(D37)), COLUMNS($Q$3:T39)), \"\")","v":""},{"$f":"IFERROR(INDEX($Q$3:$U$89, SMALL(IF($P$3:$P$89=\"○\", ROW($P$3:$P$89)-ROW($P$3)+1), ROW(E37)), COLUMNS($Q$3:U39)), \"\")","v":""}]
[null,null,null,null,null,null,null,null,null,null,null,null,null,null,null,null,{"$f":"IFERROR(INDEX($Q$3:$U$89, SMALL(IF($P$3:$P$89=\"○\", ROW($P$3:$P$89)-ROW($P$3)+1), ROW(A38)), COLUMNS($Q$3:Q40)), \"\")","v":""},{"$f":"IFERROR(INDEX($Q$3:$U$89, SMALL(IF($P$3:$P$89=\"○\", ROW($P$3:$P$89)-ROW($P$3)+1), ROW(B38)), COLUMNS($Q$3:R40)), \"\")","v":""},{"$f":"IFERROR(INDEX($Q$3:$U$89, SMALL(IF($P$3:$P$89=\"○\", ROW($P$3:$P$89)-ROW($P$3)+1), ROW(C38)), COLUMNS($Q$3:S40)), \"\")","v":""},{"$f":"IFERROR(INDEX($Q$3:$U$89, SMALL(IF($P$3:$P$89=\"○\", ROW($P$3:$P$89)-ROW($P$3)+1), ROW(D38)), COLUMNS($Q$3:T40)), \"\")","v":""},{"$f":"IFERROR(INDEX($Q$3:$U$89, SMALL(IF($P$3:$P$89=\"○\", ROW($P$3:$P$89)-ROW($P$3)+1), ROW(E38)), COLUMNS($Q$3:U40)), \"\")","v":""}]
[null,null,null,null,null,null,null,null,null,null,null,null,null,null,null,null,{"$f":"IFERROR(INDEX($Q$3:$U$89, SMALL(IF($P$3:$P$89=\"○\", ROW($P$3:$P$89)-ROW($P$3)+1), ROW(A39)), COLUMNS($Q$3:Q41)), \"\")","v":""},{"$f":"IFERROR(INDEX($Q$3:$U$89, SMALL(IF($P$3:$P$89=\"○\", ROW($P$3:$P$89)-ROW($P$3)+1), ROW(B39)), COLUMNS($Q$3:R41)), \"\")","v":""},{"$f":"IFERROR(INDEX($Q$3:$U$89, SMALL(IF($P$3:$P$89=\"○\", ROW($P$3:$P$89)-ROW($P$3)+1), ROW(C39)), COLUMNS($Q$3:S41)), \"\")","v":""},{"$f":"IFERROR(INDEX($Q$3:$U$89, SMALL(IF($P$3:$P$89=\"○\", ROW($P$3:$P$89)-ROW($P$3)+1), ROW(D39)), COLUMNS($Q$3:T41)), \"\")","v":""},{"$f":"IFERROR(INDEX($Q$3:$U$89, SMALL(IF($P$3:$P$89=\"○\", ROW($P$3:$P$89)-ROW($P$3)+1), ROW(E39)), COLUMNS($Q$3:U41)), \"\")","v":""}]
[null,null,null,null,null,null,null,null,null,null,null,null,null,null,null,null,{"$f":"IFERROR(INDEX($Q$3:$U$89, SMALL(IF($P$3:$P$89=\"○\", ROW($P$3:$P$89)-ROW($P$3)+1), ROW(A40)), COLUMNS($Q$3:Q42)), \"\")","v":""},{"$f":"IFERROR(INDEX($Q$3:$U$89, SMALL(IF($P$3:$P$89=\"○\", ROW($P$3:$P$89)-ROW($P$3)+1), ROW(B40)), COLUMNS($Q$3:R42)), \"\")","v":""},{"$f":"IFERROR(INDEX($Q$3:$U$89, SMALL(IF($P$3:$P$89=\"○\", ROW($P$3:$P$89)-ROW($P$3)+1), ROW(C40)), COLUMNS($Q$3:S42)), \"\")","v":""},{"$f":"IFERROR(INDEX($Q$3:$U$89, SMALL(IF($P$3:$P$89=\"○\", ROW($P$3:$P$89)-ROW($P$3)+1), ROW(D40)), COLUMNS($Q$3:T42)), \"\")","v":""},{"$f":"IFERROR(INDEX($Q$3:$U$89, SMALL(IF($P$3:$P$89=\"○\", ROW($P$3:$P$89)-ROW($P$3)+1), ROW(E40)), COLUMNS($Q$3:U42)), \"\")","v":""}]
[null,null,null,null,null,null,null,null,null,null,null,null,null,null,null,null,{"$f":"IFERROR(INDEX($Q$3:$U$89, SMALL(IF($P$3:$P$89=\"○\", ROW($P$3:$P$89)-ROW($P$3)+1), ROW(A41)), COLUMNS($Q$3:Q43)), \"\")","v":""},{"$f":"IFERROR(INDEX($Q$3:$U$89, SMALL(IF($P$3:$P$89=\"○\", ROW($P$3:$P$89)-ROW($P$3)+1), ROW(B41)), COLUMNS($Q$3:R43)), \"\")","v":""},{"$f":"IFERROR(INDEX($Q$3:$U$89, SMALL(IF($P$3:$P$89=\"○\", ROW($P$3:$P$89)-ROW($P$3)+1), ROW(C41)), COLUMNS($Q$3:S43)), \"\")","v":""},{"$f":"IFERROR(INDEX($Q$3:$U$89, SMALL(IF($P$3:$P$89=\"○\", ROW($P$3:$P$89)-ROW($P$3)+1), ROW(D41)), COLUMNS($Q$3:T43)), \"\")","v":""},{"$f":"IFERROR(INDEX($Q$3:$U$89, SMALL(IF($P$3:$P$89=\"○\", ROW($P$3:$P$89)-ROW($P$3)+1), ROW(E41)), COLUMNS($Q$3:U43)), \"\")","v":""}]
[null,null,null,null,null,null,null,null,null,null,null,null,null,null,null,null,{"$f":"IFERROR(INDEX($Q$3:$U$89, SMALL(IF($P$3:$P$89=\"○\", ROW($P$3:$P$89)-ROW($P$3)+1), ROW(A42)), COLUMNS($Q$3:Q44)), \"\")","v":""},{"$f":"IFERROR(INDEX($Q$3:$U$89, SMALL(IF($P$3:$P$89=\"○\", ROW($P$3:$P$89)-ROW($P$3)+1), ROW(B42)), COLUMNS($Q$3:R44)), \"\")","v":""},{"$f":"IFERROR(INDEX($Q$3:$U$89, SMALL(IF($P$3:$P$89=\"○\", ROW($P$3:$P$89)-ROW($P$3)+1), ROW(C42)), COLUMNS($Q$3:S44)), \"\")","v":""},{"$f":"IFERROR(INDEX($Q$3:$U$89, SMALL(IF($P$3:$P$89=\"○\", ROW($P$3:$P$89)-ROW($P$3)+1), ROW(D42)), COLUMNS($Q$3:T44)), \"\")","v":""},{"$f":"IFERROR(INDEX($Q$3:$U$89, SMALL(IF($P$3:$P$89=\"○\", ROW($P$3:$P$89)-ROW($P$3)+1), ROW(E42)), COLUMNS($Q$3:U44)), \"\")","v":""}]
[null,null,null,null,null,null,null,null,null,null,null,null,null,null,null,null,{"$f":"IFERROR(INDEX($Q$3:$U$89, SMALL(IF($P$3:$P$89=\"○\", ROW($P$3:$P$89)-ROW($P$3)+1), ROW(A43)), COLUMNS($Q$3:Q45)), \"\")","v":""},{"$f":"IFERROR(INDEX($Q$3:$U$89, SMALL(IF($P$3:$P$89=\"○\", ROW($P$3:$P$89)-ROW($P$3)+1), ROW(B43)), COLUMNS($Q$3:R45)), \"\")","v":""},{"$f":"IFERROR(INDEX($Q$3:$U$89, SMALL(IF($P$3:$P$89=\"○\", ROW($P$3:$P$89)-ROW($P$3)+1), ROW(C43)), COLUMNS($Q$3:S45)), \"\")","v":""},{"$f":"IFERROR(INDEX($Q$3:$U$89, SMALL(IF($P$3:$P$89=\"○\", ROW($P$3:$P$89)-ROW($P$3)+1), ROW(D43)), COLUMNS($Q$3:T45)), \"\")","v":""},{"$f":"IFERROR(INDEX($Q$3:$U$89, SMALL(IF($P$3:$P$89=\"○\", ROW($P$3:$P$89)-ROW($P$3)+1), ROW(E43)), COLUMNS($Q$3:U45)), \"\")","v":""}]
[null,null,null,null,null,null,null,null,null,null,null,null,null,null,null,null,{"$f":"IFERROR(INDEX($Q$3:$U$89, SMALL(IF($P$3:$P$89=\"○\", ROW($P$3:$P$89)-ROW($P$3)+1), ROW(A44)), COLUMNS($Q$3:Q46)), \"\")","v":""},{"$f":"IFERROR(INDEX($Q$3:$U$89, SMALL(IF($P$3:$P$89=\"○\", ROW($P$3:$P$89)-ROW($P$3)+1), ROW(B44)), COLUMNS($Q$3:R46)), \"\")","v":""},{"$f":"IFERROR(INDEX($Q$3:$U$89, SMALL(IF($P$3:$P$89=\"○\", ROW($P$3:$P$89)-ROW($P$3)+1), ROW(C44)), COLUMNS($Q$3:S46)), \"\")","v":""},{"$f":"IFERROR(INDEX($Q$3:$U$89, SMALL(IF($P$3:$P$89=\"○\", ROW($P$3:$P$89)-ROW($P$3)+1), ROW(D44)), COLUMNS($Q$3:T46)), \"\")","v":""},{"$f":"IFERROR(INDEX($Q$3:$U$89, SMALL(IF($P$3:$P$89=\"○\", ROW($P$3:$P$89)-ROW($P$3)+1), ROW(E44)), COLUMNS($Q$3:U46)), \"\")","v":""}]
[null,null,null,null,null,null,null,null,null,null,null,null,null,null,null,null,{"$f":"IFERROR(INDEX($Q$3:$U$89, SMALL(IF($P$3:$P$89=\"○\", ROW($P$3:$P$89)-ROW($P$3)+1), ROW(A45)), COLUMNS($Q$3:Q47)), \"\")","v":""},{"$f":"IFERROR(INDEX($Q$3:$U$89, SMALL(IF($P$3:$P$89=\"○\", ROW($P$3:$P$89)-ROW($P$3)+1), ROW(B45)), COLUMNS($Q$3:R47)), \"\")","v":""},{"$f":"IFERROR(INDEX($Q$3:$U$89, SMALL(IF($P$3:$P$89=\"○\", ROW($P$3:$P$89)-ROW($P$3)+1), ROW(C45)), COLUMNS($Q$3:S47)), \"\")","v":""},{"$f":"IFERROR(INDEX($Q$3:$U$89, SMALL(IF($P$3:$P$89=\"○\", ROW($P$3:$P$89)-ROW($P$3)+1), ROW(D45)), COLUMNS($Q$3:T47)), \"\")","v":""},{"$f":"IFERROR(INDEX($Q$3:$U$89, SMALL(IF($P$3:$P$89=\"○\", ROW($P$3:$P$89)-ROW($P$3)+1), ROW(E45)), COLUMNS($Q$3:U47)), \"\")","v":""}]
[null,null,null,null,null,null,null,null,null,null,null,null,null,null,null,null,{"$f":"IFERROR(INDEX($Q$3:$U$89, SMALL(IF($P$3:$P$89=\"○\", ROW($P$3:$P$89)-ROW($P$3)+1), ROW(A46)), COLUMNS($Q$3:Q48)), \"\")","v":""},{"$f":"IFERROR(INDEX($Q$3:$U$89, SMALL(IF($P$3:$P$89=\"○\", ROW($P$3:$P$89)-ROW($P$3)+1), ROW(B46)), COLUMNS($Q$3:R48)), \"\")","v":""},{"$f":"IFERROR(INDEX($Q$3:$U$89, SMALL(IF($P$3:$P$89=\"○\", ROW($P$3:$P$89)-ROW($P$3)+1), ROW(C46)), COLUMNS($Q$3:S48)), \"\")","v":""},{"$f":"IFERROR(INDEX($Q$3:$U$89, SMALL(IF($P$3:$P$89=\"○\", ROW($P$3:$P$89)-ROW($P$3)+1), ROW(D46)), COLUMNS($Q$3:T48)), \"\")","v":""},{"$f":"IFERROR(INDEX($Q$3:$U$89, SMALL(IF($P$3:$P$89=\"○\", ROW($P$3:$P$89)-ROW($P$3)+1), ROW(E46)), COLUMNS($Q$3:U48)), \"\")","v":""}]
[null,null,null,null,null,null,null,null,null,null,null,null,null,null,null,null,{"$f":"IFERROR(INDEX($Q$3:$U$89, SMALL(IF($P$3:$P$89=\"○\", ROW($P$3:$P$89)-ROW($P$3)+1), ROW(A47)), COLUMNS($Q$3:Q49)), \"\")","v":""},{"$f":"IFERROR(INDEX($Q$3:$U$89, SMALL(IF($P$3:$P$89=\"○\", ROW($P$3:$P$89)-ROW($P$3)+1), ROW(B47)), COLUMNS($Q$3:R49)), \"\")","v":""},{"$f":"IFERROR(INDEX($Q$3:$U$89, SMALL(IF($P$3:$P$89=\"○\", ROW($P$3:$P$89)-ROW($P$3)+1), ROW(C47)), COLUMNS($Q$3:S49)), \"\")","v":""},{"$f":"IFERROR(INDEX($Q$3:$U$89, SMALL(IF($P$3:$P$89=\"○\", ROW($P$3:$P$89)-ROW($P$3)+1), ROW(D47)), COLUMNS($Q$3:T49)), \"\")","v":""},{"$f":"IFERROR(INDEX($Q$3:$U$89, SMALL(IF($P$3:$P$89=\"○\", ROW($P$3:$P$89)-ROW($P$3)+1), ROW(E47)), COLUMNS($Q$3:U49)), \"\")","v":""}]
[null,null,null,null,null,null,null,null,null,null,null,null,null,null,null,null,{"$f":"IFERROR(INDEX($Q$3:$U$89, SMALL(IF($P$3:$P$89=\"○\", ROW($P$3:$P$89)-ROW($P$3)+1), ROW(A48)), COLUMNS($Q$3:Q50)), \"\")","v":""},{"$f":"IFERROR(INDEX($Q$3:$U$89, SMALL(IF($P$3:$P$89=\"○\", ROW($P$3:$P$89)-ROW($P$3)+1), ROW(B48)), COLUMNS($Q$3:R50)), \"\")","v":""},{"$f":"IFERROR(INDEX($Q$3:$U$89, SMALL(IF($P$3:$P$89=\"○\", ROW($P$3:$P$89)-ROW($P$3)+1), ROW(C48)), COLUMNS($Q$3:S50)), \"\")","v":""},{"$f":"IFERROR(INDEX($Q$3:$U$89, SMALL(IF($P$3:$P$89=\"○\", ROW($P$3:$P$89)-ROW($P$3)+1), ROW(D48)), COLUMNS($Q$3:T50)), \"\")","v":""},{"$f":"IFERROR(INDEX($Q$3:$U$89, SMALL(IF($P$3:$P$89=\"○\", ROW($P$3:$P$89)-ROW($P$3)+1), ROW(E48)), COLUMNS($Q$3:U50)), \"\")","v":""}]
[null,null,null,null,null,null,null,null,null,null,null,null,null,null,null,null,{"$f":"IFERROR(INDEX($Q$3:$U$89, SMALL(IF($P$3:$P$89=\"○\", ROW($P$3:$P$89)-ROW($P$3)+1), ROW(A49)), COLUMNS($Q$3:Q51)), \"\")","v":""},{"$f":"IFERROR(INDEX($Q$3:$U$89, SMALL(IF($P$3:$P$89=\"○\", ROW($P$3:$P$89)-ROW($P$3)+1), ROW(B49)), COLUMNS($Q$3:R51)), \"\")","v":""},{"$f":"IFERROR(INDEX($Q$3:$U$89, SMALL(IF($P$3:$P$89=\"○\", ROW($P$3:$P$89)-ROW($P$3)+1), ROW(C49)), COLUMNS($Q$3:S51)), \"\")","v":""},{"$f":"IFERROR(INDEX($Q$3:$U$89, SMALL(IF($P$3:$P$89=\"○\", ROW($P$3:$P$89)-ROW($P$3)+1), ROW(D49)), COLUMNS($Q$3:T51)), \"\")","v":""},{"$f":"IFERROR(INDEX($Q$3:$U$89, SMALL(IF($P$3:$P$89=\"○\", ROW($P$3:$P$89)-ROW($P$3)+1), ROW(E49)), COLUMNS($Q$3:U51)), \"\")","v":""}]
[null,null,null,null,null,null,null,null,null,null,null,null,null,null,null,null,{"$f":"IFERROR(INDEX($Q$3:$U$89, SMALL(IF($P$3:$P$89=\"○\", ROW($P$3:$P$89)-ROW($P$3)+1), ROW(A50)), COLUMNS($Q$3:Q52)), \"\")","v":""},{"$f":"IFERROR(INDEX($Q$3:$U$89, SMALL(IF($P$3:$P$89=\"○\", ROW($P$3:$P$89)-ROW($P$3)+1), ROW(B50)), COLUMNS($Q$3:R52)), \"\")","v":""},{"$f":"IFERROR(INDEX($Q$3:$U$89, SMALL(IF($P$3:$P$89=\"○\", ROW($P$3:$P$89)-ROW($P$3)+1), ROW(C50)), COLUMNS($Q$3:S52)), \"\")","v":""},{"$f":"IFERROR(INDEX($Q$3:$U$89, SMALL(IF($P$3:$P$89=\"○\", ROW($P$3:$P$89)-ROW($P$3)+1), ROW(D50)), COLUMNS($Q$3:T52)), \"\")","v":""},{"$f":"IFERROR(INDEX($Q$3:$U$89, SMALL(IF($P$3:$P$89=\"○\", ROW($P$3:$P$89)-ROW($P$3)+1), ROW(E50)), COLUMNS($Q$3:U52)), \"\")","v":""}]
[null,null,null,null,null,null,null,null,null,null,null,null,null,null,null,null,{"$f":"IFERROR(INDEX($Q$3:$U$89, SMALL(IF($P$3:$P$89=\"○\", ROW($P$3:$P$89)-ROW($P$3)+1), ROW(A51)), COLUMNS($Q$3:Q53)), \"\")","v":""},{"$f":"IFERROR(INDEX($Q$3:$U$89, SMALL(IF($P$3:$P$89=\"○\", ROW($P$3:$P$89)-ROW($P$3)+1), ROW(B51)), COLUMNS($Q$3:R53)), \"\")","v":""},{"$f":"IFERROR(INDEX($Q$3:$U$89, SMALL(IF($P$3:$P$89=\"○\", ROW($P$3:$P$89)-ROW($P$3)+1), ROW(C51)), COLUMNS($Q$3:S53)), \"\")","v":""},{"$f":"IFERROR(INDEX($Q$3:$U$89, SMALL(IF($P$3:$P$89=\"○\", ROW($P$3:$P$89)-ROW($P$3)+1), ROW(D51)), COLUMNS($Q$3:T53)), \"\")","v":""},{"$f":"IFERROR(INDEX($Q$3:$U$89, SMALL(IF($P$3:$P$89=\"○\", ROW($P$3:$P$89)-ROW($P$3)+1), ROW(E51)), COLUMNS($Q$3:U53)), \"\")","v":""}]
[null,null,null,null,null,null,null,null,null,null,null,null,null,null,null,null,{"$f":"IFERROR(INDEX($Q$3:$U$89, SMALL(IF($P$3:$P$89=\"○\", ROW($P$3:$P$89)-ROW($P$3)+1), ROW(A52)), COLUMNS($Q$3:Q54)), \"\")","v":""},{"$f":"IFERROR(INDEX($Q$3:$U$89, SMALL(IF($P$3:$P$89=\"○\", ROW($P$3:$P$89)-ROW($P$3)+1), ROW(B52)), COLUMNS($Q$3:R54)), \"\")","v":""},{"$f":"IFERROR(INDEX($Q$3:$U$89, SMALL(IF($P$3:$P$89=\"○\", ROW($P$3:$P$89)-ROW($P$3)+1), ROW(C52)), COLUMNS($Q$3:S54)), \"\")","v":""},{"$f":"IFERROR(INDEX($Q$3:$U$89, SMALL(IF($P$3:$P$89=\"○\", ROW($P$3:$P$89)-ROW($P$3)+1), ROW(D52)), COLUMNS($Q$3:T54)), \"\")","v":""},{"$f":"IFERROR(INDEX($Q$3:$U$89, SMALL(IF($P$3:$P$89=\"○\", ROW($P$3:$P$89)-ROW($P$3)+1), ROW(E52)), COLUMNS($Q$3:U54)), \"\")","v":""}]
[null,null,null,null,null,null,null,null,null,null,null,null,null,null,null,null,{"$f":"IFERROR(INDEX($Q$3:$U$89, SMALL(IF($P$3:$P$89=\"○\", ROW($P$3:$P$89)-ROW($P$3)+1), ROW(A53)), COLUMNS($Q$3:Q55)), \"\")","v":""},{"$f":"IFERROR(INDEX($Q$3:$U$89, SMALL(IF($P$3:$P$89=\"○\", ROW($P$3:$P$89)-ROW($P$3)+1), ROW(B53)), COLUMNS($Q$3:R55)), \"\")","v":""},{"$f":"IFERROR(INDEX($Q$3:$U$89, SMALL(IF($P$3:$P$89=\"○\", ROW($P$3:$P$89)-ROW($P$3)+1), ROW(C53)), COLUMNS($Q$3:S55)), \"\")","v":""},{"$f":"IFERROR(INDEX($Q$3:$U$89, SMALL(IF($P$3:$P$89=\"○\", ROW($P$3:$P$89)-ROW($P$3)+1), ROW(D53)), COLUMNS($Q$3:T55)), \"\")","v":""},{"$f":"IFERROR(INDEX($Q$3:$U$89, SMALL(IF($P$3:$P$89=\"○\", ROW($P$3:$P$89)-ROW($P$3)+1), ROW(E53)), COLUMNS($Q$3:U55)), \"\")","v":""}]
[null,null,null,null,null,null,null,null,null,null,null,null,null,null,null,null,{"$f":"IFERROR(INDEX($Q$3:$U$89, SMALL(IF($P$3:$P$89=\"○\", ROW($P$3:$P$89)-ROW($P$3)+1), ROW(A54)), COLUMNS($Q$3:Q56)), \"\")","v":""},{"$f":"IFERROR(INDEX($Q$3:$U$89, SMALL(IF($P$3:$P$89=\"○\", ROW($P$3:$P$89)-ROW($P$3)+1), ROW(B54)), COLUMNS($Q$3:R56)), \"\")","v":""},{"$f":"IFERROR(INDEX($Q$3:$U$89, SMALL(IF($P$3:$P$89=\"○\", ROW($P$3:$P$89)-ROW($P$3)+1), ROW(C54)), COLUMNS($Q$3:S56)), \"\")","v":""},{"$f":"IFERROR(INDEX($Q$3:$U$89, SMALL(IF($P$3:$P$89=\"○\", ROW($P$3:$P$89)-ROW($P$3)+1), ROW(D54)), COLUMNS($Q$3:T56)), \"\")","v":""},{"$f":"IFERROR(INDEX($Q$3:$U$89, SMALL(IF($P$3:$P$89=\"○\", ROW($P$3:$P$89)-ROW($P$3)+1), ROW(E54)), COLUMNS($Q$3:U56)), \"\")","v":""}]
[null,null,null,null,null,null,null,null,null,null,null,null,null,null,null,null,{"$f":"IFERROR(INDEX($Q$3:$U$89, SMALL(IF($P$3:$P$89=\"○\", ROW($P$3:$P$89)-ROW($P$3)+1), ROW(A55)), COLUMNS($Q$3:Q57)), \"\")","v":""},{"$f":"IFERROR(INDEX($Q$3:$U$89, SMALL(IF($P$3:$P$89=\"○\", ROW($P$3:$P$89)-ROW($P$3)+1), ROW(B55)), COLUMNS($Q$3:R57)), \"\")","v":""},{"$f":"IFERROR(INDEX($Q$3:$U$89, SMALL(IF($P$3:$P$89=\"○\", ROW($P$3:$P$89)-ROW($P$3)+1), ROW(C55)), COLUMNS($Q$3:S57)), \"\")","v":""},{"$f":"IFERROR(INDEX($Q$3:$U$89, SMALL(IF($P$3:$P$89=\"○\", ROW($P$3:$P$89)-ROW($P$3)+1), ROW(D55)), COLUMNS($Q$3:T57)), \"\")","v":""},{"$f":"IFERROR(INDEX($Q$3:$U$89, SMALL(IF($P$3:$P$89=\"○\", ROW($P$3:$P$89)-ROW($P$3)+1), ROW(E55)), COLUMNS($Q$3:U57)), \"\")","v":""}]
[null,null,null,null,null,null,null,null,null,null,null,null,null,null,null,null,{"$f":"IFERROR(INDEX($Q$3:$U$89, SMALL(IF($P$3:$P$89=\"○\", ROW($P$3:$P$89)-ROW($P$3)+1), ROW(A56)), COLUMNS($Q$3:Q58)), \"\")","v":""},{"$f":"IFERROR(INDEX($Q$3:$U$89, SMALL(IF($P$3:$P$89=\"○\", ROW($P$3:$P$89)-ROW($P$3)+1), ROW(B56)), COLUMNS($Q$3:R58)), \"\")","v":""},{"$f":"IFERROR(INDEX($Q$3:$U$89, SMALL(IF($P$3:$P$89=\"○\", ROW($P$3:$P$89)-ROW($P$3)+1), ROW(C56)), COLUMNS($Q$3:S58)), \"\")","v":""},{"$f":"IFERROR(INDEX($Q$3:$U$89, SMALL(IF($P$3:$P$89=\"○\", ROW($P$3:$P$89)-ROW($P$3)+1), ROW(D56)), COLUMNS($Q$3:T58)), \"\")","v":""},{"$f":"IFERROR(INDEX($Q$3:$U$89, SMALL(IF($P$3:$P$89=\"○\", ROW($P$3:$P$89)-ROW($P$3)+1), ROW(E56)), COLUMNS($Q$3:U58)), \"\")","v":""}]
[null,null,null,null,null,null,null,null,null,null,null,null,null,null,null,null,{"$f":"IFERROR(INDEX($Q$3:$U$89, SMALL(IF($P$3:$P$89=\"○\", ROW($P$3:$P$89)-ROW($P$3)+1), ROW(A57)), COLUMNS($Q$3:Q59)), \"\")","v":""},{"$f":"IFERROR(INDEX($Q$3:$U$89, SMALL(IF($P$3:$P$89=\"○\", ROW($P$3:$P$89)-ROW($P$3)+1), ROW(B57)), COLUMNS($Q$3:R59)), \"\")","v":""},{"$f":"IFERROR(INDEX($Q$3:$U$89, SMALL(IF($P$3:$P$89=\"○\", ROW($P$3:$P$89)-ROW($P$3)+1), ROW(C57)), COLUMNS($Q$3:S59)), \"\")","v":""},{"$f":"IFERROR(INDEX($Q$3:$U$89, SMALL(IF($P$3:$P$89=\"○\", ROW($P$3:$P$89)-ROW($P$3)+1), ROW(D57)), COLUMNS($Q$3:T59)), \"\")","v":""},{"$f":"IFERROR(INDEX($Q$3:$U$89, SMALL(IF($P$3:$P$89=\"○\", ROW($P$3:$P$89)-ROW($P$3)+1), ROW(E57)), COLUMNS($Q$3:U59)), \"\")","v":""}]
[null,null,null,null,null,null,null,null,null,null,null,null,null,null,null,null,{"$f":"IFERROR(INDEX($Q$3:$U$89, SMALL(IF($P$3:$P$89=\"○\", ROW($P$3:$P$89)-ROW($P$3)+1), ROW(A58)), COLUMNS($Q$3:Q60)), \"\")","v":""},{"$f":"IFERROR(INDEX($Q$3:$U$89, SMALL(IF($P$3:$P$89=\"○\", ROW($P$3:$P$89)-ROW($P$3)+1), ROW(B58)), COLUMNS($Q$3:R60)), \"\")","v":""},{"$f":"IFERROR(INDEX($Q$3:$U$89, SMALL(IF($P$3:$P$89=\"○\", ROW($P$3:$P$89)-ROW($P$3)+1), ROW(C58)), COLUMNS($Q$3:S60)), \"\")","v":""},{"$f":"IFERROR(INDEX($Q$3:$U$89, SMALL(IF($P$3:$P$89=\"○\", ROW($P$3:$P$89)-ROW($P$3)+1), ROW(D58)), COLUMNS($Q$3:T60)), \"\")","v":""},{"$f":"IFERROR(INDEX($Q$3:$U$89, SMALL(IF($P$3:$P$89=\"○\", ROW($P$3:$P$89)-ROW($P$3)+1), ROW(E58)), COLUMNS($Q$3:U60)), \"\")","v":""}]
[null,null,null,null,null,null,null,null,null,null,null,null,null,null,null,null,{"$f":"IFERROR(INDEX($Q$3:$U$89, SMALL(IF($P$3:$P$89=\"○\", ROW($P$3:$P$89)-ROW($P$3)+1), ROW(A59)), COLUMNS($Q$3:Q61)), \"\")","v":""},{"$f":"IFERROR(INDEX($Q$3:$U$89, SMALL(IF($P$3:$P$89=\"○\", ROW($P$3:$P$89)-ROW($P$3)+1), ROW(B59)), COLUMNS($Q$3:R61)), \"\")","v":""},{"$f":"IFERROR(INDEX($Q$3:$U$89, SMALL(IF($P$3:$P$89=\"○\", ROW($P$3:$P$89)-ROW($P$3)+1), ROW(C59)), COLUMNS($Q$3:S61)), \"\")","v":""},{"$f":"IFERROR(INDEX($Q$3:$U$89, SMALL(IF($P$3:$P$89=\"○\", ROW($P$3:$P$89)-ROW($P$3)+1), ROW(D59)), COLUMNS($Q$3:T61)), \"\")","v":""},{"$f":"IFERROR(INDEX($Q$3:$U$89, SMALL(IF($P$3:$P$89=\"○\", ROW($P$3:$P$89)-ROW($P$3)+1), ROW(E59)), COLUMNS($Q$3:U61)), \"\")","v":""}]
[null,null,null,null,null,null,null,null,null,null,null,null,null,null,null,null,{"$f":"IFERROR(INDEX($Q$3:$U$89, SMALL(IF($P$3:$P$89=\"○\", ROW($P$3:$P$89)-ROW($P$3)+1), ROW(A60)), COLUMNS($Q$3:Q62)), \"\")","v":""},{"$f":"IFERROR(INDEX($Q$3:$U$89, SMALL(IF($P$3:$P$89=\"○\", ROW($P$3:$P$89)-ROW($P$3)+1), ROW(B60)), COLUMNS($Q$3:R62)), \"\")","v":""},{"$f":"IFERROR(INDEX($Q$3:$U$89, SMALL(IF($P$3:$P$89=\"○\", ROW($P$3:$P$89)-ROW($P$3)+1), ROW(C60)), COLUMNS($Q$3:S62)), \"\")","v":""},{"$f":"IFERROR(INDEX($Q$3:$U$89, SMALL(IF($P$3:$P$89=\"○\", ROW($P$3:$P$89)-ROW($P$3)+1), ROW(D60)), COLUMNS($Q$3:T62)), \"\")","v":""},{"$f":"IFERROR(INDEX($Q$3:$U$89, SMALL(IF($P$3:$P$89=\"○\", ROW($P$3:$P$89)-ROW($P$3)+1), ROW(E60)), COLUMNS($Q$3:U62)), \"\")","v":""}]
[null,null,null,null,null,null,null,null,null,null,null,null,null,null,null,null,{"$f":"IFERROR(INDEX($Q$3:$U$89, SMALL(IF($P$3:$P$89=\"○\", ROW($P$3:$P$89)-ROW($P$3)+1), ROW(A61)), COLUMNS($Q$3:Q63)), \"\")","v":""},{"$f":"IFERROR(INDEX($Q$3:$U$89, SMALL(IF($P$3:$P$89=\"○\", ROW($P$3:$P$89)-ROW($P$3)+1), ROW(B61)), COLUMNS($Q$3:R63)), \"\")","v":""},{"$f":"IFERROR(INDEX($Q$3:$U$89, SMALL(IF($P$3:$P$89=\"○\", ROW($P$3:$P$89)-ROW($P$3)+1), ROW(C61)), COLUMNS($Q$3:S63)), \"\")","v":""},{"$f":"IFERROR(INDEX($Q$3:$U$89, SMALL(IF($P$3:$P$89=\"○\", ROW($P$3:$P$89)-ROW($P$3)+1), ROW(D61)), COLUMNS($Q$3:T63)), \"\")","v":""},{"$f":"IFERROR(INDEX($Q$3:$U$89, SMALL(IF($P$3:$P$89=\"○\", ROW($P$3:$P$89)-ROW($P$3)+1), ROW(E61)), COLUMNS($Q$3:U63)), \"\")","v":""}]
[null,null,null,null,null,null,null,null,null,null,null,null,null,null,null,null,{"$f":"IFERROR(INDEX($Q$3:$U$89, SMALL(IF($P$3:$P$89=\"○\", ROW($P$3:$P$89)-ROW($P$3)+1), ROW(A62)), COLUMNS($Q$3:Q64)), \"\")","v":""},{"$f":"IFERROR(INDEX($Q$3:$U$89, SMALL(IF($P$3:$P$89=\"○\", ROW($P$3:$P$89)-ROW($P$3)+1), ROW(B62)), COLUMNS($Q$3:R64)), \"\")","v":""},{"$f":"IFERROR(INDEX($Q$3:$U$89, SMALL(IF($P$3:$P$89=\"○\", ROW($P$3:$P$89)-ROW($P$3)+1), ROW(C62)), COLUMNS($Q$3:S64)), \"\")","v":""},{"$f":"IFERROR(INDEX($Q$3:$U$89, SMALL(IF($P$3:$P$89=\"○\", ROW($P$3:$P$89)-ROW($P$3)+1), ROW(D62)), COLUMNS($Q$3:T64)), \"\")","v":""},{"$f":"IFERROR(INDEX($Q$3:$U$89, SMALL(IF($P$3:$P$89=\"○\", ROW($P$3:$P$89)-ROW($P$3)+1), ROW(E62)), COLUMNS($Q$3:U64)), \"\")","v":""}]
[null,null,null,null,null,null,null,null,null,null,null,null,null,null,null,null,{"$f":"IFERROR(INDEX($Q$3:$U$89, SMALL(IF($P$3:$P$89=\"○\", ROW($P$3:$P$89)-ROW($P$3)+1), ROW(A63)), COLUMNS($Q$3:Q65)), \"\")","v":""},{"$f":"IFERROR(INDEX($Q$3:$U$89, SMALL(IF($P$3:$P$89=\"○\", ROW($P$3:$P$89)-ROW($P$3)+1), ROW(B63)), COLUMNS($Q$3:R65)), \"\")","v":""},{"$f":"IFERROR(INDEX($Q$3:$U$89, SMALL(IF($P$3:$P$89=\"○\", ROW($P$3:$P$89)-ROW($P$3)+1), ROW(C63)), COLUMNS($Q$3:S65)), \"\")","v":""},{"$f":"IFERROR(INDEX($Q$3:$U$89, SMALL(IF($P$3:$P$89=\"○\", ROW($P$3:$P$89)-ROW($P$3)+1), ROW(D63)), COLUMNS($Q$3:T65)), \"\")","v":""},{"$f":"IFERROR(INDEX($Q$3:$U$89, SMALL(IF($P$3:$P$89=\"○\", ROW($P$3:$P$89)-ROW($P$3)+1), ROW(E63)), COLUMNS($Q$3:U65)), \"\")","v":""}]
[null,null,null,null,null,null,null,null,null,null,null,null,null,null,null,null,{"$f":"IFERROR(INDEX($Q$3:$U$89, SMALL(IF($P$3:$P$89=\"○\", ROW($P$3:$P$89)-ROW($P$3)+1), ROW(A64)), COLUMNS($Q$3:Q66)), \"\")","v":""},{"$f":"IFERROR(INDEX($Q$3:$U$89, SMALL(IF($P$3:$P$89=\"○\", ROW($P$3:$P$89)-ROW($P$3)+1), ROW(B64)), COLUMNS($Q$3:R66)), \"\")","v":""},{"$f":"IFERROR(INDEX($Q$3:$U$89, SMALL(IF($P$3:$P$89=\"○\", ROW($P$3:$P$89)-ROW($P$3)+1), ROW(C64)), COLUMNS($Q$3:S66)), \"\")","v":""},{"$f":"IFERROR(INDEX($Q$3:$U$89, SMALL(IF($P$3:$P$89=\"○\", ROW($P$3:$P$89)-ROW($P$3)+1), ROW(D64)), COLUMNS($Q$3:T66)), \"\")","v":""},{"$f":"IFERROR(INDEX($Q$3:$U$89, SMALL(IF($P$3:$P$89=\"○\", ROW($P$3:$P$89)-ROW($P$3)+1), ROW(E64)), COLUMNS($Q$3:U66)), \"\")","v":""}]
[null,null,null,null,null,null,null,null,null,null,null,null,null,null,null,null,{"$f":"IFERROR(INDEX($Q$3:$U$89, SMALL(IF($P$3:$P$89=\"○\", ROW($P$3:$P$89)-ROW($P$3)+1), ROW(A65)), COLUMNS($Q$3:Q67)), \"\")","v":""},{"$f":"IFERROR(INDEX($Q$3:$U$89, SMALL(IF($P$3:$P$89=\"○\", ROW($P$3:$P$89)-ROW($P$3)+1), ROW(B65)), COLUMNS($Q$3:R67)), \"\")","v":""},{"$f":"IFERROR(INDEX($Q$3:$U$89, SMALL(IF($P$3:$P$89=\"○\", ROW($P$3:$P$89)-ROW($P$3)+1), ROW(C65)), COLUMNS($Q$3:S67)), \"\")","v":""},{"$f":"IFERROR(INDEX($Q$3:$U$89, SMALL(IF($P$3:$P$89=\"○\", ROW($P$3:$P$89)-ROW($P$3)+1), ROW(D65)), COLUMNS($Q$3:T67)), \"\")","v":""},{"$f":"IFERROR(INDEX($Q$3:$U$89, SMALL(IF($P$3:$P$89=\"○\", ROW($P$3:$P$89)-ROW($P$3)+1), ROW(E65)), COLUMNS($Q$3:U67)), \"\")","v":""}]
[null,null,null,null,null,null,null,null,null,null,null,null,null,null,null,null,{"$f":"IFERROR(INDEX($Q$3:$U$89, SMALL(IF($P$3:$P$89=\"○\", ROW($P$3:$P$89)-ROW($P$3)+1), ROW(A66)), COLUMNS($Q$3:Q68)), \"\")","v":""},{"$f":"IFERROR(INDEX($Q$3:$U$89, SMALL(IF($P$3:$P$89=\"○\", ROW($P$3:$P$89)-ROW($P$3)+1), ROW(B66)), COLUMNS($Q$3:R68)), \"\")","v":""},{"$f":"IFERROR(INDEX($Q$3:$U$89, SMALL(IF($P$3:$P$89=\"○\", ROW($P$3:$P$89)-ROW($P$3)+1), ROW(C66)), COLUMNS($Q$3:S68)), \"\")","v":""},{"$f":"IFERROR(INDEX($Q$3:$U$89, SMALL(IF($P$3:$P$89=\"○\", ROW($P$3:$P$89)-ROW($P$3)+1), ROW(D66)), COLUMNS($Q$3:T68)), \"\")","v":""},{"$f":"IFERROR(INDEX($Q$3:$U$89, SMALL(IF($P$3:$P$89=\"○\", ROW($P$3:$P$89)-ROW($P$3)+1), ROW(E66)), COLUMNS($Q$3:U68)), \"\")","v":""}]
[null,null,null,null,null,null,null,null,null,null,null,null,null,null,null,null,{"$f":"IFERROR(INDEX($Q$3:$U$89, SMALL(IF($P$3:$P$89=\"○\", ROW($P$3:$P$89)-ROW($P$3)+1), ROW(A67)), COLUMNS($Q$3:Q69)), \"\")","v":""},{"$f":"IFERROR(INDEX($Q$3:$U$89, SMALL(IF($P$3:$P$89=\"○\", ROW($P$3:$P$89)-ROW($P$3)+1), ROW(B67)), COLUMNS($Q$3:R69)), \"\")","v":""},{"$f":"IFERROR(INDEX($Q$3:$U$89, SMALL(IF($P$3:$P$89=\"○\", ROW($P$3:$P$89)-ROW($P$3)+1), ROW(C67)), COLUMNS($Q$3:S69)), \"\")","v":""},{"$f":"IFERROR(INDEX($Q$3:$U$89, SMALL(IF($P$3:$P$89=\"○\", ROW($P$3:$P$89)-ROW($P$3)+1), ROW(D67)), COLUMNS($Q$3:T69)), \"\")","v":""},{"$f":"IFERROR(INDEX($Q$3:$U$89, SMALL(IF($P$3:$P$89=\"○\", ROW($P$3:$P$89)-ROW($P$3)+1), ROW(E67)), COLUMNS($Q$3:U69)), \"\")","v":""}]
[null,null,null,null,null,null,null,null,null,null,null,null,null,null,null,null,{"$f":"IFERROR(INDEX($Q$3:$U$89, SMALL(IF($P$3:$P$89=\"○\", ROW($P$3:$P$89)-ROW($P$3)+1), ROW(A68)), COLUMNS($Q$3:Q70)), \"\")","v":""},{"$f":"IFERROR(INDEX($Q$3:$U$89, SMALL(IF($P$3:$P$89=\"○\", ROW($P$3:$P$89)-ROW($P$3)+1), ROW(B68)), COLUMNS($Q$3:R70)), \"\")","v":""},{"$f":"IFERROR(INDEX($Q$3:$U$89, SMALL(IF($P$3:$P$89=\"○\", ROW($P$3:$P$89)-ROW($P$3)+1), ROW(C68)), COLUMNS($Q$3:S70)), \"\")","v":""},{"$f":"IFERROR(INDEX($Q$3:$U$89, SMALL(IF($P$3:$P$89=\"○\", ROW($P$3:$P$89)-ROW($P$3)+1), ROW(D68)), COLUMNS($Q$3:T70)), \"\")","v":""},{"$f":"IFERROR(INDEX($Q$3:$U$89, SMALL(IF($P$3:$P$89=\"○\", ROW($P$3:$P$89)-ROW($P$3)+1), ROW(E68)), COLUMNS($Q$3:U70)), \"\")","v":""}]
[null,null,null,null,null,null,null,null,null,null,null,null,null,null,null,null,{"$f":"IFERROR(INDEX($Q$3:$U$89, SMALL(IF($P$3:$P$89=\"○\", ROW($P$3:$P$89)-ROW($P$3)+1), ROW(A69)), COLUMNS($Q$3:Q71)), \"\")","v":""},{"$f":"IFERROR(INDEX($Q$3:$U$89, SMALL(IF($P$3:$P$89=\"○\", ROW($P$3:$P$89)-ROW($P$3)+1), ROW(B69)), COLUMNS($Q$3:R71)), \"\")","v":""},{"$f":"IFERROR(INDEX($Q$3:$U$89, SMALL(IF($P$3:$P$89=\"○\", ROW($P$3:$P$89)-ROW($P$3)+1), ROW(C69)), COLUMNS($Q$3:S71)), \"\")","v":""},{"$f":"IFERROR(INDEX($Q$3:$U$89, SMALL(IF($P$3:$P$89=\"○\", ROW($P$3:$P$89)-ROW($P$3)+1), ROW(D69)), COLUMNS($Q$3:T71)), \"\")","v":""},{"$f":"IFERROR(INDEX($Q$3:$U$89, SMALL(IF($P$3:$P$89=\"○\", ROW($P$3:$P$89)-ROW($P$3)+1), ROW(E69)), COLUMNS($Q$3:U71)), \"\")","v":""}]
[null,null,null,null,null,null,null,null,null,null,null,null,null,null,null,null,{"$f":"IFERROR(INDEX($Q$3:$U$89, SMALL(IF($P$3:$P$89=\"○\", ROW($P$3:$P$89)-ROW($P$3)+1), ROW(A70)), COLUMNS($Q$3:Q72)), \"\")","v":""},{"$f":"IFERROR(INDEX($Q$3:$U$89, SMALL(IF($P$3:$P$89=\"○\", ROW($P$3:$P$89)-ROW($P$3)+1), ROW(B70)), COLUMNS($Q$3:R72)), \"\")","v":""},{"$f":"IFERROR(INDEX($Q$3:$U$89, SMALL(IF($P$3:$P$89=\"○\", ROW($P$3:$P$89)-ROW($P$3)+1), ROW(C70)), COLUMNS($Q$3:S72)), \"\")","v":""},{"$f":"IFERROR(INDEX($Q$3:$U$89, SMALL(IF($P$3:$P$89=\"○\", ROW($P$3:$P$89)-ROW($P$3)+1), ROW(D70)), COLUMNS($Q$3:T72)), \"\")","v":""},{"$f":"IFERROR(INDEX($Q$3:$U$89, SMALL(IF($P$3:$P$89=\"○\", ROW($P$3:$P$89)-ROW($P$3)+1), ROW(E70)), COLUMNS($Q$3:U72)), \"\")","v":""}]
[null,null,null,null,null,null,null,null,null,null,null,null,null,null,null,null,{"$f":"IFERROR(INDEX($Q$3:$U$89, SMALL(IF($P$3:$P$89=\"○\", ROW($P$3:$P$89)-ROW($P$3)+1), ROW(A71)), COLUMNS($Q$3:Q73)), \"\")","v":""},{"$f":"IFERROR(INDEX($Q$3:$U$89, SMALL(IF($P$3:$P$89=\"○\", ROW($P$3:$P$89)-ROW($P$3)+1), ROW(B71)), COLUMNS($Q$3:R73)), \"\")","v":""},{"$f":"IFERROR(INDEX($Q$3:$U$89, SMALL(IF($P$3:$P$89=\"○\", ROW($P$3:$P$89)-ROW($P$3)+1), ROW(C71)), COLUMNS($Q$3:S73)), \"\")","v":""},{"$f":"IFERROR(INDEX($Q$3:$U$89, SMALL(IF($P$3:$P$89=\"○\", ROW($P$3:$P$89)-ROW($P$3)+1), ROW(D71)), COLUMNS($Q$3:T73)), \"\")","v":""},{"$f":"IFERROR(INDEX($Q$3:$U$89, SMALL(IF($P$3:$P$89=\"○\", ROW($P$3:$P$89)-ROW($P$3)+1), ROW(E71)), COLUMNS($Q$3:U73)), \"\")","v":""}]
[null,null,null,null,null,null,null,null,null,null,null,null,null,null,null,null,{"$f":"IFERROR(INDEX($Q$3:$U$89, SMALL(IF($P$3:$P$89=\"○\", ROW($P$3:$P$89)-ROW($P$3)+1), ROW(A72)), COLUMNS($Q$3:Q74)), \"\")","v":""},{"$f":"IFERROR(INDEX($Q$3:$U$89, SMALL(IF($P$3:$P$89=\"○\", ROW($P$3:$P$89)-ROW($P$3)+1), ROW(B72)), COLUMNS($Q$3:R74)), \"\")","v":""},{"$f":"IFERROR(INDEX($Q$3:$U$89, SMALL(IF($P$3:$P$89=\"○\", ROW($P$3:$P$89)-ROW($P$3)+1), ROW(C72)), COLUMNS($Q$3:S74)), \"\")","v":""},{"$f":"IFERROR(INDEX($Q$3:$U$89, SMALL(IF($P$3:$P$89=\"○\", ROW($P$3:$P$89)-ROW($P$3)+1), ROW(D72)), COLUMNS($Q$3:T74)), \"\")","v":""},{"$f":"IFERROR(INDEX($Q$3:$U$89, SMALL(IF($P$3:$P$89=\"○\", ROW($P$3:$P$89)-ROW($P$3)+1), ROW(E72)), COLUMNS($Q$3:U74)), \"\")","v":""}]
[null,null,null,null,null,null,null,null,null,null,null,null,null,null,null,null,{"$f":"IFERROR(INDEX($Q$3:$U$89, SMALL(IF($P$3:$P$89=\"○\", ROW($P$3:$P$89)-ROW($P$3)+1), ROW(A73)), COLUMNS($Q$3:Q75)), \"\")","v":""},{"$f":"IFERROR(INDEX($Q$3:$U$89, SMALL(IF($P$3:$P$89=\"○\", ROW($P$3:$P$89)-ROW($P$3)+1), ROW(B73)), COLUMNS($Q$3:R75)), \"\")","v":""},{"$f":"IFERROR(INDEX($Q$3:$U$89, SMALL(IF($P$3:$P$89=\"○\", ROW($P$3:$P$89)-ROW($P$3)+1), ROW(C73)), COLUMNS($Q$3:S75)), \"\")","v":""},{"$f":"IFERROR(INDEX($Q$3:$U$89, SMALL(IF($P$3:$P$89=\"○\", ROW($P$3:$P$89)-ROW($P$3)+1), ROW(D73)), COLUMNS($Q$3:T75)), \"\")","v":""},{"$f":"IFERROR(INDEX($Q$3:$U$89, SMALL(IF($P$3:$P$89=\"○\", ROW($P$3:$P$89)-ROW($P$3)+1), ROW(E73)), COLUMNS($Q$3:U75)), \"\")","v":""}]
[null,null,null,null,null,null,null,null,null,null,null,null,null,null,null,null,{"$f":"IFERROR(INDEX($Q$3:$U$89, SMALL(IF($P$3:$P$89=\"○\", ROW($P$3:$P$89)-ROW($P$3)+1), ROW(A74)), COLUMNS($Q$3:Q76)), \"\")","v":""},{"$f":"IFERROR(INDEX($Q$3:$U$89, SMALL(IF($P$3:$P$89=\"○\", ROW($P$3:$P$89)-ROW($P$3)+1), ROW(B74)), COLUMNS($Q$3:R76)), \"\")","v":""},{"$f":"IFERROR(INDEX($Q$3:$U$89, SMALL(IF($P$3:$P$89=\"○\", ROW($P$3:$P$89)-ROW($P$3)+1), ROW(C74)), COLUMNS($Q$3:S76)), \"\")","v":""},{"$f":"IFERROR(INDEX($Q$3:$U$89, SMALL(IF($P$3:$P$89=\"○\", ROW($P$3:$P$89)-ROW($P$3)+1), ROW(D74)), COLUMNS($Q$3:T76)), \"\")","v":""},{"$f":"IFERROR(INDEX($Q$3:$U$89, SMALL(IF($P$3:$P$89=\"○\", ROW($P$3:$P$89)-ROW($P$3)+1), ROW(E74)), COLUMNS($Q$3:U76)), \"\")","v":""}]
[null,null,null,null,null,null,null,null,null,null,null,null,null,null,null,null,{"$f":"IFERROR(INDEX($Q$3:$U$89, SMALL(IF($P$3:$P$89=\"○\", ROW($P$3:$P$89)-ROW($P$3)+1), ROW(A75)), COLUMNS($Q$3:Q77)), \"\")","v":""},{"$f":"IFERROR(INDEX($Q$3:$U$89, SMALL(IF($P$3:$P$89=\"○\", ROW($P$3:$P$89)-ROW($P$3)+1), ROW(B75)), COLUMNS($Q$3:R77)), \"\")","v":""},{"$f":"IFERROR(INDEX($Q$3:$U$89, SMALL(IF($P$3:$P$89=\"○\", ROW($P$3:$P$89)-ROW($P$3)+1), ROW(C75)), COLUMNS($Q$3:S77)), \"\")","v":""},{"$f":"IFERROR(INDEX($Q$3:$U$89, SMALL(IF($P$3:$P$89=\"○\", ROW($P$3:$P$89)-ROW($P$3)+1), ROW(D75)), COLUMNS($Q$3:T77)), \"\")","v":""},{"$f":"IFERROR(INDEX($Q$3:$U$89, SMALL(IF($P$3:$P$89=\"○\", ROW($P$3:$P$89)-ROW($P$3)+1), ROW(E75)), COLUMNS($Q$3:U77)), \"\")","v":""}]
[null,null,null,null,null,null,null,null,null,null,null,null,null,null,null,null,{"$f":"IFERROR(INDEX($Q$3:$U$89, SMALL(IF($P$3:$P$89=\"○\", ROW($P$3:$P$89)-ROW($P$3)+1), ROW(A76)), COLUMNS($Q$3:Q78)), \"\")","v":""},{"$f":"IFERROR(INDEX($Q$3:$U$89, SMALL(IF($P$3:$P$89=\"○\", ROW($P$3:$P$89)-ROW($P$3)+1), ROW(B76)), COLUMNS($Q$3:R78)), \"\")","v":""},{"$f":"IFERROR(INDEX($Q$3:$U$89, SMALL(IF($P$3:$P$89=\"○\", ROW($P$3:$P$89)-ROW($P$3)+1), ROW(C76)), COLUMNS($Q$3:S78)), \"\")","v":""},{"$f":"IFERROR(INDEX($Q$3:$U$89, SMALL(IF($P$3:$P$89=\"○\", ROW($P$3:$P$89)-ROW($P$3)+1), ROW(D76)), COLUMNS($Q$3:T78)), \"\")","v":""},{"$f":"IFERROR(INDEX($Q$3:$U$89, SMALL(IF($P$3:$P$89=\"○\", ROW($P$3:$P$89)-ROW($P$3)+1), ROW(E76)), COLUMNS($Q$3:U78)), \"\")","v":""}]
[null,null,null,null,null,null,null,null,null,null,null,null,null,null,null,null,{"$f":"IFERROR(INDEX($Q$3:$U$89, SMALL(IF($P$3:$P$89=\"○\", ROW($P$3:$P$89)-ROW($P$3)+1), ROW(A77)), COLUMNS($Q$3:Q79)), \"\")","v":""},{"$f":"IFERROR(INDEX($Q$3:$U$89, SMALL(IF($P$3:$P$89=\"○\", ROW($P$3:$P$89)-ROW($P$3)+1), ROW(B77)), COLUMNS($Q$3:R79)), \"\")","v":""},{"$f":"IFERROR(INDEX($Q$3:$U$89, SMALL(IF($P$3:$P$89=\"○\", ROW($P$3:$P$89)-ROW($P$3)+1), ROW(C77)), COLUMNS($Q$3:S79)), \"\")","v":""},{"$f":"IFERROR(INDEX($Q$3:$U$89, SMALL(IF($P$3:$P$89=\"○\", ROW($P$3:$P$89)-ROW($P$3)+1), ROW(D77)), COLUMNS($Q$3:T79)), \"\")","v":""},{"$f":"IFERROR(INDEX($Q$3:$U$89, SMALL(IF($P$3:$P$89=\"○\", ROW($P$3:$P$89)-ROW($P$3)+1), ROW(E77)), COLUMNS($Q$3:U79)), \"\")","v":""}]
[null,null,null,null,null,null,null,null,null,null,null,null,null,null,null,null,{"$f":"IFERROR(INDEX($Q$3:$U$89, SMALL(IF($P$3:$P$89=\"○\", ROW($P$3:$P$89)-ROW($P$3)+1), ROW(A78)), COLUMNS($Q$3:Q80)), \"\")","v":""},{"$f":"IFERROR(INDEX($Q$3:$U$89, SMALL(IF($P$3:$P$89=\"○\", ROW($P$3:$P$89)-ROW($P$3)+1), ROW(B78)), COLUMNS($Q$3:R80)), \"\")","v":""},{"$f":"IFERROR(INDEX($Q$3:$U$89, SMALL(IF($P$3:$P$89=\"○\", ROW($P$3:$P$89)-ROW($P$3)+1), ROW(C78)), COLUMNS($Q$3:S80)), \"\")","v":""},{"$f":"IFERROR(INDEX($Q$3:$U$89, SMALL(IF($P$3:$P$89=\"○\", ROW($P$3:$P$89)-ROW($P$3)+1), ROW(D78)), COLUMNS($Q$3:T80)), \"\")","v":""},{"$f":"IFERROR(INDEX($Q$3:$U$89, SMALL(IF($P$3:$P$89=\"○\", ROW($P$3:$P$89)-ROW($P$3)+1), ROW(E78)), COLUMNS($Q$3:U80)), \"\")","v":""}]
[null,null,null,null,null,null,null,null,null,null,null,null,null,null,null,null,{"$f":"IFERROR(INDEX($Q$3:$U$89, SMALL(IF($P$3:$P$89=\"○\", ROW($P$3:$P$89)-ROW($P$3)+1), ROW(A79)), COLUMNS($Q$3:Q81)), \"\")","v":""},{"$f":"IFERROR(INDEX($Q$3:$U$89, SMALL(IF($P$3:$P$89=\"○\", ROW($P$3:$P$89)-ROW($P$3)+1), ROW(B79)), COLUMNS($Q$3:R81)), \"\")","v":""},{"$f":"IFERROR(INDEX($Q$3:$U$89, SMALL(IF($P$3:$P$89=\"○\", ROW($P$3:$P$89)-ROW($P$3)+1), ROW(C79)), COLUMNS($Q$3:S81)), \"\")","v":""},{"$f":"IFERROR(INDEX($Q$3:$U$89, SMALL(IF($P$3:$P$89=\"○\", ROW($P$3:$P$89)-ROW($P$3)+1), ROW(D79)), COLUMNS($Q$3:T81)), \"\")","v":""},{"$f":"IFERROR(INDEX($Q$3:$U$89, SMALL(IF($P$3:$P$89=\"○\", ROW($P$3:$P$89)-ROW($P$3)+1), ROW(E79)), COLUMNS($Q$3:U81)), \"\")","v":""}]
[null,null,null,null,null,null,null,null,null,null,null,null,null,null,null,null,{"$f":"IFERROR(INDEX($Q$3:$U$89, SMALL(IF($P$3:$P$89=\"○\", ROW($P$3:$P$89)-ROW($P$3)+1), ROW(A80)), COLUMNS($Q$3:Q82)), \"\")","v":""},{"$f":"IFERROR(INDEX($Q$3:$U$89, SMALL(IF($P$3:$P$89=\"○\", ROW($P$3:$P$89)-ROW($P$3)+1), ROW(B80)), COLUMNS($Q$3:R82)), \"\")","v":""},{"$f":"IFERROR(INDEX($Q$3:$U$89, SMALL(IF($P$3:$P$89=\"○\", ROW($P$3:$P$89)-ROW($P$3)+1), ROW(C80)), COLUMNS($Q$3:S82)), \"\")","v":""},{"$f":"IFERROR(INDEX($Q$3:$U$89, SMALL(IF($P$3:$P$89=\"○\", ROW($P$3:$P$89)-ROW($P$3)+1), ROW(D80)), COLUMNS($Q$3:T82)), \"\")","v":""},{"$f":"IFERROR(INDEX($Q$3:$U$89, SMALL(IF($P$3:$P$89=\"○\", ROW($P$3:$P$89)-ROW($P$3)+1), ROW(E80)), COLUMNS($Q$3:U82)), \"\")","v":""}]
[null,null,null,null,null,null,null,null,null,null,null,null,null,null,null,null,{"$f":"IFERROR(INDEX($Q$3:$U$89, SMALL(IF($P$3:$P$89=\"○\", ROW($P$3:$P$89)-ROW($P$3)+1), ROW(A81)), COLUMNS($Q$3:Q83)), \"\")","v":""},{"$f":"IFERROR(INDEX($Q$3:$U$89, SMALL(IF($P$3:$P$89=\"○\", ROW($P$3:$P$89)-ROW($P$3)+1), ROW(B81)), COLUMNS($Q$3:R83)), \"\")","v":""},{"$f":"IFERROR(INDEX($Q$3:$U$89, SMALL(IF($P$3:$P$89=\"○\", ROW($P$3:$P$89)-ROW($P$3)+1), ROW(C81)), COLUMNS($Q$3:S83)), \"\")","v":""},{"$f":"IFERROR(INDEX($Q$3:$U$89, SMALL(IF($P$3:$P$89=\"○\", ROW($P$3:$P$89)-ROW($P$3)+1), ROW(D81)), COLUMNS($Q$3:T83)), \"\")","v":""},{"$f":"IFERROR(INDEX($Q$3:$U$89, SMALL(IF($P$3:$P$89=\"○\", ROW($P$3:$P$89)-ROW($P$3)+1), ROW(E81)), COLUMNS($Q$3:U83)), \"\")","v":""}]
[null,null,null,null,null,null,null,null,null,null,null,null,null,null,null,null,{"$f":"IFERROR(INDEX($Q$3:$U$89, SMALL(IF($P$3:$P$89=\"○\", ROW($P$3:$P$89)-ROW($P$3)+1), ROW(A82)), COLUMNS($Q$3:Q84)), \"\")","v":""},{"$f":"IFERROR(INDEX($Q$3:$U$89, SMALL(IF($P$3:$P$89=\"○\", ROW($P$3:$P$89)-ROW($P$3)+1), ROW(B82)), COLUMNS($Q$3:R84)), \"\")","v":""},{"$f":"IFERROR(INDEX($Q$3:$U$89, SMALL(IF($P$3:$P$89=\"○\", ROW($P$3:$P$89)-ROW($P$3)+1), ROW(C82)), COLUMNS($Q$3:S84)), \"\")","v":""},{"$f":"IFERROR(INDEX($Q$3:$U$89, SMALL(IF($P$3:$P$89=\"○\", ROW($P$3:$P$89)-ROW($P$3)+1), ROW(D82)), COLUMNS($Q$3:T84)), \"\")","v":""},{"$f":"IFERROR(INDEX($Q$3:$U$89, SMALL(IF($P$3:$P$89=\"○\", ROW($P$3:$P$89)-ROW($P$3)+1), ROW(E82)), COLUMNS($Q$3:U84)), \"\")","v":""}]
[null,null,null,null,null,null,null,null,null,null,null,null,null,null,null,null,{"$f":"IFERROR(INDEX($Q$3:$U$89, SMALL(IF($P$3:$P$89=\"○\", ROW($P$3:$P$89)-ROW($P$3)+1), ROW(A83)), COLUMNS($Q$3:Q85)), \"\")","v":""},{"$f":"IFERROR(INDEX($Q$3:$U$89, SMALL(IF($P$3:$P$89=\"○\", ROW($P$3:$P$89)-ROW($P$3)+1), ROW(B83)), COLUMNS($Q$3:R85)), \"\")","v":""},{"$f":"IFERROR(INDEX($Q$3:$U$89, SMALL(IF($P$3:$P$89=\"○\", ROW($P$3:$P$89)-ROW($P$3)+1), ROW(C83)), COLUMNS($Q$3:S85)), \"\")","v":""},{"$f":"IFERROR(INDEX($Q$3:$U$89, SMALL(IF($P$3:$P$89=\"○\", ROW($P$3:$P$89)-ROW($P$3)+1), ROW(D83)), COLUMNS($Q$3:T85)), \"\")","v":""},{"$f":"IFERROR(INDEX($Q$3:$U$89, SMALL(IF($P$3:$P$89=\"○\", ROW($P$3:$P$89)-ROW($P$3)+1), ROW(E83)), COLUMNS($Q$3:U85)), \"\")","v":""}]
[null,null,null,null,null,null,null,null,null,null,null,null,null,null,null,null,{"$f":"IFERROR(INDEX($Q$3:$U$89, SMALL(IF($P$3:$P$89=\"○\", ROW($P$3:$P$89)-ROW($P$3)+1), ROW(A84)), COLUMNS($Q$3:Q86)), \"\")","v":""},{"$f":"IFERROR(INDEX($Q$3:$U$89, SMALL(IF($P$3:$P$89=\"○\", ROW($P$3:$P$89)-ROW($P$3)+1), ROW(B84)), COLUMNS($Q$3:R86)), \"\")","v":""},{"$f":"IFERROR(INDEX($Q$3:$U$89, SMALL(IF($P$3:$P$89=\"○\", ROW($P$3:$P$89)-ROW($P$3)+1), ROW(C84)), COLUMNS($Q$3:S86)), \"\")","v":""},{"$f":"IFERROR(INDEX($Q$3:$U$89, SMALL(IF($P$3:$P$89=\"○\", ROW($P$3:$P$89)-ROW($P$3)+1), ROW(D84)), COLUMNS($Q$3:T86)), \"\")","v":""},{"$f":"IFERROR(INDEX($Q$3:$U$89, SMALL(IF($P$3:$P$89=\"○\", ROW($P$3:$P$89)-ROW($P$3)+1), ROW(E84)), COLUMNS($Q$3:U86)), \"\")","v":""}]
[null,null,null,null,null,null,null,null,null,null,null,null,null,null,null,null,{"$f":"IFERROR(INDEX($Q$3:$U$89, SMALL(IF($P$3:$P$89=\"○\", ROW($P$3:$P$89)-ROW($P$3)+1), ROW(A85)), COLUMNS($Q$3:Q87)), \"\")","v":""},{"$f":"IFERROR(INDEX($Q$3:$U$89, SMALL(IF($P$3:$P$89=\"○\", ROW($P$3:$P$89)-ROW($P$3)+1), ROW(B85)), COLUMNS($Q$3:R87)), \"\")","v":""},{"$f":"IFERROR(INDEX($Q$3:$U$89, SMALL(IF($P$3:$P$89=\"○\", ROW($P$3:$P$89)-ROW($P$3)+1), ROW(C85)), COLUMNS($Q$3:S87)), \"\")","v":""},{"$f":"IFERROR(INDEX($Q$3:$U$89, SMALL(IF($P$3:$P$89=\"○\", ROW($P$3:$P$89)-ROW($P$3)+1), ROW(D85)), COLUMNS($Q$3:T87)), \"\")","v":""},{"$f":"IFERROR(INDEX($Q$3:$U$89, SMALL(IF($P$3:$P$89=\"○\", ROW($P$3:$P$89)-ROW($P$3)+1), ROW(E85)), COLUMNS($Q$3:U87)), \"\")","v":""}]
[null,null,null,null,null,null,null,null,null,null,null,null,null,null,null,null,{"$f":"IFERROR(INDEX($Q$3:$U$89, SMALL(IF($P$3:$P$89=\"○\", ROW($P$3:$P$89)-ROW($P$3)+1), ROW(A86)), COLUMNS($Q$3:Q88)), \"\")","v":""},{"$f":"IFERROR(INDEX($Q$3:$U$89, SMALL(IF($P$3:$P$89=\"○\", ROW($P$3:$P$89)-ROW($P$3)+1), ROW(B86)), COLUMNS($Q$3:R88)), \"\")","v":""},{"$f":"IFERROR(INDEX($Q$3:$U$89, SMALL(IF($P$3:$P$89=\"○\", ROW($P$3:$P$89)-ROW($P$3)+1), ROW(C86)), COLUMNS($Q$3:S88)), \"\")","v":""},{"$f":"IFERROR(INDEX($Q$3:$U$89, SMALL(IF($P$3:$P$89=\"○\", ROW($P$3:$P$89)-ROW($P$3)+1), ROW(D86)), COLUMNS($Q$3:T88)), \"\")","v":""},{"$f":"IFERROR(INDEX($Q$3:$U$89, SMALL(IF($P$3:$P$89=\"○\", ROW($P$3:$P$89)-ROW($P$3)+1), ROW(E86)), COLUMNS($Q$3:U88)), \"\")","v":""}]
[null,null,null,null,null,null,null,null,null,null,null,null,null,null,null,null,{"$f":"IFERROR(INDEX($Q$3:$U$89, SMALL(IF($P$3:$P$89=\"○\", ROW($P$3:$P$89)-ROW($P$3)+1), ROW(A87)), COLUMNS($Q$3:Q89)), \"\")","v":""},{"$f":"IFERROR(INDEX($Q$3:$U$89, SMALL(IF($P$3:$P$89=\"○\", ROW($P$3:$P$89)-ROW($P$3)+1), ROW(B87)), COLUMNS($Q$3:R89)), \"\")","v":""},{"$f":"IFERROR(INDEX($Q$3:$U$89, SMALL(IF($P$3:$P$89=\"○\", ROW($P$3:$P$89)-ROW($P$3)+1), ROW(C87)), COLUMNS($Q$3:S89)), \"\")","v":""},{"$f":"IFERROR(INDEX($Q$3:$U$89, SMALL(IF($P$3:$P$89=\"○\", ROW($P$3:$P$89)-ROW($P$3)+1), ROW(D87)), COLUMNS($Q$3:T89)), \"\")","v":""},{"$f":"IFERROR(INDEX($Q$3:$U$89, SMALL(IF($P$3:$P$89=\"○\", ROW($P$3:$P$89)-ROW($P$3)+1), ROW(E87)), COLUMNS($Q$3:U89)), \"\")","v":""}]
[null,null,null,null,null,null,null,null,null,null,null,null,null,null,null,null,{"$f":"IFERROR(INDEX($Q$3:$U$89, SMALL(IF($P$3:$P$89=\"○\", ROW($P$3:$P$89)-ROW($P$3)+1), ROW(A88)), COLUMNS($Q$3:Q90)), \"\")","v":""},{"$f":"IFERROR(INDEX($Q$3:$U$89, SMALL(IF($P$3:$P$89=\"○\", ROW($P$3:$P$89)-ROW($P$3)+1), ROW(B88)), COLUMNS($Q$3:R90)), \"\")","v":""},{"$f":"IFERROR(INDEX($Q$3:$U$89, SMALL(IF($P$3:$P$89=\"○\", ROW($P$3:$P$89)-ROW($P$3)+1), ROW(C88)), COLUMNS($Q$3:S90)), \"\")","v":""},{"$f":"IFERROR(INDEX($Q$3:$U$89, SMALL(IF($P$3:$P$89=\"○\", ROW($P$3:$P$89)-ROW($P$3)+1), ROW(D88)), COLUMNS($Q$3:T90)), \"\")","v":""},{"$f":"IFERROR(INDEX($Q$3:$U$89, SMALL(IF($P$3:$P$89=\"○\", ROW($P$3:$P$89)-ROW($P$3)+1), ROW(E88)), COLUMNS($Q$3:U90)), \"\")","v":""}]
[null,null,null,null,null,null,null,null,null,null,null,null,null,null,null,null,{"$f":"IFERROR(INDEX($Q$3:$U$89, SMALL(IF($P$3:$P$89=\"○\", ROW($P$3:$P$89)-ROW($P$3)+1), ROW(A89)), COLUMNS($Q$3:Q91)), \"\")","v":""},{"$f":"IFERROR(INDEX($Q$3:$U$89, SMALL(IF($P$3:$P$89=\"○\", ROW($P$3:$P$89)-ROW($P$3)+1), ROW(B89)), COLUMNS($Q$3:R91)), \"\")","v":""},{"$f":"IFERROR(INDEX($Q$3:$U$89, SMALL(IF($P$3:$P$89=\"○\", ROW($P$3:$P$89)-ROW($P$3)+1), ROW(C89)), COLUMNS($Q$3:S91)), \"\")","v":""},{"$f":"IFERROR(INDEX($Q$3:$U$89, SMALL(IF($P$3:$P$89=\"○\", ROW($P$3:$P$89)-ROW($P$3)+1), ROW(D89)), COLUMNS($Q$3:T91)), \"\")","v":""},{"$f":"IFERROR(INDEX($Q$3:$U$89, SMALL(IF($P$3:$P$89=\"○\", ROW($P$3:$P$89)-ROW($P$3)+1), ROW(E89)), COLUMNS($Q$3:U91)), \"\")","v":""}]
[null,null,null,null,null,null,null,null,null,null,null,null,null,null,null,null,{"$f":"IFERROR(INDEX($Q$3:$U$89, SMALL(IF($P$3:$P$89=\"○\", ROW($P$3:$P$89)-ROW($P$3)+1), ROW(A90)), COLUMNS($Q$3:Q92)), \"\")","v":""},{"$f":"IFERROR(INDEX($Q$3:$U$89, SMALL(IF($P$3:$P$89=\"○\", ROW($P$3:$P$89)-ROW($P$3)+1), ROW(B90)), COLUMNS($Q$3:R92)), \"\")","v":""},{"$f":"IFERROR(INDEX($Q$3:$U$89, SMALL(IF($P$3:$P$89=\"○\", ROW($P$3:$P$89)-ROW($P$3)+1), ROW(C90)), COLUMNS($Q$3:S92)), \"\")","v":""},{"$f":"IFERROR(INDEX($Q$3:$U$89, SMALL(IF($P$3:$P$89=\"○\", ROW($P$3:$P$89)-ROW($P$3)+1), ROW(D90)), COLUMNS($Q$3:T92)), \"\")","v":""},{"$f":"IFERROR(INDEX($Q$3:$U$89, SMALL(IF($P$3:$P$89=\"○\", ROW($P$3:$P$89)-ROW($P$3)+1), ROW(E90)), COLUMNS($Q$3:U92)), \"\")","v":""}]
[null,null,null,null,null,null,null,null,null,null,null,null,null,null,null,null,{"$f":"IFERROR(INDEX($Q$3:$U$89, SMALL(IF($P$3:$P$89=\"○\", ROW($P$3:$P$89)-ROW($P$3)+1), ROW(A91)), COLUMNS($Q$3:Q93)), \"\")","v":""},{"$f":"IFERROR(INDEX($Q$3:$U$89, SMALL(IF($P$3:$P$89=\"○\", ROW($P$3:$P$89)-ROW($P$3)+1), ROW(B91)), COLUMNS($Q$3:R93)), \"\")","v":""},{"$f":"IFERROR(INDEX($Q$3:$U$89, SMALL(IF($P$3:$P$89=\"○\", ROW($P$3:$P$89)-ROW($P$3)+1), ROW(C91)), COLUMNS($Q$3:S93)), \"\")","v":""},{"$f":"IFERROR(INDEX($Q$3:$U$89, SMALL(IF($P$3:$P$89=\"○\", ROW($P$3:$P$89)-ROW($P$3)+1), ROW(D91)), COLUMNS($Q$3:T93)), \"\")","v":""},{"$f":"IFERROR(INDEX($Q$3:$U$89, SMALL(IF($P$3:$P$89=\"○\", ROW($P$3:$P$89)-ROW($P$3)+1), ROW(E91)), COLUMNS($Q$3:U93)), \"\")","v":""}]
[null,null,null,null,null,null,null,null,null,null,null,null,null,null,null,null,{"$f":"IFERROR(INDEX($Q$3:$U$89, SMALL(IF($P$3:$P$89=\"○\", ROW($P$3:$P$89)-ROW($P$3)+1), ROW(A92)), COLUMNS($Q$3:Q94)), \"\")","v":""},{"$f":"IFERROR(INDEX($Q$3:$U$89, SMALL(IF($P$3:$P$89=\"○\", ROW($P$3:$P$89)-ROW($P$3)+1), ROW(B92)), COLUMNS($Q$3:R94)), \"\")","v":""},{"$f":"IFERROR(INDEX($Q$3:$U$89, SMALL(IF($P$3:$P$89=\"○\", ROW($P$3:$P$89)-ROW($P$3)+1), ROW(C92)), COLUMNS($Q$3:S94)), \"\")","v":""},{"$f":"IFERROR(INDEX($Q$3:$U$89, SMALL(IF($P$3:$P$89=\"○\", ROW($P$3:$P$89)-ROW($P$3)+1), ROW(D92)), COLUMNS($Q$3:T94)), \"\")","v":""},{"$f":"IFERROR(INDEX($Q$3:$U$89, SMALL(IF($P$3:$P$89=\"○\", ROW($P$3:$P$89)-ROW($P$3)+1), ROW(E92)), COLUMNS($Q$3:U94)), \"\")","v":""}]
[null,null,null,null,null,null,null,null,null,null,null,null,null,null,null,null,{"$f":"IFERROR(INDEX($Q$3:$U$89, SMALL(IF($P$3:$P$89=\"○\", ROW($P$3:$P$89)-ROW($P$3)+1), ROW(A93)), COLUMNS($Q$3:Q95)), \"\")","v":""},{"$f":"IFERROR(INDEX($Q$3:$U$89, SMALL(IF($P$3:$P$89=\"○\", ROW($P$3:$P$89)-ROW($P$3)+1), ROW(B93)), COLUMNS($Q$3:R95)), \"\")","v":""},{"$f":"IFERROR(INDEX($Q$3:$U$89, SMALL(IF($P$3:$P$89=\"○\", ROW($P$3:$P$89)-ROW($P$3)+1), ROW(C93)), COLUMNS($Q$3:S95)), \"\")","v":""},{"$f":"IFERROR(INDEX($Q$3:$U$89, SMALL(IF($P$3:$P$89=\"○\", ROW($P$3:$P$89)-ROW($P$3)+1), ROW(D93)), COLUMNS($Q$3:T95)), \"\")","v":""},{"$f":"IFERROR(INDEX($Q$3:$U$89, SMALL(IF($P$3:$P$89=\"○\", ROW($P$3:$P$89)-ROW($P$3)+1), ROW(E93)), COLUMNS($Q$3:U95)), \"\")","v":""}]
[null,null,null,null,null,null,null,null,null,null,null,null,null,null,null,null,{"$f":"IFERROR(INDEX($Q$3:$U$89, SMALL(IF($P$3:$P$89=\"○\", ROW($P$3:$P$89)-ROW($P$3)+1), ROW(A94)), COLUMNS($Q$3:Q96)), \"\")","v":""},{"$f":"IFERROR(INDEX($Q$3:$U$89, SMALL(IF($P$3:$P$89=\"○\", ROW($P$3:$P$89)-ROW($P$3)+1), ROW(B94)), COLUMNS($Q$3:R96)), \"\")","v":""},{"$f":"IFERROR(INDEX($Q$3:$U$89, SMALL(IF($P$3:$P$89=\"○\", ROW($P$3:$P$89)-ROW($P$3)+1), ROW(C94)), COLUMNS($Q$3:S96)), \"\")","v":""},{"$f":"IFERROR(INDEX($Q$3:$U$89, SMALL(IF($P$3:$P$89=\"○\", ROW($P$3:$P$89)-ROW($P$3)+1), ROW(D94)), COLUMNS($Q$3:T96)), \"\")","v":""},{"$f":"IFERROR(INDEX($Q$3:$U$89, SMALL(IF($P$3:$P$89=\"○\", ROW($P$3:$P$89)-ROW($P$3)+1), ROW(E94)), COLUMNS($Q$3:U96)), \"\")","v":""}]
[null,null,null,null,null,null,null,null,null,null,null,null,null,null,null,null,{"$f":"IFERROR(INDEX($Q$3:$U$89, SMALL(IF($P$3:$P$89=\"○\", ROW($P$3:$P$89)-ROW($P$3)+1), ROW(A95)), COLUMNS($Q$3:Q97)), \"\")","v":""},{"$f":"IFERROR(INDEX($Q$3:$U$89, SMALL(IF($P$3:$P$89=\"○\", ROW($P$3:$P$89)-ROW($P$3)+1), ROW(B95)), COLUMNS($Q$3:R97)), \"\")","v":""},{"$f":"IFERROR(INDEX($Q$3:$U$89, SMALL(IF($P$3:$P$89=\"○\", ROW($P$3:$P$89)-ROW($P$3)+1), ROW(C95)), COLUMNS($Q$3:S97)), \"\")","v":""},{"$f":"IFERROR(INDEX($Q$3:$U$89, SMALL(IF($P$3:$P$89=\"○\", ROW($P$3:$P$89)-ROW($P$3)+1), ROW(D95)), COLUMNS($Q$3:T97)), \"\")","v":""},{"$f":"IFERROR(INDEX($Q$3:$U$89, SMALL(IF($P$3:$P$89=\"○\", ROW($P$3:$P$89)-ROW($P$3)+1), ROW(E95)), COLUMNS($Q$3:U97)), \"\")","v":""}]
[null,null,null,null,null,null,null,null,null,null,null,null,null,null,null,null,{"$f":"IFERROR(INDEX($Q$3:$U$89, SMALL(IF($P$3:$P$89=\"○\", ROW($P$3:$P$89)-ROW($P$3)+1), ROW(A96)), COLUMNS($Q$3:Q98)), \"\")","v":""},{"$f":"IFERROR(INDEX($Q$3:$U$89, SMALL(IF($P$3:$P$89=\"○\", ROW($P$3:$P$89)-ROW($P$3)+1), ROW(B96)), COLUMNS($Q$3:R98)), \"\")","v":""},{"$f":"IFERROR(INDEX($Q$3:$U$89, SMALL(IF($P$3:$P$89=\"○\", ROW($P$3:$P$89)-ROW($P$3)+1), ROW(C96)), COLUMNS($Q$3:S98)), \"\")","v":""},{"$f":"IFERROR(INDEX($Q$3:$U$89, SMALL(IF($P$3:$P$89=\"○\", ROW($P$3:$P$89)-ROW($P$3)+1), ROW(D96)), COLUMNS($Q$3:T98)), \"\")","v":""},{"$f":"IFERROR(INDEX($Q$3:$U$89, SMALL(IF($P$3:$P$89=\"○\", ROW($P$3:$P$89)-ROW($P$3)+1), ROW(E96)), COLUMNS($Q$3:U98)), \"\")","v":""}]
[null,null,null,null,null,null,null,null,null,null,null,null,null,null,null,null,{"$f":"IFERROR(INDEX($Q$3:$U$89, SMALL(IF($P$3:$P$89=\"○\", ROW($P$3:$P$89)-ROW($P$3)+1), ROW(A97)), COLUMNS($Q$3:Q99)), \"\")","v":""},{"$f":"IFERROR(INDEX($Q$3:$U$89, SMALL(IF($P$3:$P$89=\"○\", ROW($P$3:$P$89)-ROW($P$3)+1), ROW(B97)), COLUMNS($Q$3:R99)), \"\")","v":""},{"$f":"IFERROR(INDEX($Q$3:$U$89, SMALL(IF($P$3:$P$89=\"○\", ROW($P$3:$P$89)-ROW($P$3)+1), ROW(C97)), COLUMNS($Q$3:S99)), \"\")","v":""},{"$f":"IFERROR(INDEX($Q$3:$U$89, SMALL(IF($P$3:$P$89=\"○\", ROW($P$3:$P$89)-ROW($P$3)+1), ROW(D97)), COLUMNS($Q$3:T99)), \"\")","v":""},{"$f":"IFERROR(INDEX($Q$3:$U$89, SMALL(IF($P$3:$P$89=\"○\", ROW($P$3:$P$89)-ROW($P$3)+1), ROW(E97)), COLUMNS($Q$3:U99)), \"\")","v":""}]
[null,null,null,null,null,null,null,null,null,null,null,null,null,null,null,null,{"$f":"IFERROR(INDEX($Q$3:$U$89, SMALL(IF($P$3:$P$89=\"○\", ROW($P$3:$P$89)-ROW($P$3)+1), ROW(A98)), COLUMNS($Q$3:Q100)), \"\")","v":""},{"$f":"IFERROR(INDEX($Q$3:$U$89, SMALL(IF($P$3:$P$89=\"○\", ROW($P$3:$P$89)-ROW($P$3)+1), ROW(B98)), COLUMNS($Q$3:R100)), \"\")","v":""},{"$f":"IFERROR(INDEX($Q$3:$U$89, SMALL(IF($P$3:$P$89=\"○\", ROW($P$3:$P$89)-ROW($P$3)+1), ROW(C98)), COLUMNS($Q$3:S100)), \"\")","v":""},{"$f":"IFERROR(INDEX($Q$3:$U$89, SMALL(IF($P$3:$P$89=\"○\", ROW($P$3:$P$89)-ROW($P$3)+1), ROW(D98)), COLUMNS($Q$3:T100)), \"\")","v":""},{"$f":"IFERROR(INDEX($Q$3:$U$89, SMALL(IF($P$3:$P$89=\"○\", ROW($P$3:$P$89)-ROW($P$3)+1), ROW(E98)), COLUMNS($Q$3:U100)), \"\")","v":""}]
[null,null,null,null,null,null,null,null,null,null,null,null,null,null,null,null,{"$f":"IFERROR(INDEX($Q$3:$U$89, SMALL(IF($P$3:$P$89=\"○\", ROW($P$3:$P$89)-ROW($P$3)+1), ROW(A99)), COLUMNS($Q$3:Q101)), \"\")","v":""},{"$f":"IFERROR(INDEX($Q$3:$U$89, SMALL(IF($P$3:$P$89=\"○\", ROW($P$3:$P$89)-ROW($P$3)+1), ROW(B99)), COLUMNS($Q$3:R101)), \"\")","v":""},{"$f":"IFERROR(INDEX($Q$3:$U$89, SMALL(IF($P$3:$P$89=\"○\", ROW($P$3:$P$89)-ROW($P$3)+1), ROW(C99)), COLUMNS($Q$3:S101)), \"\")","v":""},{"$f":"IFERROR(INDEX($Q$3:$U$89, SMALL(IF($P$3:$P$89=\"○\", ROW($P$3:$P$89)-ROW($P$3)+1), ROW(D99)), COLUMNS($Q$3:T101)), \"\")","v":""},{"$f":"IFERROR(INDEX($Q$3:$U$89, SMALL(IF($P$3:$P$89=\"○\", ROW($P$3:$P$89)-ROW($P$3)+1), ROW(E99)), COLUMNS($Q$3:U101)), \"\")","v":""}]
[null,null,null,null,null,null,null,null,null,null,null,null,null,null,null,null,{"$f":"IFERROR(INDEX($Q$3:$U$89, SMALL(IF($P$3:$P$89=\"○\", ROW($P$3:$P$89)-ROW($P$3)+1), ROW(A100)), COLUMNS($Q$3:Q102)), \"\")","v":""},{"$f":"IFERROR(INDEX($Q$3:$U$89, SMALL(IF($P$3:$P$89=\"○\", ROW($P$3:$P$89)-ROW($P$3)+1), ROW(B100)), COLUMNS($Q$3:R102)), \"\")","v":""},{"$f":"IFERROR(INDEX($Q$3:$U$89, SMALL(IF($P$3:$P$89=\"○\", ROW($P$3:$P$89)-ROW($P$3)+1), ROW(C100)), COLUMNS($Q$3:S102)), \"\")","v":""},{"$f":"IFERROR(INDEX($Q$3:$U$89, SMALL(IF($P$3:$P$89=\"○\", ROW($P$3:$P$89)-ROW($P$3)+1), ROW(D100)), COLUMNS($Q$3:T102)), \"\")","v":""},{"$f":"IFERROR(INDEX($Q$3:$U$89, SMALL(IF($P$3:$P$89=\"○\", ROW($P$3:$P$89)-ROW($P$3)+1), ROW(E100)), COLUMNS($Q$3:U102)), \"\")","v":""}]
[null,null,null,null,null,null,null,null,null,null,null,null,null,null,null,null,{"$f":"IFERROR(INDEX($Q$3:$U$89, SMALL(IF($P$3:$P$89=\"○\", ROW($P$3:$P$89)-ROW($P$3)+1), ROW(A101)), COLUMNS($Q$3:Q103)), \"\")","v":""},{"$f":"IFERROR(INDEX($Q$3:$U$89, SMALL(IF($P$3:$P$89=\"○\", ROW($P$3:$P$89)-ROW($P$3)+1), ROW(B101)), COLUMNS($Q$3:R103)), \"\")","v":""},{"$f":"IFERROR(INDEX($Q$3:$U$89, SMALL(IF($P$3:$P$89=\"○\", ROW($P$3:$P$89)-ROW($P$3)+1), ROW(C101)), COLUMNS($Q$3:S103)), \"\")","v":""},{"$f":"IFERROR(INDEX($Q$3:$U$89, SMALL(IF($P$3:$P$89=\"○\", ROW($P$3:$P$89)-ROW($P$3)+1), ROW(D101)), COLUMNS($Q$3:T103)), \"\")","v":""},{"$f":"IFERROR(INDEX($Q$3:$U$89, SMALL(IF($P$3:$P$89=\"○\", ROW($P$3:$P$89)-ROW($P$3)+1), ROW(E101)), COLUMNS($Q$3:U103)), \"\")","v":""}]
[null,null,null,null,null,null,null,null,null,null,null,null,null,null,null,null,{"$f":"IFERROR(INDEX($Q$3:$U$89, SMALL(IF($P$3:$P$89=\"○\", ROW($P$3:$P$89)-ROW($P$3)+1), ROW(A102)), COLUMNS($Q$3:Q104)), \"\")","v":""},{"$f":"IFERROR(INDEX($Q$3:$U$89, SMALL(IF($P$3:$P$89=\"○\", ROW($P$3:$P$89)-ROW($P$3)+1), ROW(B102)), COLUMNS($Q$3:R104)), \"\")","v":""},{"$f":"IFERROR(INDEX($Q$3:$U$89, SMALL(IF($P$3:$P$89=\"○\", ROW($P$3:$P$89)-ROW($P$3)+1), ROW(C102)), COLUMNS($Q$3:S104)), \"\")","v":""},{"$f":"IFERROR(INDEX($Q$3:$U$89, SMALL(IF($P$3:$P$89=\"○\", ROW($P$3:$P$89)-ROW($P$3)+1), ROW(D102)), COLUMNS($Q$3:T104)), \"\")","v":""},{"$f":"IFERROR(INDEX($Q$3:$U$89, SMALL(IF($P$3:$P$89=\"○\", ROW($P$3:$P$89)-ROW($P$3)+1), ROW(E102)), COLUMNS($Q$3:U104)), \"\")","v":""}]
[null,null,null,null,null,null,null,null,null,null,null,null,null,null,null,null,{"$f":"IFERROR(INDEX($Q$3:$U$89, SMALL(IF($P$3:$P$89=\"○\", ROW($P$3:$P$89)-ROW($P$3)+1), ROW(A103)), COLUMNS($Q$3:Q105)), \"\")","v":""},{"$f":"IFERROR(INDEX($Q$3:$U$89, SMALL(IF($P$3:$P$89=\"○\", ROW($P$3:$P$89)-ROW($P$3)+1), ROW(B103)), COLUMNS($Q$3:R105)), \"\")","v":""},{"$f":"IFERROR(INDEX($Q$3:$U$89, SMALL(IF($P$3:$P$89=\"○\", ROW($P$3:$P$89)-ROW($P$3)+1), ROW(C103)), COLUMNS($Q$3:S105)), \"\")","v":""},{"$f":"IFERROR(INDEX($Q$3:$U$89, SMALL(IF($P$3:$P$89=\"○\", ROW($P$3:$P$89)-ROW($P$3)+1), ROW(D103)), COLUMNS($Q$3:T105)), \"\")","v":""},{"$f":"IFERROR(INDEX($Q$3:$U$89, SMALL(IF($P$3:$P$89=\"○\", ROW($P$3:$P$89)-ROW($P$3)+1), ROW(E103)), COLUMNS($Q$3:U105)), \"\")","v":""}]
[null,null,null,null,null,null,null,null,null,null,null,null,null,null,null,null,{"$f":"IFERROR(INDEX($Q$3:$U$89, SMALL(IF($P$3:$P$89=\"○\", ROW($P$3:$P$89)-ROW($P$3)+1), ROW(A104)), COLUMNS($Q$3:Q106)), \"\")","v":""},{"$f":"IFERROR(INDEX($Q$3:$U$89, SMALL(IF($P$3:$P$89=\"○\", ROW($P$3:$P$89)-ROW($P$3)+1), ROW(B104)), COLUMNS($Q$3:R106)), \"\")","v":""},{"$f":"IFERROR(INDEX($Q$3:$U$89, SMALL(IF($P$3:$P$89=\"○\", ROW($P$3:$P$89)-ROW($P$3)+1), ROW(C104)), COLUMNS($Q$3:S106)), \"\")","v":""},{"$f":"IFERROR(INDEX($Q$3:$U$89, SMALL(IF($P$3:$P$89=\"○\", ROW($P$3:$P$89)-ROW($P$3)+1), ROW(D104)), COLUMNS($Q$3:T106)), \"\")","v":""},{"$f":"IFERROR(INDEX($Q$3:$U$89, SMALL(IF($P$3:$P$89=\"○\", ROW($P$3:$P$89)-ROW($P$3)+1), ROW(E104)), COLUMNS($Q$3:U106)), \"\")","v":""}]
[null,null,null,null,null,null,null,null,null,null,null,null,null,null,null,null,{"$f":"IFERROR(INDEX($Q$3:$U$89, SMALL(IF($P$3:$P$89=\"○\", ROW($P$3:$P$89)-ROW($P$3)+1), ROW(A105)), COLUMNS($Q$3:Q107)), \"\")","v":""},{"$f":"IFERROR(INDEX($Q$3:$U$89, SMALL(IF($P$3:$P$89=\"○\", ROW($P$3:$P$89)-ROW($P$3)+1), ROW(B105)), COLUMNS($Q$3:R107)), \"\")","v":""},{"$f":"IFERROR(INDEX($Q$3:$U$89, SMALL(IF($P$3:$P$89=\"○\", ROW($P$3:$P$89)-ROW($P$3)+1), ROW(C105)), COLUMNS($Q$3:S107)), \"\")","v":""},{"$f":"IFERROR(INDEX($Q$3:$U$89, SMALL(IF($P$3:$P$89=\"○\", ROW($P$3:$P$89)-ROW($P$3)+1), ROW(D105)), COLUMNS($Q$3:T107)), \"\")","v":""},{"$f":"IFERROR(INDEX($Q$3:$U$89, SMALL(IF($P$3:$P$89=\"○\", ROW($P$3:$P$89)-ROW($P$3)+1), ROW(E105)), COLUMNS($Q$3:U107)), \"\")","v":""}]
[null,null,null,null,null,null,null,null,null,null,null,null,null,null,null,null,{"$f":"IFERROR(INDEX($Q$3:$U$89, SMALL(IF($P$3:$P$89=\"○\", ROW($P$3:$P$89)-ROW($P$3)+1), ROW(A106)), COLUMNS($Q$3:Q108)), \"\")","v":""},{"$f":"IFERROR(INDEX($Q$3:$U$89, SMALL(IF($P$3:$P$89=\"○\", ROW($P$3:$P$89)-ROW($P$3)+1), ROW(B106)), COLUMNS($Q$3:R108)), \"\")","v":""},{"$f":"IFERROR(INDEX($Q$3:$U$89, SMALL(IF($P$3:$P$89=\"○\", ROW($P$3:$P$89)-ROW($P$3)+1), ROW(C106)), COLUMNS($Q$3:S108)), \"\")","v":""},{"$f":"IFERROR(INDEX($Q$3:$U$89, SMALL(IF($P$3:$P$89=\"○\", ROW($P$3:$P$89)-ROW($P$3)+1), ROW(D106)), COLUMNS($Q$3:T108)), \"\")","v":""},{"$f":"IFERROR(INDEX($Q$3:$U$89, SMALL(IF($P$3:$P$89=\"○\", ROW($P$3:$P$89)-ROW($P$3)+1), ROW(E106)), COLUMNS($Q$3:U108)), \"\")","v":""}]
[null,null,null,null,null,null,null,null,null,null,null,null,null,null,null,null,{"$f":"IFERROR(INDEX($Q$3:$U$89, SMALL(IF($P$3:$P$89=\"○\", ROW($P$3:$P$89)-ROW($P$3)+1), ROW(A107)), COLUMNS($Q$3:Q109)), \"\")","v":""},{"$f":"IFERROR(INDEX($Q$3:$U$89, SMALL(IF($P$3:$P$89=\"○\", ROW($P$3:$P$89)-ROW($P$3)+1), ROW(B107)), COLUMNS($Q$3:R109)), \"\")","v":""},{"$f":"IFERROR(INDEX($Q$3:$U$89, SMALL(IF($P$3:$P$89=\"○\", ROW($P$3:$P$89)-ROW($P$3)+1), ROW(C107)), COLUMNS($Q$3:S109)), \"\")","v":""},{"$f":"IFERROR(INDEX($Q$3:$U$89, SMALL(IF($P$3:$P$89=\"○\", ROW($P$3:$P$89)-ROW($P$3)+1), ROW(D107)), COLUMNS($Q$3:T109)), \"\")","v":""},{"$f":"IFERROR(INDEX($Q$3:$U$89, SMALL(IF($P$3:$P$89=\"○\", ROW($P$3:$P$89)-ROW($P$3)+1), ROW(E107)), COLUMNS($Q$3:U109)), \"\")","v":""}]
[null,null,null,null,null,null,null,null,null,null,null,null,null,null,null,null,{"$f":"IFERROR(INDEX($Q$3:$U$89, SMALL(IF($P$3:$P$89=\"○\", ROW($P$3:$P$89)-ROW($P$3)+1), ROW(A108)), COLUMNS($Q$3:Q110)), \"\")","v":""},{"$f":"IFERROR(INDEX($Q$3:$U$89, SMALL(IF($P$3:$P$89=\"○\", ROW($P$3:$P$89)-ROW($P$3)+1), ROW(B108)), COLUMNS($Q$3:R110)), \"\")","v":""},{"$f":"IFERROR(INDEX($Q$3:$U$89, SMALL(IF($P$3:$P$89=\"○\", ROW($P$3:$P$89)-ROW($P$3)+1), ROW(C108)), COLUMNS($Q$3:S110)), \"\")","v":""},{"$f":"IFERROR(INDEX($Q$3:$U$89, SMALL(IF($P$3:$P$89=\"○\", ROW($P$3:$P$89)-ROW($P$3)+1), ROW(D108)), COLUMNS($Q$3:T110)), \"\")","v":""},{"$f":"IFERROR(INDEX($Q$3:$U$89, SMALL(IF($P$3:$P$89=\"○\", ROW($P$3:$P$89)-ROW($P$3)+1), ROW(E108)), COLUMNS($Q$3:U110)), \"\")","v":""}]
[null,null,null,null,null,null,null,null,null,null,null,null,null,null,null,null,{"$f":"IFERROR(INDEX($Q$3:$U$89, SMALL(IF($P$3:$P$89=\"○\", ROW($P$3:$P$89)-ROW($P$3)+1), ROW(A109)), COLUMNS($Q$3:Q111)), \"\")","v":""},{"$f":"IFERROR(INDEX($Q$3:$U$89, SMALL(IF($P$3:$P$89=\"○\", ROW($P$3:$P$89)-ROW($P$3)+1), ROW(B109)), COLUMNS($Q$3:R111)), \"\")","v":""},{"$f":"IFERROR(INDEX($Q$3:$U$89, SMALL(IF($P$3:$P$89=\"○\", ROW($P$3:$P$89)-ROW($P$3)+1), ROW(C109)), COLUMNS($Q$3:S111)), \"\")","v":""},{"$f":"IFERROR(INDEX($Q$3:$U$89, SMALL(IF($P$3:$P$89=\"○\", ROW($P$3:$P$89)-ROW($P$3)+1), ROW(D109)), COLUMNS($Q$3:T111)), \"\")","v":""},{"$f":"IFERROR(INDEX($Q$3:$U$89, SMALL(IF($P$3:$P$89=\"○\", ROW($P$3:$P$89)-ROW($P$3)+1), ROW(E109)), COLUMNS($Q$3:U111)), \"\")","v":""}]
[null,null,null,null,null,null,null,null,null,null,null,null,null,null,null,null,{"$f":"IFERROR(INDEX($Q$3:$U$89, SMALL(IF($P$3:$P$89=\"○\", ROW($P$3:$P$89)-ROW($P$3)+1), ROW(A110)), COLUMNS($Q$3:Q112)), \"\")","v":""},{"$f":"IFERROR(INDEX($Q$3:$U$89, SMALL(IF($P$3:$P$89=\"○\", ROW($P$3:$P$89)-ROW($P$3)+1), ROW(B110)), COLUMNS($Q$3:R112)), \"\")","v":""},{"$f":"IFERROR(INDEX($Q$3:$U$89, SMALL(IF($P$3:$P$89=\"○\", ROW($P$3:$P$89)-ROW($P$3)+1), ROW(C110)), COLUMNS($Q$3:S112)), \"\")","v":""},{"$f":"IFERROR(INDEX($Q$3:$U$89, SMALL(IF($P$3:$P$89=\"○\", ROW($P$3:$P$89)-ROW($P$3)+1), ROW(D110)), COLUMNS($Q$3:T112)), \"\")","v":""},{"$f":"IFERROR(INDEX($Q$3:$U$89, SMALL(IF($P$3:$P$89=\"○\", ROW($P$3:$P$89)-ROW($P$3)+1), ROW(E110)), COLUMNS($Q$3:U112)), \"\")","v":""}]
[null,null,null,null,null,null,null,null,null,null,null,null,null,null,null,null,{"$f":"IFERROR(INDEX($Q$3:$U$89, SMALL(IF($P$3:$P$89=\"○\", ROW($P$3:$P$89)-ROW($P$3)+1), ROW(A111)), COLUMNS($Q$3:Q113)), \"\")","v":""},{"$f":"IFERROR(INDEX($Q$3:$U$89, SMALL(IF($P$3:$P$89=\"○\", ROW($P$3:$P$89)-ROW($P$3)+1), ROW(B111)), COLUMNS($Q$3:R113)), \"\")","v":""},{"$f":"IFERROR(INDEX($Q$3:$U$89, SMALL(IF($P$3:$P$89=\"○\", ROW($P$3:$P$89)-ROW($P$3)+1), ROW(C111)), COLUMNS($Q$3:S113)), \"\")","v":""},{"$f":"IFERROR(INDEX($Q$3:$U$89, SMALL(IF($P$3:$P$89=\"○\", ROW($P$3:$P$89)-ROW($P$3)+1), ROW(D111)), COLUMNS($Q$3:T113)), \"\")","v":""},{"$f":"IFERROR(INDEX($Q$3:$U$89, SMALL(IF($P$3:$P$89=\"○\", ROW($P$3:$P$89)-ROW($P$3)+1), ROW(E111)), COLUMNS($Q$3:U113)), \"\")","v":""}]
[null,null,null,null,null,null,null,null,null,null,null,null,null,null,null,null,{"$f":"IFERROR(INDEX($Q$3:$U$89, SMALL(IF($P$3:$P$89=\"○\", ROW($P$3:$P$89)-ROW($P$3)+1), ROW(A112)), COLUMNS($Q$3:Q114)), \"\")","v":""},{"$f":"IFERROR(INDEX($Q$3:$U$89, SMALL(IF($P$3:$P$89=\"○\", ROW($P$3:$P$89)-ROW($P$3)+1), ROW(B112)), COLUMNS($Q$3:R114)), \"\")","v":""},{"$f":"IFERROR(INDEX($Q$3:$U$89, SMALL(IF($P$3:$P$89=\"○\", ROW($P$3:$P$89)-ROW($P$3)+1), ROW(C112)), COLUMNS($Q$3:S114)), \"\")","v":""},{"$f":"IFERROR(INDEX($Q$3:$U$89, SMALL(IF($P$3:$P$89=\"○\", ROW($P$3:$P$89)-ROW($P$3)+1), ROW(D112)), COLUMNS($Q$3:T114)), \"\")","v":""},{"$f":"IFERROR(INDEX($Q$3:$U$89, SMALL(IF($P$3:$P$89=\"○\", ROW($P$3:$P$89)-ROW($P$3)+1), ROW(E112)), COLUMNS($Q$3:U114)), \"\")","v":""}]
[null,null,null,null,null,null,null,null,null,null,null,null,null,null,null,null,{"$f":"IFERROR(INDEX($Q$3:$U$89, SMALL(IF($P$3:$P$89=\"○\", ROW($P$3:$P$89)-ROW($P$3)+1), ROW(A113)), COLUMNS($Q$3:Q115)), \"\")","v":""},{"$f":"IFERROR(INDEX($Q$3:$U$89, SMALL(IF($P$3:$P$89=\"○\", ROW($P$3:$P$89)-ROW($P$3)+1), ROW(B113)), COLUMNS($Q$3:R115)), \"\")","v":""},{"$f":"IFERROR(INDEX($Q$3:$U$89, SMALL(IF($P$3:$P$89=\"○\", ROW($P$3:$P$89)-ROW($P$3)+1), ROW(C113)), COLUMNS($Q$3:S115)), \"\")","v":""},{"$f":"IFERROR(INDEX($Q$3:$U$89, SMALL(IF($P$3:$P$89=\"○\", ROW($P$3:$P$89)-ROW($P$3)+1), ROW(D113)), COLUMNS($Q$3:T115)), \"\")","v":""},{"$f":"IFERROR(INDEX($Q$3:$U$89, SMALL(IF($P$3:$P$89=\"○\", ROW($P$3:$P$89)-ROW($P$3)+1), ROW(E113)), COLUMNS($Q$3:U115)), \"\")","v":""}]
[null,null,null,null,null,null,null,null,null,null,null,null,null,null,null,null,{"$f":"IFERROR(INDEX($Q$3:$U$89, SMALL(IF($P$3:$P$89=\"○\", ROW($P$3:$P$89)-ROW($P$3)+1), ROW(A114)), COLUMNS($Q$3:Q116)), \"\")","v":""},{"$f":"IFERROR(INDEX($Q$3:$U$89, SMALL(IF($P$3:$P$89=\"○\", ROW($P$3:$P$89)-ROW($P$3)+1), ROW(B114)), COLUMNS($Q$3:R116)), \"\")","v":""},{"$f":"IFERROR(INDEX($Q$3:$U$89, SMALL(IF($P$3:$P$89=\"○\", ROW($P$3:$P$89)-ROW($P$3)+1), ROW(C114)), COLUMNS($Q$3:S116)), \"\")","v":""},{"$f":"IFERROR(INDEX($Q$3:$U$89, SMALL(IF($P$3:$P$89=\"○\", ROW($P$3:$P$89)-ROW($P$3)+1), ROW(D114)), COLUMNS($Q$3:T116)), \"\")","v":""},{"$f":"IFERROR(INDEX($Q$3:$U$89, SMALL(IF($P$3:$P$89=\"○\", ROW($P$3:$P$89)-ROW($P$3)+1), ROW(E114)), COLUMNS($Q$3:U116)), \"\")","v":""}]
[null,null,null,null,null,null,null,null,null,null,null,null,null,null,null,null,{"$f":"IFERROR(INDEX($Q$3:$U$89, SMALL(IF($P$3:$P$89=\"○\", ROW($P$3:$P$89)-ROW($P$3)+1), ROW(A115)), COLUMNS($Q$3:Q117)), \"\")","v":""},{"$f":"IFERROR(INDEX($Q$3:$U$89, SMALL(IF($P$3:$P$89=\"○\", ROW($P$3:$P$89)-ROW($P$3)+1), ROW(B115)), COLUMNS($Q$3:R117)), \"\")","v":""},{"$f":"IFERROR(INDEX($Q$3:$U$89, SMALL(IF($P$3:$P$89=\"○\", ROW($P$3:$P$89)-ROW($P$3)+1), ROW(C115)), COLUMNS($Q$3:S117)), \"\")","v":""},{"$f":"IFERROR(INDEX($Q$3:$U$89, SMALL(IF($P$3:$P$89=\"○\", ROW($P$3:$P$89)-ROW($P$3)+1), ROW(D115)), COLUMNS($Q$3:T117)), \"\")","v":""},{"$f":"IFERROR(INDEX($Q$3:$U$89, SMALL(IF($P$3:$P$89=\"○\", ROW($P$3:$P$89)-ROW($P$3)+1), ROW(E115)), COLUMNS($Q$3:U117)), \"\")","v":""}]
[null,null,null,null,null,null,null,null,null,null,null,null,null,null,null,null,{"$f":"IFERROR(INDEX($Q$3:$U$89, SMALL(IF($P$3:$P$89=\"○\", ROW($P$3:$P$89)-ROW($P$3)+1), ROW(A116)), COLUMNS($Q$3:Q118)), \"\")","v":""},{"$f":"IFERROR(INDEX($Q$3:$U$89, SMALL(IF($P$3:$P$89=\"○\", ROW($P$3:$P$89)-ROW($P$3)+1), ROW(B116)), COLUMNS($Q$3:R118)), \"\")","v":""},{"$f":"IFERROR(INDEX($Q$3:$U$89, SMALL(IF($P$3:$P$89=\"○\", ROW($P$3:$P$89)-ROW($P$3)+1), ROW(C116)), COLUMNS($Q$3:S118)), \"\")","v":""},{"$f":"IFERROR(INDEX($Q$3:$U$89, SMALL(IF($P$3:$P$89=\"○\", ROW($P$3:$P$89)-ROW($P$3)+1), ROW(D116)), COLUMNS($Q$3:T118)), \"\")","v":""},{"$f":"IFERROR(INDEX($Q$3:$U$89, SMALL(IF($P$3:$P$89=\"○\", ROW($P$3:$P$89)-ROW($P$3)+1), ROW(E116)), COLUMNS($Q$3:U118)), \"\")","v":""}]
[null,null,null,null,null,null,null,null,null,null,null,null,null,null,null,null,{"$f":"IFERROR(INDEX($Q$3:$U$89, SMALL(IF($P$3:$P$89=\"○\", ROW($P$3:$P$89)-ROW($P$3)+1), ROW(A117)), COLUMNS($Q$3:Q119)), \"\")","v":""},{"$f":"IFERROR(INDEX($Q$3:$U$89, SMALL(IF($P$3:$P$89=\"○\", ROW($P$3:$P$89)-ROW($P$3)+1), ROW(B117)), COLUMNS($Q$3:R119)), \"\")","v":""},{"$f":"IFERROR(INDEX($Q$3:$U$89, SMALL(IF($P$3:$P$89=\"○\", ROW($P$3:$P$89)-ROW($P$3)+1), ROW(C117)), COLUMNS($Q$3:S119)), \"\")","v":""},{"$f":"IFERROR(INDEX($Q$3:$U$89, SMALL(IF($P$3:$P$89=\"○\", ROW($P$3:$P$89)-ROW($P$3)+1), ROW(D117)), COLUMNS($Q$3:T119)), \"\")","v":""},{"$f":"IFERROR(INDEX($Q$3:$U$89, SMALL(IF($P$3:$P$89=\"○\", ROW($P$3:$P$89)-ROW($P$3)+1), ROW(E117)), COLUMNS($Q$3:U119)), \"\")","v":""}]
[null,null,null,null,null,null,null,null,null,null,null,null,null,null,null,null,{"$f":"IFERROR(INDEX($Q$3:$U$89, SMALL(IF($P$3:$P$89=\"○\", ROW($P$3:$P$89)-ROW($P$3)+1), ROW(A118)), COLUMNS($Q$3:Q120)), \"\")","v":""},{"$f":"IFERROR(INDEX($Q$3:$U$89, SMALL(IF($P$3:$P$89=\"○\", ROW($P$3:$P$89)-ROW($P$3)+1), ROW(B118)), COLUMNS($Q$3:R120)), \"\")","v":""},{"$f":"IFERROR(INDEX($Q$3:$U$89, SMALL(IF($P$3:$P$89=\"○\", ROW($P$3:$P$89)-ROW($P$3)+1), ROW(C118)), COLUMNS($Q$3:S120)), \"\")","v":""},{"$f":"IFERROR(INDEX($Q$3:$U$89, SMALL(IF($P$3:$P$89=\"○\", ROW($P$3:$P$89)-ROW($P$3)+1), ROW(D118)), COLUMNS($Q$3:T120)), \"\")","v":""},{"$f":"IFERROR(INDEX($Q$3:$U$89, SMALL(IF($P$3:$P$89=\"○\", ROW($P$3:$P$89)-ROW($P$3)+1), ROW(E118)), COLUMNS($Q$3:U120)), \"\")","v":""}]
[null,null,null,null,null,null,null,null,null,null,null,null,null,null,null,null,{"$f":"IFERROR(INDEX($Q$3:$U$89, SMALL(IF($P$3:$P$89=\"○\", ROW($P$3:$P$89)-ROW($P$3)+1), ROW(A119)), COLUMNS($Q$3:Q121)), \"\")","v":""},{"$f":"IFERROR(INDEX($Q$3:$U$89, SMALL(IF($P$3:$P$89=\"○\", ROW($P$3:$P$89)-ROW($P$3)+1), ROW(B119)), COLUMNS($Q$3:R121)), \"\")","v":""},{"$f":"IFERROR(INDEX($Q$3:$U$89, SMALL(IF($P$3:$P$89=\"○\", ROW($P$3:$P$89)-ROW($P$3)+1), ROW(C119)), COLUMNS($Q$3:S121)), \"\")","v":""},{"$f":"IFERROR(INDEX($Q$3:$U$89, SMALL(IF($P$3:$P$89=\"○\", ROW($P$3:$P$89)-ROW($P$3)+1), ROW(D119)), COLUMNS($Q$3:T121)), \"\")","v":""},{"$f":"IFERROR(INDEX($Q$3:$U$89, SMALL(IF($P$3:$P$89=\"○\", ROW($P$3:$P$89)-ROW($P$3)+1), ROW(E119)), COLUMNS($Q$3:U121)), \"\")","v":""}]
[null,null,null,null,null,null,null,null,null,null,null,null,null,null,null,null,{"$f":"IFERROR(INDEX($Q$3:$U$89, SMALL(IF($P$3:$P$89=\"○\", ROW($P$3:$P$89)-ROW($P$3)+1), ROW(A120)), COLUMNS($Q$3:Q122)), \"\")","v":""},{"$f":"IFERROR(INDEX($Q$3:$U$89, SMALL(IF($P$3:$P$89=\"○\", ROW($P$3:$P$89)-ROW($P$3)+1), ROW(B120)), COLUMNS($Q$3:R122)), \"\")","v":""},{"$f":"IFERROR(INDEX($Q$3:$U$89, SMALL(IF($P$3:$P$89=\"○\", ROW($P$3:$P$89)-ROW($P$3)+1), ROW(C120)), COLUMNS($Q$3:S122)), \"\")","v":""},{"$f":"IFERROR(INDEX($Q$3:$U$89, SMALL(IF($P$3:$P$89=\"○\", ROW($P$3:$P$89)-ROW($P$3)+1), ROW(D120)), COLUMNS($Q$3:T122)), \"\")","v":""},{"$f":"IFERROR(INDEX($Q$3:$U$89, SMALL(IF($P$3:$P$89=\"○\", ROW($P$3:$P$89)-ROW($P$3)+1), ROW(E120)), COLUMNS($Q$3:U122)), \"\")","v":""}]
[null,null,null,null,null,null,null,null,null,null,null,null,null,null,null,null,{"$f":"IFERROR(INDEX($Q$3:$U$89, SMALL(IF($P$3:$P$89=\"○\", ROW($P$3:$P$89)-ROW($P$3)+1), ROW(A121)), COLUMNS($Q$3:Q123)), \"\")","v":""},{"$f":"IFERROR(INDEX($Q$3:$U$89, SMALL(IF($P$3:$P$89=\"○\", ROW($P$3:$P$89)-ROW($P$3)+1), ROW(B121)), COLUMNS($Q$3:R123)), \"\")","v":""},{"$f":"IFERROR(INDEX($Q$3:$U$89, SMALL(IF($P$3:$P$89=\"○\", ROW($P$3:$P$89)-ROW($P$3)+1), ROW(C121)), COLUMNS($Q$3:S123)), \"\")","v":""},{"$f":"IFERROR(INDEX($Q$3:$U$89, SMALL(IF($P$3:$P$89=\"○\", ROW($P$3:$P$89)-ROW($P$3)+1), ROW(D121)), COLUMNS($Q$3:T123)), \"\")","v":""},{"$f":"IFERROR(INDEX($Q$3:$U$89, SMALL(IF($P$3:$P$89=\"○\", ROW($P$3:$P$89)-ROW($P$3)+1), ROW(E121)), COLUMNS($Q$3:U123)), \"\")","v":""}]
[null,null,null,null,null,null,null,null,null,null,null,null,null,null,null,null,{"$f":"IFERROR(INDEX($Q$3:$U$89, SMALL(IF($P$3:$P$89=\"○\", ROW($P$3:$P$89)-ROW($P$3)+1), ROW(A122)), COLUMNS($Q$3:Q124)), \"\")","v":""},{"$f":"IFERROR(INDEX($Q$3:$U$89, SMALL(IF($P$3:$P$89=\"○\", ROW($P$3:$P$89)-ROW($P$3)+1), ROW(B122)), COLUMNS($Q$3:R124)), \"\")","v":""},{"$f":"IFERROR(INDEX($Q$3:$U$89, SMALL(IF($P$3:$P$89=\"○\", ROW($P$3:$P$89)-ROW($P$3)+1), ROW(C122)), COLUMNS($Q$3:S124)), \"\")","v":""},{"$f":"IFERROR(INDEX($Q$3:$U$89, SMALL(IF($P$3:$P$89=\"○\", ROW($P$3:$P$89)-ROW($P$3)+1), ROW(D122)), COLUMNS($Q$3:T124)), \"\")","v":""},{"$f":"IFERROR(INDEX($Q$3:$U$89, SMALL(IF($P$3:$P$89=\"○\", ROW($P$3:$P$89)-ROW($P$3)+1), ROW(E122)), COLUMNS($Q$3:U124)), \"\")","v":""}]
[null,null,null,null,null,null,null,null,null,null,null,null,null,null,null,null,{"$f":"IFERROR(INDEX($Q$3:$U$89, SMALL(IF($P$3:$P$89=\"○\", ROW($P$3:$P$89)-ROW($P$3)+1), ROW(A123)), COLUMNS($Q$3:Q125)), \"\")","v":""},{"$f":"IFERROR(INDEX($Q$3:$U$89, SMALL(IF($P$3:$P$89=\"○\", ROW($P$3:$P$89)-ROW($P$3)+1), ROW(B123)), COLUMNS($Q$3:R125)), \"\")","v":""},{"$f":"IFERROR(INDEX($Q$3:$U$89, SMALL(IF($P$3:$P$89=\"○\", ROW($P$3:$P$89)-ROW($P$3)+1), ROW(C123)), COLUMNS($Q$3:S125)), \"\")","v":""},{"$f":"IFERROR(INDEX($Q$3:$U$89, SMALL(IF($P$3:$P$89=\"○\", ROW($P$3:$P$89)-ROW($P$3)+1), ROW(D123)), COLUMNS($Q$3:T125)), \"\")","v":""},{"$f":"IFERROR(INDEX($Q$3:$U$89, SMALL(IF($P$3:$P$89=\"○\", ROW($P$3:$P$89)-ROW($P$3)+1), ROW(E123)), COLUMNS($Q$3:U125)), \"\")","v":""}]
[null,null,null,null,null,null,null,null,null,null,null,null,null,null,null,null,{"$f":"IFERROR(INDEX($Q$3:$U$89, SMALL(IF($P$3:$P$89=\"○\", ROW($P$3:$P$89)-ROW($P$3)+1), ROW(A124)), COLUMNS($Q$3:Q126)), \"\")","v":""},{"$f":"IFERROR(INDEX($Q$3:$U$89, SMALL(IF($P$3:$P$89=\"○\", ROW($P$3:$P$89)-ROW($P$3)+1), ROW(B124)), COLUMNS($Q$3:R126)), \"\")","v":""},{"$f":"IFERROR(INDEX($Q$3:$U$89, SMALL(IF($P$3:$P$89=\"○\", ROW($P$3:$P$89)-ROW($P$3)+1), ROW(C124)), COLUMNS($Q$3:S126)), \"\")","v":""},{"$f":"IFERROR(INDEX($Q$3:$U$89, SMALL(IF($P$3:$P$89=\"○\", ROW($P$3:$P$89)-ROW($P$3)+1), ROW(D124)), COLUMNS($Q$3:T126)), \"\")","v":""},{"$f":"IFERROR(INDEX($Q$3:$U$89, SMALL(IF($P$3:$P$89=\"○\", ROW($P$3:$P$89)-ROW($P$3)+1), ROW(E124)), COLUMNS($Q$3:U126)), \"\")","v":""}]
[null,null,null,null,null,null,null,null,null,null,null,null,null,null,null,null,{"$f":"IFERROR(INDEX($Q$3:$U$89, SMALL(IF($P$3:$P$89=\"○\", ROW($P$3:$P$89)-ROW($P$3)+1), ROW(A125)), COLUMNS($Q$3:Q127)), \"\")","v":""},{"$f":"IFERROR(INDEX($Q$3:$U$89, SMALL(IF($P$3:$P$89=\"○\", ROW($P$3:$P$89)-ROW($P$3)+1), ROW(B125)), COLUMNS($Q$3:R127)), \"\")","v":""},{"$f":"IFERROR(INDEX($Q$3:$U$89, SMALL(IF($P$3:$P$89=\"○\", ROW($P$3:$P$89)-ROW($P$3)+1), ROW(C125)), COLUMNS($Q$3:S127)), \"\")","v":""},{"$f":"IFERROR(INDEX($Q$3:$U$89, SMALL(IF($P$3:$P$89=\"○\", ROW($P$3:$P$89)-ROW($P$3)+1), ROW(D125)), COLUMNS($Q$3:T127)), \"\")","v":""},{"$f":"IFERROR(INDEX($Q$3:$U$89, SMALL(IF($P$3:$P$89=\"○\", ROW($P$3:$P$89)-ROW($P$3)+1), ROW(E125)), COLUMNS($Q$3:U127)), \"\")","v":""}]
[null,null,null,null,null,null,null,null,null,null,null,null,null,null,null,null,{"$f":"IFERROR(INDEX($Q$3:$U$89, SMALL(IF($P$3:$P$89=\"○\", ROW($P$3:$P$89)-ROW($P$3)+1), ROW(A126)), COLUMNS($Q$3:Q128)), \"\")","v":""},{"$f":"IFERROR(INDEX($Q$3:$U$89, SMALL(IF($P$3:$P$89=\"○\", ROW($P$3:$P$89)-ROW($P$3)+1), ROW(B126)), COLUMNS($Q$3:R128)), \"\")","v":""},{"$f":"IFERROR(INDEX($Q$3:$U$89, SMALL(IF($P$3:$P$89=\"○\", ROW($P$3:$P$89)-ROW($P$3)+1), ROW(C126)), COLUMNS($Q$3:S128)), \"\")","v":""},{"$f":"IFERROR(INDEX($Q$3:$U$89, SMALL(IF($P$3:$P$89=\"○\", ROW($P$3:$P$89)-ROW($P$3)+1), ROW(D126)), COLUMNS($Q$3:T128)), \"\")","v":""},{"$f":"IFERROR(INDEX($Q$3:$U$89, SMALL(IF($P$3:$P$89=\"○\", ROW($P$3:$P$89)-ROW($P$3)+1), ROW(E126)), COLUMNS($Q$3:U128)), \"\")","v":""}]
[null,null,null,null,null,null,null,null,null,null,null,null,null,null,null,null,{"$f":"IFERROR(INDEX($Q$3:$U$89, SMALL(IF($P$3:$P$89=\"○\", ROW($P$3:$P$89)-ROW($P$3)+1), ROW(A127)), COLUMNS($Q$3:Q129)), \"\")","v":""},{"$f":"IFERROR(INDEX($Q$3:$U$89, SMALL(IF($P$3:$P$89=\"○\", ROW($P$3:$P$89)-ROW($P$3)+1), ROW(B127)), COLUMNS($Q$3:R129)), \"\")","v":""},{"$f":"IFERROR(INDEX($Q$3:$U$89, SMALL(IF($P$3:$P$89=\"○\", ROW($P$3:$P$89)-ROW($P$3)+1), ROW(C127)), COLUMNS($Q$3:S129)), \"\")","v":""},{"$f":"IFERROR(INDEX($Q$3:$U$89, SMALL(IF($P$3:$P$89=\"○\", ROW($P$3:$P$89)-ROW($P$3)+1), ROW(D127)), COLUMNS($Q$3:T129)), \"\")","v":""},{"$f":"IFERROR(INDEX($Q$3:$U$89, SMALL(IF($P$3:$P$89=\"○\", ROW($P$3:$P$89)-ROW($P$3)+1), ROW(E127)), COLUMNS($Q$3:U129)), \"\")","v":""}]
[null,null,null,null,null,null,null,null,null,null,null,null,null,null,null,null,{"$f":"IFERROR(INDEX($Q$3:$U$89, SMALL(IF($P$3:$P$89=\"○\", ROW($P$3:$P$89)-ROW($P$3)+1), ROW(A128)), COLUMNS($Q$3:Q130)), \"\")","v":""},{"$f":"IFERROR(INDEX($Q$3:$U$89, SMALL(IF($P$3:$P$89=\"○\", ROW($P$3:$P$89)-ROW($P$3)+1), ROW(B128)), COLUMNS($Q$3:R130)), \"\")","v":""},{"$f":"IFERROR(INDEX($Q$3:$U$89, SMALL(IF($P$3:$P$89=\"○\", ROW($P$3:$P$89)-ROW($P$3)+1), ROW(C128)), COLUMNS($Q$3:S130)), \"\")","v":""},{"$f":"IFERROR(INDEX($Q$3:$U$89, SMALL(IF($P$3:$P$89=\"○\", ROW($P$3:$P$89)-ROW($P$3)+1), ROW(D128)), COLUMNS($Q$3:T130)), \"\")","v":""},{"$f":"IFERROR(INDEX($Q$3:$U$89, SMALL(IF($P$3:$P$89=\"○\", ROW($P$3:$P$89)-ROW($P$3)+1), ROW(E128)), COLUMNS($Q$3:U130)), \"\")","v":""}]
[null,null,null,null,null,null,null,null,null,null,null,null,null,null,null,null,{"$f":"IFERROR(INDEX($Q$3:$U$89, SMALL(IF($P$3:$P$89=\"○\", ROW($P$3:$P$89)-ROW($P$3)+1), ROW(A129)), COLUMNS($Q$3:Q131)), \"\")","v":""},{"$f":"IFERROR(INDEX($Q$3:$U$89, SMALL(IF($P$3:$P$89=\"○\", ROW($P$3:$P$89)-ROW($P$3)+1), ROW(B129)), COLUMNS($Q$3:R131)), \"\")","v":""},{"$f":"IFERROR(INDEX($Q$3:$U$89, SMALL(IF($P$3:$P$89=\"○\", ROW($P$3:$P$89)-ROW($P$3)+1), ROW(C129)), COLUMNS($Q$3:S131)), \"\")","v":""},{"$f":"IFERROR(INDEX($Q$3:$U$89, SMALL(IF($P$3:$P$89=\"○\", ROW($P$3:$P$89)-ROW($P$3)+1), ROW(D129)), COLUMNS($Q$3:T131)), \"\")","v":""},{"$f":"IFERROR(INDEX($Q$3:$U$89, SMALL(IF($P$3:$P$89=\"○\", ROW($P$3:$P$89)-ROW($P$3)+1), ROW(E129)), COLUMNS($Q$3:U131)), \"\")","v":""}]
[null,null,null,null,null,null,null,null,null,null,null,null,null,null,null,null,{"$f":"IFERROR(INDEX($Q$3:$U$89, SMALL(IF($P$3:$P$89=\"○\", ROW($P$3:$P$89)-ROW($P$3)+1), ROW(A130)), COLUMNS($Q$3:Q132)), \"\")","v":""},{"$f":"IFERROR(INDEX($Q$3:$U$89, SMALL(IF($P$3:$P$89=\"○\", ROW($P$3:$P$89)-ROW($P$3)+1), ROW(B130)), COLUMNS($Q$3:R132)), \"\")","v":""},{"$f":"IFERROR(INDEX($Q$3:$U$89, SMALL(IF($P$3:$P$89=\"○\", ROW($P$3:$P$89)-ROW($P$3)+1), ROW(C130)), COLUMNS($Q$3:S132)), \"\")","v":""},{"$f":"IFERROR(INDEX($Q$3:$U$89, SMALL(IF($P$3:$P$89=\"○\", ROW($P$3:$P$89)-ROW($P$3)+1), ROW(D130)), COLUMNS($Q$3:T132)), \"\")","v":""},{"$f":"IFERROR(INDEX($Q$3:$U$89, SMALL(IF($P$3:$P$89=\"○\", ROW($P$3:$P$89)-ROW($P$3)+1), ROW(E130)), COLUMNS($Q$3:U132)), \"\")","v":""}]
[null,null,null,null,null,null,null,null,null,null,null,null,null,null,null,null,{"$f":"IFERROR(INDEX($Q$3:$U$89, SMALL(IF($P$3:$P$89=\"○\", ROW($P$3:$P$89)-ROW($P$3)+1), ROW(A131)), COLUMNS($Q$3:Q133)), \"\")","v":""},{"$f":"IFERROR(INDEX($Q$3:$U$89, SMALL(IF($P$3:$P$89=\"○\", ROW($P$3:$P$89)-ROW($P$3)+1), ROW(B131)), COLUMNS($Q$3:R133)), \"\")","v":""},{"$f":"IFERROR(INDEX($Q$3:$U$89, SMALL(IF($P$3:$P$89=\"○\", ROW($P$3:$P$89)-ROW($P$3)+1), ROW(C131)), COLUMNS($Q$3:S133)), \"\")","v":""},{"$f":"IFERROR(INDEX($Q$3:$U$89, SMALL(IF($P$3:$P$89=\"○\", ROW($P$3:$P$89)-ROW($P$3)+1), ROW(D131)), COLUMNS($Q$3:T133)), \"\")","v":""},{"$f":"IFERROR(INDEX($Q$3:$U$89, SMALL(IF($P$3:$P$89=\"○\", ROW($P$3:$P$89)-ROW($P$3)+1), ROW(E131)), COLUMNS($Q$3:U133)), \"\")","v":""}]
[null,null,null,null,null,null,null,null,null,null,null,null,null,null,null,null,{"$f":"IFERROR(INDEX($Q$3:$U$89, SMALL(IF($P$3:$P$89=\"○\", ROW($P$3:$P$89)-ROW($P$3)+1), ROW(A132)), COLUMNS($Q$3:Q134)), \"\")","v":""},{"$f":"IFERROR(INDEX($Q$3:$U$89, SMALL(IF($P$3:$P$89=\"○\", ROW($P$3:$P$89)-ROW($P$3)+1), ROW(B132)), COLUMNS($Q$3:R134)), \"\")","v":""},{"$f":"IFERROR(INDEX($Q$3:$U$89, SMALL(IF($P$3:$P$89=\"○\", ROW($P$3:$P$89)-ROW($P$3)+1), ROW(C132)), COLUMNS($Q$3:S134)), \"\")","v":""},{"$f":"IFERROR(INDEX($Q$3:$U$89, SMALL(IF($P$3:$P$89=\"○\", ROW($P$3:$P$89)-ROW($P$3)+1), ROW(D132)), COLUMNS($Q$3:T134)), \"\")","v":""},{"$f":"IFERROR(INDEX($Q$3:$U$89, SMALL(IF($P$3:$P$89=\"○\", ROW($P$3:$P$89)-ROW($P$3)+1), ROW(E132)), COLUMNS($Q$3:U134)), \"\")","v":""}]
[null,null,null,null,null,null,null,null,null,null,null,null,null,null,null,null,{"$f":"IFERROR(INDEX($Q$3:$U$89, SMALL(IF($P$3:$P$89=\"○\", ROW($P$3:$P$89)-ROW($P$3)+1), ROW(A133)), COLUMNS($Q$3:Q135)), \"\")","v":""},{"$f":"IFERROR(INDEX($Q$3:$U$89, SMALL(IF($P$3:$P$89=\"○\", ROW($P$3:$P$89)-ROW($P$3)+1), ROW(B133)), COLUMNS($Q$3:R135)), \"\")","v":""},{"$f":"IFERROR(INDEX($Q$3:$U$89, SMALL(IF($P$3:$P$89=\"○\", ROW($P$3:$P$89)-ROW($P$3)+1), ROW(C133)), COLUMNS($Q$3:S135)), \"\")","v":""},{"$f":"IFERROR(INDEX($Q$3:$U$89, SMALL(IF($P$3:$P$89=\"○\", ROW($P$3:$P$89)-ROW($P$3)+1), ROW(D133)), COLUMNS($Q$3:T135)), \"\")","v":""},{"$f":"IFERROR(INDEX($Q$3:$U$89, SMALL(IF($P$3:$P$89=\"○\", ROW($P$3:$P$89)-ROW($P$3)+1), ROW(E133)), COLUMNS($Q$3:U135)), \"\")","v":""}]
[null,null,null,null,null,null,null,null,null,null,null,null,null,null,null,null,{"$f":"IFERROR(INDEX($Q$3:$U$89, SMALL(IF($P$3:$P$89=\"○\", ROW($P$3:$P$89)-ROW($P$3)+1), ROW(A134)), COLUMNS($Q$3:Q136)), \"\")","v":""},{"$f":"IFERROR(INDEX($Q$3:$U$89, SMALL(IF($P$3:$P$89=\"○\", ROW($P$3:$P$89)-ROW($P$3)+1), ROW(B134)), COLUMNS($Q$3:R136)), \"\")","v":""},{"$f":"IFERROR(INDEX($Q$3:$U$89, SMALL(IF($P$3:$P$89=\"○\", ROW($P$3:$P$89)-ROW($P$3)+1), ROW(C134)), COLUMNS($Q$3:S136)), \"\")","v":""},{"$f":"IFERROR(INDEX($Q$3:$U$89, SMALL(IF($P$3:$P$89=\"○\", ROW($P$3:$P$89)-ROW($P$3)+1), ROW(D134)), COLUMNS($Q$3:T136)), \"\")","v":""},{"$f":"IFERROR(INDEX($Q$3:$U$89, SMALL(IF($P$3:$P$89=\"○\", ROW($P$3:$P$89)-ROW($P$3)+1), ROW(E134)), COLUMNS($Q$3:U136)), \"\")","v":""}]
[null,null,null,null,null,null,null,null,null,null,null,null,null,null,null,null,{"$f":"IFERROR(INDEX($Q$3:$U$89, SMALL(IF($P$3:$P$89=\"○\", ROW($P$3:$P$89)-ROW($P$3)+1), ROW(A135)), COLUMNS($Q$3:Q137)), \"\")","v":""},{"$f":"IFERROR(INDEX($Q$3:$U$89, SMALL(IF($P$3:$P$89=\"○\", ROW($P$3:$P$89)-ROW($P$3)+1), ROW(B135)), COLUMNS($Q$3:R137)), \"\")","v":""},{"$f":"IFERROR(INDEX($Q$3:$U$89, SMALL(IF($P$3:$P$89=\"○\", ROW($P$3:$P$89)-ROW($P$3)+1), ROW(C135)), COLUMNS($Q$3:S137)), \"\")","v":""},{"$f":"IFERROR(INDEX($Q$3:$U$89, SMALL(IF($P$3:$P$89=\"○\", ROW($P$3:$P$89)-ROW($P$3)+1), ROW(D135)), COLUMNS($Q$3:T137)), \"\")","v":""},{"$f":"IFERROR(INDEX($Q$3:$U$89, SMALL(IF($P$3:$P$89=\"○\", ROW($P$3:$P$89)-ROW($P$3)+1), ROW(E135)), COLUMNS($Q$3:U137)), \"\")","v":""}]
[null,null,null,null,null,null,null,null,null,null,null,null,null,null,null,null,{"$f":"IFERROR(INDEX($Q$3:$U$89, SMALL(IF($P$3:$P$89=\"○\", ROW($P$3:$P$89)-ROW($P$3)+1), ROW(A136)), COLUMNS($Q$3:Q138)), \"\")","v":""},{"$f":"IFERROR(INDEX($Q$3:$U$89, SMALL(IF($P$3:$P$89=\"○\", ROW($P$3:$P$89)-ROW($P$3)+1), ROW(B136)), COLUMNS($Q$3:R138)), \"\")","v":""},{"$f":"IFERROR(INDEX($Q$3:$U$89, SMALL(IF($P$3:$P$89=\"○\", ROW($P$3:$P$89)-ROW($P$3)+1), ROW(C136)), COLUMNS($Q$3:S138)), \"\")","v":""},{"$f":"IFERROR(INDEX($Q$3:$U$89, SMALL(IF($P$3:$P$89=\"○\", ROW($P$3:$P$89)-ROW($P$3)+1), ROW(D136)), COLUMNS($Q$3:T138)), \"\")","v":""},{"$f":"IFERROR(INDEX($Q$3:$U$89, SMALL(IF($P$3:$P$89=\"○\", ROW($P$3:$P$89)-ROW($P$3)+1), ROW(E136)), COLUMNS($Q$3:U138)), \"\")","v":""}]
[null,null,null,null,null,null,null,null,null,null,null,null,null,null,null,null,{"$f":"IFERROR(INDEX($Q$3:$U$89, SMALL(IF($P$3:$P$89=\"○\", ROW($P$3:$P$89)-ROW($P$3)+1), ROW(A137)), COLUMNS($Q$3:Q139)), \"\")","v":""},{"$f":"IFERROR(INDEX($Q$3:$U$89, SMALL(IF($P$3:$P$89=\"○\", ROW($P$3:$P$89)-ROW($P$3)+1), ROW(B137)), COLUMNS($Q$3:R139)), \"\")","v":""},{"$f":"IFERROR(INDEX($Q$3:$U$89, SMALL(IF($P$3:$P$89=\"○\", ROW($P$3:$P$89)-ROW($P$3)+1), ROW(C137)), COLUMNS($Q$3:S139)), \"\")","v":""},{"$f":"IFERROR(INDEX($Q$3:$U$89, SMALL(IF($P$3:$P$89=\"○\", ROW($P$3:$P$89)-ROW($P$3)+1), ROW(D137)), COLUMNS($Q$3:T139)), \"\")","v":""},{"$f":"IFERROR(INDEX($Q$3:$U$89, SMALL(IF($P$3:$P$89=\"○\", ROW($P$3:$P$89)-ROW($P$3)+1), ROW(E137)), COLUMNS($Q$3:U139)), \"\")","v":""}]
[null,null,null,null,null,null,null,null,null,null,null,null,null,null,null,null,{"$f":"IFERROR(INDEX($Q$3:$U$89, SMALL(IF($P$3:$P$89=\"○\", ROW($P$3:$P$89)-ROW($P$3)+1), ROW(A138)), COLUMNS($Q$3:Q140)), \"\")","v":""},{"$f":"IFERROR(INDEX($Q$3:$U$89, SMALL(IF($P$3:$P$89=\"○\", ROW($P$3:$P$89)-ROW($P$3)+1), ROW(B138)), COLUMNS($Q$3:R140)), \"\")","v":""},{"$f":"IFERROR(INDEX($Q$3:$U$89, SMALL(IF($P$3:$P$89=\"○\", ROW($P$3:$P$89)-ROW($P$3)+1), ROW(C138)), COLUMNS($Q$3:S140)), \"\")","v":""},{"$f":"IFERROR(INDEX($Q$3:$U$89, SMALL(IF($P$3:$P$89=\"○\", ROW($P$3:$P$89)-ROW($P$3)+1), ROW(D138)), COLUMNS($Q$3:T140)), \"\")","v":""},{"$f":"IFERROR(INDEX($Q$3:$U$89, SMALL(IF($P$3:$P$89=\"○\", ROW($P$3:$P$89)-ROW($P$3)+1), ROW(E138)), COLUMNS($Q$3:U140)), \"\")","v":""}]
[null,null,null,null,null,null,null,null,null,null,null,null,null,null,null,null,{"$f":"IFERROR(INDEX($Q$3:$U$89, SMALL(IF($P$3:$P$89=\"○\", ROW($P$3:$P$89)-ROW($P$3)+1), ROW(A139)), COLUMNS($Q$3:Q141)), \"\")","v":""},{"$f":"IFERROR(INDEX($Q$3:$U$89, SMALL(IF($P$3:$P$89=\"○\", ROW($P$3:$P$89)-ROW($P$3)+1), ROW(B139)), COLUMNS($Q$3:R141)), \"\")","v":""},{"$f":"IFERROR(INDEX($Q$3:$U$89, SMALL(IF($P$3:$P$89=\"○\", ROW($P$3:$P$89)-ROW($P$3)+1), ROW(C139)), COLUMNS($Q$3:S141)), \"\")","v":""},{"$f":"IFERROR(INDEX($Q$3:$U$89, SMALL(IF($P$3:$P$89=\"○\", ROW($P$3:$P$89)-ROW($P$3)+1), ROW(D139)), COLUMNS($Q$3:T141)), \"\")","v":""},{"$f":"IFERROR(INDEX($Q$3:$U$89, SMALL(IF($P$3:$P$89=\"○\", ROW($P$3:$P$89)-ROW($P$3)+1), ROW(E139)), COLUMNS($Q$3:U141)), \"\")","v":""}]
[null,null,null,null,null,null,null,null,null,null,null,null,null,null,null,null,{"$f":"IFERROR(INDEX($Q$3:$U$89, SMALL(IF($P$3:$P$89=\"○\", ROW($P$3:$P$89)-ROW($P$3)+1), ROW(A140)), COLUMNS($Q$3:Q142)), \"\")","v":""},{"$f":"IFERROR(INDEX($Q$3:$U$89, SMALL(IF($P$3:$P$89=\"○\", ROW($P$3:$P$89)-ROW($P$3)+1), ROW(B140)), COLUMNS($Q$3:R142)), \"\")","v":""},{"$f":"IFERROR(INDEX($Q$3:$U$89, SMALL(IF($P$3:$P$89=\"○\", ROW($P$3:$P$89)-ROW($P$3)+1), ROW(C140)), COLUMNS($Q$3:S142)), \"\")","v":""},{"$f":"IFERROR(INDEX($Q$3:$U$89, SMALL(IF($P$3:$P$89=\"○\", ROW($P$3:$P$89)-ROW($P$3)+1), ROW(D140)), COLUMNS($Q$3:T142)), \"\")","v":""},{"$f":"IFERROR(INDEX($Q$3:$U$89, SMALL(IF($P$3:$P$89=\"○\", ROW($P$3:$P$89)-ROW($P$3)+1), ROW(E140)), COLUMNS($Q$3:U142)), \"\")","v":""}]
[null,null,null,null,null,null,null,null,null,null,null,null,null,null,null,null,{"$f":"IFERROR(INDEX($Q$3:$U$89, SMALL(IF($P$3:$P$89=\"○\", ROW($P$3:$P$89)-ROW($P$3)+1), ROW(A141)), COLUMNS($Q$3:Q143)), \"\")","v":""},{"$f":"IFERROR(INDEX($Q$3:$U$89, SMALL(IF($P$3:$P$89=\"○\", ROW($P$3:$P$89)-ROW($P$3)+1), ROW(B141)), COLUMNS($Q$3:R143)), \"\")","v":""},{"$f":"IFERROR(INDEX($Q$3:$U$89, SMALL(IF($P$3:$P$89=\"○\", ROW($P$3:$P$89)-ROW($P$3)+1), ROW(C141)), COLUMNS($Q$3:S143)), \"\")","v":""},{"$f":"IFERROR(INDEX($Q$3:$U$89, SMALL(IF($P$3:$P$89=\"○\", ROW($P$3:$P$89)-ROW($P$3)+1), ROW(D141)), COLUMNS($Q$3:T143)), \"\")","v":""},{"$f":"IFERROR(INDEX($Q$3:$U$89, SMALL(IF($P$3:$P$89=\"○\", ROW($P$3:$P$89)-ROW($P$3)+1), ROW(E141)), COLUMNS($Q$3:U143)), \"\")","v":""}]